BEGIN:VCALENDAR
VERSION:2.0
PRODID:-//pfarrei christi auferstehung - ECPv6.15.20//NONSGML v1.0//EN
CALSCALE:GREGORIAN
METHOD:PUBLISH
X-ORIGINAL-URL:https://christi-auferstehung.net
X-WR-CALDESC:Veranstaltungen für pfarrei christi auferstehung
REFRESH-INTERVAL;VALUE=DURATION:PT1H
X-Robots-Tag:noindex
X-PUBLISHED-TTL:PT1H
BEGIN:VTIMEZONE
TZID:Europe/Berlin
BEGIN:DAYLIGHT
TZOFFSETFROM:+0100
TZOFFSETTO:+0200
TZNAME:CEST
DTSTART:20250330T010000
END:DAYLIGHT
BEGIN:STANDARD
TZOFFSETFROM:+0200
TZOFFSETTO:+0100
TZNAME:CET
DTSTART:20251026T010000
END:STANDARD
BEGIN:DAYLIGHT
TZOFFSETFROM:+0100
TZOFFSETTO:+0200
TZNAME:CEST
DTSTART:20260329T010000
END:DAYLIGHT
BEGIN:STANDARD
TZOFFSETFROM:+0200
TZOFFSETTO:+0100
TZNAME:CET
DTSTART:20261025T010000
END:STANDARD
BEGIN:DAYLIGHT
TZOFFSETFROM:+0100
TZOFFSETTO:+0200
TZNAME:CEST
DTSTART:20270328T010000
END:DAYLIGHT
BEGIN:STANDARD
TZOFFSETFROM:+0200
TZOFFSETTO:+0100
TZNAME:CET
DTSTART:20271031T010000
END:STANDARD
END:VTIMEZONE
BEGIN:VEVENT
DTSTART;TZID=Europe/Berlin:20260503T183000
DTEND;TZID=Europe/Berlin:20260503T193000
DTSTAMP:20260419T160857
CREATED:20260204T122325Z
LAST-MODIFIED:20260326T110228Z
UID:14468-1777833000-1777836600@christi-auferstehung.net
SUMMARY:"Paulinische Stolpersteine": Gerechtgemacht aus dem Glauben an Jesus oder des Jesus Christus?
DESCRIPTION:P. Hermann Breulmann SJ und P. Klaus Mertes SJ laden ab Sonntag\, 1. Februar\, an jedem ersten Sonntag im Monat zur Abendmesse um 18.30 Uhr mit „Paulinischen Stolpersteinen“ ein\, um in der Predigt über jeweils einen Text von Paulus zu reflektieren. \n\n\n\n„Das hat euch auch unser geliebter Bruder Paulus geschrieben; es steht in allen seinen Briefen. In ihnen ist manches schwierig zu verstehen\, und die Unwissenden verdrehen diese Stellen zu ihrem eigenen Verderben“\, schreibt der Autor des 2. Petrusbriefes (2 Petr 3\,16) über Paulus. Das verhält sich heute nicht anders als in früheren Zeiten. \n\n\n\nDie dritte Predigt in dieser Reihe hält P. Klaus Mertes SJ: „Gerechtigkeit Gottes aus Glauben an Jesus Christus“ (Röm 3.22)Es gibt nicht viele Formulierungen bei Paulus\, die eine vergleichbar gewaltige Wirkungsgeschichte entfaltet haben. Doch was wird da eigentlich gesagt? Hängt der Ausweg aus der Verurteilung durch das Gesetz Gottes also davon ab\, dass einer an Jesus Christus glaubt? Viele Christgläubige verbinden gerade wegen dieser Konsequenz Glaubenszweifel oder gar Glaubensverlust mit bedrückenden Heilsängsten. So wird ihnen der Text zum Stolperstein.  \n\n\n\nSetzen wir doch einfach\, was sprachlich möglich ist\, statt „Glauben an Jesus Christus“ (genitivus objectivus) „Glaube Jesu Christi“ (genitivus subjectivus) ein. Wie klingt der Text dann?  \n\n\n\nGesprächsmöglichkeit mit P. Klaus Mertes SJ über die Stolpersteinpredigt zwei Tage später\, am Di\, 5. Mai\, 19:15 Uhr im Forum der Jesuiten. \n\n\n\n\n\n\n\n\n\n\n\n\n\nP. Klaus Mertes SJ . . . . . . . . . . . . . . P. Hermann Breulmann SJ \n\n\n\nTitelbild: Christian Schmitt In: Pfarrbriefservice.de
URL:https://christi-auferstehung.net/event/paulinische-stolpersteine/
LOCATION:St. Canisius (Kirche)\, Witzlebenstr. 30\, 14057 Berlin
CATEGORIES:St. Canisius
ATTACH;FMTTYPE=image/jpeg:https://christi-auferstehung.net/wp-content/uploads/2026/02/2026_Bild_PaulinischeStolpersteine_C_by_Christian_Schmitt_pfarrbriefservice.jpg
END:VEVENT
BEGIN:VEVENT
DTSTART;TZID=Europe/Berlin:20260503T193000
DTEND;TZID=Europe/Berlin:20260503T210000
DTSTAMP:20260419T160857
CREATED:20260320T171834Z
LAST-MODIFIED:20260417T125813Z
UID:14773-1777836600-1777842000@christi-auferstehung.net
SUMMARY:Menschlichkeit im digitalen Zeitalter
DESCRIPTION:Joachim Bauer hat ein neues Buch geschrieben: Menschlichkeit in digitalen Zeiten. Warum wir ohne lebendige Wirklichkeit nicht leben können.  \n\n\n\nP. Klaus Mertes SJ stellt Autor und Buch am So\, 3. Mai\, nach der Abendmesse um 18:30 Uhr (gegen 19:30 Uhr) vor und diskutiert mit ihm die zentralen Thesen.
URL:https://christi-auferstehung.net/event/menschlichkeit-im-digitalen-zeitalter/
LOCATION:St. Canisius (Gemeindesaal)\, Witzlebenstr. 30\, 14057 Berlin
CATEGORIES:St. Canisius
ATTACH;FMTTYPE=image/jpeg:https://christi-auferstehung.net/wp-content/uploads/2026/03/260503_Buchpraesentation_Joachim-Bauer_Klaus-Mertes_C.jpg
END:VEVENT
BEGIN:VEVENT
DTSTART;TZID=Europe/Berlin:20260506T180000
DTEND;TZID=Europe/Berlin:20260506T190000
DTSTAMP:20260419T160857
CREATED:20260322T135137Z
LAST-MODIFIED:20260322T135139Z
UID:14796-1778090400-1778094000@christi-auferstehung.net
SUMMARY:Kirchenführung in St. Karl Borromäus
DESCRIPTION:Es ist gelungen\, dass die Kirche St. Karl Borromäus in die diesjährige Liste der offiziellen Kirchenführungen im Erzbistum Berlin aufgenommen wurde.  \n\n\n\nDie Führung wird durch Sachverständige der Kath. Akademie in Berlin e.V. durchgeführt.
URL:https://christi-auferstehung.net/event/kirchenfuehrung-in-st-karl-borromaeus/
LOCATION:St. Karl Borromäus (Kirche)\, Delbrückstr. 33\, Berlin
CATEGORIES:St. Karl Borromäus
ATTACH;FMTTYPE=image/jpeg:https://christi-auferstehung.net/wp-content/uploads/2025/04/230209_Foto_St_Karl_Borromaeus_MME.jpg
END:VEVENT
BEGIN:VEVENT
DTSTART;TZID=Europe/Berlin:20260510T100000
DTEND;TZID=Europe/Berlin:20260510T110000
DTSTAMP:20260419T160857
CREATED:20260226T082724Z
LAST-MODIFIED:20260305T105828Z
UID:14624-1778407200-1778410800@christi-auferstehung.net
SUMMARY:Familienmesse
DESCRIPTION:Liebe Familien\, liebe Kinder\, liebe Gemeindemitglieder\,  \n\n\n\nherzlich laden wir euch zur Familienmesse um 10.00 Uhr ein. Gemeinsam möchten wir den Gottesdienst feiern\, miteinander singen und beten und die Gemeinschaft erleben.  \n\n\n\nDie Messe ist besonders familienfreundlich gestaltet und lädt Groß und Klein zum Mitfeiern ein.  \n\n\n\nWir freuen uns auf euer Kommen.  \n\n\n\nEuer Team der Familienliturgie \n\n\n\nDie nächsten Termine sind: 31.05.\, 21.06.\, 23.08. und 06.09.2026
URL:https://christi-auferstehung.net/event/familienmesse-7/
LOCATION:Heilig Geist (Kirche)\, Bayernallee 28\, Berlin
CATEGORIES:Heilig Geist
ATTACH;FMTTYPE=image/jpeg:https://christi-auferstehung.net/wp-content/uploads/2026/02/Familienlieturgie01-scaled.jpg
END:VEVENT
BEGIN:VEVENT
DTSTART;TZID=Europe/Berlin:20260514T110000
DTEND;TZID=Europe/Berlin:20260514T193000
DTSTAMP:20260419T160857
CREATED:20260309T142722Z
LAST-MODIFIED:20260309T142724Z
UID:14725-1778756400-1778787000@christi-auferstehung.net
SUMMARY:Um Himmels willen - retten wir die Erde! Himmelfahrt in St. Canisius
DESCRIPTION:„Ihr Männer\, was steht Ihr da und schaut zum Himmel empor!“ So die beiden Engel bei der Himmelfahrt Christi zu den Aposteln.  \n\n\n\nWäre es nicht sinnvoller\, statt vom Himmel zu träumen die Erde zu gestalten? Schließlich mangelt es nicht an Herausforderungen! Oder überfordern wir uns damit und es ist das Beste\, sich wenigstens zeitweise in parallele oder digitale Paralleluniversen zu verabschieden? Computerspiele machen das leicht möglich. Wo sollten und könnten sich Christen verorten?  \n\n\n\nWir feiern Christi Himmelfahrt! In der Hl. Messe um 11:00 Uhr wird uns der Laurentiuschor aus Wuppertal musikalisch unterstützen. Er wird die Berliner Messe von Arvo Pärt singen. Aber auch der Gemeindegesang wird nicht zu kurz kommen. Auch um 18:30 Uhr feiern wir eine Hl. Messe (ohne Chor).Die Liturgie und Predigt wird P. Manfred Hösl SJ übernehmen. \n\n\n\n\n\n\n\n\n\n\n\n\n\nLaurentiuschor aus Wuppertal; Fotos: Brita Bigge-Bender
URL:https://christi-auferstehung.net/event/um-himmels-willen-retten-wir-die-erde-himmelfahrt-in-st-canisius/
LOCATION:St. Canisius (Kirche)\, Witzlebenstr. 30\, 14057 Berlin
CATEGORIES:St. Canisius
ATTACH;FMTTYPE=image/jpeg:https://christi-auferstehung.net/wp-content/uploads/2020/05/Himmel.jpg
END:VEVENT
BEGIN:VEVENT
DTSTART;TZID=Europe/Berlin:20260518T200000
DTEND;TZID=Europe/Berlin:20260518T213000
DTSTAMP:20260419T160857
CREATED:20260417T122056Z
LAST-MODIFIED:20260417T122152Z
UID:14923-1779134400-1779139800@christi-auferstehung.net
SUMMARY:Alessandro Scarlatti – canti sacri
DESCRIPTION:Alessandro Scarlatti\, canti sacri – Konzert am 18. Mai  \n\n\n\nMehr als 100 Opern und 600 Kammerkantaten hat Alessandro Scarlatti (1660–1725) geschaffen\, neben Instrumentalmusik\, einer Johannespassion\, zahlreichen Oratorien\, Messen und Psalmvertonungen. Seine geistliche Musik orientiert sich oft an der Vokalpolyphonie der Renaissance. Trotzdem entsteht dabei etwas vollkommen Neues.  \n\n\n\nDer Kammerchor orchi e balene bringt mit einer Messe\, einem Ave maris stella und vier Psalm-Motetten eine Auswahl vierstimmiger Kompositionen zur Aufführung. Andreas Arend spielt Theorbe\, Eva Schulze Orgel. Die Leitung hat Markus Wettstein.  \n\n\n\nWeitere Informationen auf www.orchiebalene.de. \n\n\n\nVeranstalter: Constanze Beger\, 0157 727 050 29\, www.orchiebalene.de
URL:https://christi-auferstehung.net/event/alessandro-scarlatti-canti-sacri/
LOCATION:St. Canisius (Kirche)\, Witzlebenstr. 30\, 14057 Berlin
CATEGORIES:St. Canisius
ATTACH;FMTTYPE=image/jpeg:https://christi-auferstehung.net/wp-content/uploads/2026/04/260518_Plakat_Scarlatti_C-scaled.jpg
END:VEVENT
BEGIN:VEVENT
DTSTART;TZID=Europe/Berlin:20260523T150000
DTEND;TZID=Europe/Berlin:20260523T170000
DTSTAMP:20260419T160857
CREATED:20251124T175039Z
LAST-MODIFIED:20260329T121710Z
UID:14017-1779548400-1779555600@christi-auferstehung.net
SUMMARY:Trauercafé
DESCRIPTION:Trauer ist für jeden Menschen eine persönliche Erfahrung und hat unterschiedliche Auslöser\, dauert unterschiedlich lange und bringt schmerzhafte Gefühle hervor. Trauerwege sind facettenreich. \n\n\n\nUnser Angebot richtet sich an trauernde Menschen\, die eine Verlusterfahrung durchleben und diese mit anderen Trauernden teilen möchten. Die Gespräche finden in einem geschützten Rahmen statt. \n\n\n\nBild: Elfriede Klauer (Pfarrbriefservice.de) \n\n\n\nDas Trauercafé-Plakat mit allen Terminen für das 1. Halbjahr 2026 im Anschluss:
URL:https://christi-auferstehung.net/event/trauercafe-29/
LOCATION:Forum der Jesuiten\, Witzlebenstr. 30a\, Berlin\, 14057
CATEGORIES:St. Canisius
ATTACH;FMTTYPE=image/jpeg:https://christi-auferstehung.net/wp-content/uploads/2025/01/2025_Trauercafe_C_Elfriede_Klauer_pfarrbriefservice-scaled.jpg
END:VEVENT
BEGIN:VEVENT
DTSTART;TZID=Europe/Berlin:20260525T183000
DTEND;TZID=Europe/Berlin:20260525T193000
DTSTAMP:20260419T160857
CREATED:20260308T155357Z
LAST-MODIFIED:20260308T155358Z
UID:14720-1779733800-1779737400@christi-auferstehung.net
SUMMARY:Die Flaute ist vorbei! Pfingstvesper in St. Canisius
DESCRIPTION:Wenn man auf hoher See Flaute hatte\, dann bedeutete das Stillstand. Nichts geht mehr vorwärts! Mit dem Rudern ist es eine Plackerei und man kommt doch nicht vom Fleck!  \n\n\n\nPfingsten bedeutet auch: Die Flaute ist vorbei! Wir feiern Pfingstvesper! Mit Schifferklavier und Gitarre!  \n\n\n\nDas Berliner Duo Tango Element Project (gegr. 2014) ist ein Instrumentalduo in der außergewöhnlichen Besetzung Gitarre und Akkordeon. Barbara Klaus-Cosca (Akkordeon) und Tina Klement (klassische Gitarre) haben sich der Aufführung lateinamerikanischer Weltmusik und Konzertmusik verschrieben. In Ihren Konzerten ziehen ihre Zuschauer mit ausdrucksstarker Melodik und rhythmischer Leichtigkeit in ihren Bann. Das musikalische Crossover-Repertoire reicht vom brasilianischen Bossa Nova eines Chelso Machado über argentinischen Tango Nuevo eines Astor Piazzolla bis zum venezolanischen Walzer.  \n\n\n\nTina Klement studierte klassische Gitarre in Weimar und arbeitet seit 2003 als freiberufliche Gitarristin. Die Zusammenarbeit mit Orchestern\, Mitwirkung in Hörspielen\, Filmmusik\, Musiktheater\, Klassik- und Swing-Ensembles sind bezeichnend für Ihre musikalische Vielseitigkeit.  \n\n\n\nDie promovierte Musikwissenschaftlerin Barbara Klaus-Cosca studierte in Berlin und Paris Musik- und Kulturwissenschaften und spielt seit ihrem 8. Lebensjahr Pianoakkordeon. Seit 1995 arbeitet sie als freiberufliche Akkordeonistin\, sowohl als Solistin als auch als Ensemblemitglied in verschiedenen Formationen (Tango Element Project\, Saltim’band u.a.). Die Bandbreite ihres Repertoires umfassen französische Musik (Chanson\, Musette)\, Tangos\, Jazz Standards als auch ausgesuchte klassische Werke. \n\n\n\n\n\n\n\nBilder: WIKIPEDIA Commons Traditional Tjalk Pallieter(anno 1899) sailing with ‚kluiver“ und Barbara Klaus-Cosca / Tina Klement
URL:https://christi-auferstehung.net/event/die-flaute-ist-vorbei-pfingstvesper-in-st-canisius/
LOCATION:St. Canisius (Kirche)\, Witzlebenstr. 30\, 14057 Berlin
CATEGORIES:St. Canisius
ATTACH;FMTTYPE=image/jpeg:https://christi-auferstehung.net/wp-content/uploads/2026/03/260525_TraditionalTjalkPallieter_C-scaled.jpg
END:VEVENT
BEGIN:VEVENT
DTSTART;TZID=Europe/Berlin:20260526T190000
DTEND;TZID=Europe/Berlin:20260526T203000
DTSTAMP:20260419T160857
CREATED:20260214T140704Z
LAST-MODIFIED:20260331T201652Z
UID:14545-1779822000-1779827400@christi-auferstehung.net
SUMMARY:CREDO - Wir buchstabieren das Glaubensbekenntnis durch.
DESCRIPTION:Die Gesprächsreihe CREDO findet abwechselnd im Gemeindesaal von Heilig Geist und dem Klosterkeller in Salvator statt.  \n\n\n\nDas nächste Gespräch am Dienstag\, dem 26.05.2026 um 19:00 Uhr\, ist wieder im Klosterkeller von Salvator. Wir blicken schon auf das Pfingstwochenende zurück und fragen: Ich glaube an den Heiligen Geist. Wie wirkt der Heilige Geist?  \n\n\n\nDie weiteren Termine\, jeweils dienstags\, 19:00 Uhr – Save the Date:  \n\n\n\n23.6. in Heilig Geist (Gemeindesaal): Ich glaube an die heilige katholische Kirche. Warum sollte ausgerechnet unsere katholische Kirche heilig sein? Was bedeutet hier eigentlich heilig?  \n\n\n\n22.9. in Salvator (Klosterkeller): Thema wird noch bekanntgegeben  \n\n\n\n24.11. in Heilig Geist (Gemeindesaal): Thema wird noch bekanntgegeben \n\n\n\nLernen wir unseren Glauben und interessante Leute unserer Pfarrei kennen! Machen wir uns gemeinsam auf den Weg! Jeder Abend beinhaltet einen Impuls und eine sicher spannende Diskussion! \n\n\n\nDer Zugang zu den Veranstaltungen ist barrierefrei. \n\n\n\nIch freue mich auf Sie! Laden Sie gerne Ihre Freunde ein! \n\n\n\nP. Manfred Hösl SJ
URL:https://christi-auferstehung.net/event/credo-wir-buchstabieren-das-glaubensbekenntis-durch/
LOCATION:Salvator (Klosterkeller)\, Tölzer Str. 25\, Berlin\, 14199
CATEGORIES:allgemein,Heilig Geist,Salvator,St. Canisius
ATTACH;FMTTYPE=image/jpeg:https://christi-auferstehung.net/wp-content/uploads/2026/01/2026_Bild_CREDO_HG_B.jpg
END:VEVENT
BEGIN:VEVENT
DTSTART;TZID=Europe/Berlin:20260529T150000
DTEND;TZID=Europe/Berlin:20260529T180000
DTSTAMP:20260419T160857
CREATED:20260313T101443Z
LAST-MODIFIED:20260313T101446Z
UID:14743-1780066800-1780077600@christi-auferstehung.net
SUMMARY:Erdbeerkuchen & Maiandacht mit P. Hösl in St. Canisius
DESCRIPTION:Das besondere Ereignis im Frühsommer –Erdbeerkuchen & Maiandacht mit P. Hösl\, dazu Mailieder\, Akkordeon und gute LauneHerzlich willkommen sind besonders – aber nicht nur – die Teilnehmerinnen und Teilnehmer der unterschiedlichen Seniorencafés in den Gemeinden St. Karl Borromäus\, Salvator\, St. Canisius und Heilig Geist. Seien Sie alle willkommen! \n\n\n\nGemeinsam wollen wir am Freitag\, 29. Mai den Marien-Monat ausklingen lassen.Wir beginnen um 15:00 Uhr mit einer Andacht mit Pater Manfred Hösl SJ. Anschließend freuen wir uns auf einen regen Austausch bei Erdbeerkuchen\, Sahne und Getränken. Musikalisch wird die Akkordeonspielerin Barbara Klaus-Cosca den Nachmittag gestalten. \n\n\n\nOrt: St. Canisius\, Witzlebenstr. 30 \n\n\n\nEinen Fahrdienst für nicht mobile Intessenten der Gemeinden wollen wir gern einrichten\, bitte melden Sie sich dazu in Ihren Gemeinden. \n\n\n\nWir freuen uns auf Sie und hoffen auf schönes Maiwetter! \n\n\n\nIhr Organisations-Team
URL:https://christi-auferstehung.net/event/erdbeerkuchen-maiandacht-mit-p-hoesl-in-st-canisius/
LOCATION:St. Canisius (Kirche)\, Witzlebenstr. 30\, 14057 Berlin
CATEGORIES:Heilig Geist,Salvator,St. Canisius,St. Karl Borromäus
ATTACH;FMTTYPE=image/jpeg:https://christi-auferstehung.net/wp-content/uploads/2024/05/Maiandachten_HG.jpg
END:VEVENT
BEGIN:VEVENT
DTSTART;TZID=Europe/Berlin:20260531T100000
DTEND;TZID=Europe/Berlin:20260531T110000
DTSTAMP:20260419T160857
CREATED:20260226T082840Z
LAST-MODIFIED:20260305T105924Z
UID:14626-1780221600-1780225200@christi-auferstehung.net
SUMMARY:Familienmesse
DESCRIPTION:Liebe Familien\, liebe Kinder\, liebe Gemeindemitglieder\,  \n\n\n\nherzlich laden wir euch zur Familienmesse um 10.00 Uhr ein. Gemeinsam möchten wir den Gottesdienst feiern\, miteinander singen und beten und die Gemeinschaft erleben.  \n\n\n\nDie Messe ist besonders familienfreundlich gestaltet und lädt Groß und Klein zum Mitfeiern ein.  \n\n\n\nWir freuen uns auf euer Kommen.  \n\n\n\nEuer Team der Familienliturgie \n\n\n\nDie nächsten Termine sind: 21.06.\, 23.08. und 06.09.2026
URL:https://christi-auferstehung.net/event/familienmesse-8/
LOCATION:Heilig Geist (Kirche)\, Bayernallee 28\, Berlin
CATEGORIES:Heilig Geist
ATTACH;FMTTYPE=image/jpeg:https://christi-auferstehung.net/wp-content/uploads/2026/02/Familienlieturgie01-scaled.jpg
END:VEVENT
BEGIN:VEVENT
DTSTART;TZID=Europe/Berlin:20260531T200000
DTEND;TZID=Europe/Berlin:20260531T211000
DTSTAMP:20260419T160857
CREATED:20260409T095950Z
LAST-MODIFIED:20260409T100046Z
UID:14897-1780257600-1780261800@christi-auferstehung.net
SUMMARY:Klangschatten
DESCRIPTION:Die klangsensible Musik von Joachim Gies lädt ein zum Belauschen zarter Klangräume. Ungewöhnliche Saxophonklänge treten mit dem Gesang von Amy Green in eine enge Verbindung.Grundiert durch elektronische und perkussive Impulse scheint die Musik zu schweben. \n\n\n\nVeranstalter: Joachim Gies\, mail@joachimgies.de
URL:https://christi-auferstehung.net/event/klangschatten-2/
LOCATION:St. Canisius (Kirche)\, Witzlebenstr. 30\, 14057 Berlin
CATEGORIES:St. Canisius
ATTACH;FMTTYPE=image/jpeg:https://christi-auferstehung.net/wp-content/uploads/2026/04/260531_Klangschatten_JGies_C.jpg
END:VEVENT
END:VCALENDAR