BEGIN:VCALENDAR
VERSION:2.0
PRODID:-//pfarrei christi auferstehung - ECPv6.15.20//NONSGML v1.0//EN
CALSCALE:GREGORIAN
METHOD:PUBLISH
X-ORIGINAL-URL:https://christi-auferstehung.net
X-WR-CALDESC:Veranstaltungen für pfarrei christi auferstehung
REFRESH-INTERVAL;VALUE=DURATION:PT1H
X-Robots-Tag:noindex
X-PUBLISHED-TTL:PT1H
BEGIN:VTIMEZONE
TZID:Europe/Berlin
BEGIN:DAYLIGHT
TZOFFSETFROM:+0100
TZOFFSETTO:+0200
TZNAME:CEST
DTSTART:20240331T010000
END:DAYLIGHT
BEGIN:STANDARD
TZOFFSETFROM:+0200
TZOFFSETTO:+0100
TZNAME:CET
DTSTART:20241027T010000
END:STANDARD
BEGIN:DAYLIGHT
TZOFFSETFROM:+0100
TZOFFSETTO:+0200
TZNAME:CEST
DTSTART:20250330T010000
END:DAYLIGHT
BEGIN:STANDARD
TZOFFSETFROM:+0200
TZOFFSETTO:+0100
TZNAME:CET
DTSTART:20251026T010000
END:STANDARD
BEGIN:DAYLIGHT
TZOFFSETFROM:+0100
TZOFFSETTO:+0200
TZNAME:CEST
DTSTART:20260329T010000
END:DAYLIGHT
BEGIN:STANDARD
TZOFFSETFROM:+0200
TZOFFSETTO:+0100
TZNAME:CET
DTSTART:20261025T010000
END:STANDARD
END:VTIMEZONE
BEGIN:VEVENT
DTSTART;TZID=Europe/Berlin:20251003T150000
DTEND;TZID=Europe/Berlin:20251003T160000
DTSTAMP:20260421T224446
CREATED:20250821T085325Z
LAST-MODIFIED:20250821T085327Z
UID:13441-1759503600-1759507200@christi-auferstehung.net
SUMMARY:Mit Gebet und Gebell - Tiersegnungsgottesdienst 2025
DESCRIPTION:Auch in diesem Jahr findet am Tag der Deutschen Einheit unser Tiersegnungsgottesdienst „Mit Gebet und Gebell“ statt.  \n\n\n\nAlle Herrchen und Frauchen sowie Kinder sind eingeladen\, mit ihrem Tier\, egal ob Hund oder Katze oder Meerschweinchen oder Kanarienvogel oder… zu kommen!  \n\n\n\nWir treffen uns um 15:00 Uhr im Außenraum unserer Kirche. Gläubige und nicht so gläubige Tierbesitzer sind gleichermaßen willkommen. \n\n\n\nFoto: Elaine Rudolphi
URL:https://christi-auferstehung.net/event/mit-gebet-und-gebell-tiersegnungsgottesdienst-2025/
LOCATION:St. Canisius (Kirche)\, Witzlebenstr. 30\, 14057 Berlin
CATEGORIES:St. Canisius
ATTACH;FMTTYPE=image/jpeg:https://christi-auferstehung.net/wp-content/uploads/2025/08/251003_Bild_Tiersegnung_C_ElaineRudolphi.jpg
END:VEVENT
BEGIN:VEVENT
DTSTART;TZID=Europe/Berlin:20251003T183000
DTEND;TZID=Europe/Berlin:20251003T193000
DTSTAMP:20260421T224446
CREATED:20250926T105730Z
LAST-MODIFIED:20250926T105732Z
UID:13673-1759516200-1759519800@christi-auferstehung.net
SUMMARY:"Die Zärtlichkeit musiziert" mit Psalmen von Hanns Dieter Hüsch
DESCRIPTION:Gottesdienst in St. Canisius  \n\n\n\n„Die Zärtlichkeit musiziert“ mit Psalmen von Hanns Dieter Hüsch \n\n\n\nAbendmesse mit Rezitator (Christian Kercher\, Berlin) und Konzertharfe (Maria Scelsi\, Palermo).
URL:https://christi-auferstehung.net/event/die-zaertlichkeit-musiziert-mit-psalmen-von-hanns-dieter-huesch/
CATEGORIES:St. Canisius
ATTACH;FMTTYPE=image/jpeg:https://christi-auferstehung.net/wp-content/uploads/2025/09/Huesch-Harfenistin-Maria-Scelsi-u-Christian-Kercher_-fuer-3.Okt-25_Foto-privat.JPG-scaled.jpg
END:VEVENT
BEGIN:VEVENT
DTSTART;TZID=Europe/Berlin:20251003T200000
DTEND;TZID=Europe/Berlin:20251003T213000
DTSTAMP:20260421T224446
CREATED:20250909T153900Z
LAST-MODIFIED:20250909T153903Z
UID:13547-1759521600-1759527000@christi-auferstehung.net
SUMMARY:Gott ist aus der Kirche ausgetreten - Hanns Dieter Hüsch zum Hundertsten
DESCRIPTION:Er wäre im Mai 100 Jahre geworden\, der Kabarettist Hanns Dieter Hüsch. Sein Werk bleibt quicklebendig – in den Gedichten\, Liedern und Geschichten\, die Christian Kercher vorträgt. \n\n\n\nIn seiner Hommage an den Großmeister der Kleinkunst kommen all die Rollen aus Hüschs Spielzeit zwischen 1925 und 2005 vor – fahrender Poet vom Niederrhein\, Liedermacher\, Komiker und Mahner\, Tröster und Träumer\, Prediger und Zweifler. Sie sind gespickt mit biografischen Notizen.  \n\n\n\nHÜSCHS LEITVERS: \n\n\n\nIch bin gekommen\, Euch zum Spaß und gehe hin\, wo Leides ist/ Und Freude/ Und wo beides ist/ Zu lernen / Mensch und Maß.  \n\n\n\nCHRISTIAN KERCHER\, REZITATOR und KLEINKÜNSTLER„Kerchern“ bedeutet\, wie Sie wissen\, Druck machen\, allerdings hier mit „E“ statt „Ä“:Anstatt mit Hochdruck zu reinigen wird mit heißer Luft\, dem Atem\, die Stimme laut. Und Gedichte\, Lieder und Geschichten\, die den Staub von der Seele blasen. So „kerchert“ Christian mit der Hommage an sein Vorbild Hanns Dieter Hüsch\, dem Narren vom Niederrhein\, der an Nikolaus 2005 das Zeitliche gesegnet hat. Kercher zeigt\, das Lyrik lebt und wirkt: Ob beim Psalmenprogramm mit dessen besinnlichen Texten zu Harfenbegleitung oder bei der Poesie von Hilde Domin\, Kurt Marti\, Christian Morgenstern und Joachim Ringelnatz. Von Wolfgang Borcherts Sommergeschichte ‚Schischyphusch‘ bis hin zu Lyrik zwischen Tanz und Jazz zur Weihnacht.  Bezaubernd wie die Christrosen\, die mitten im Winter blühen.Beim Sternenprogramm begeistert er ebenso wie beim Dichterporträt von Matthias Claudius: Wir spinnen Luftgespinste. Und nicht zuletzt zeigt der Rheinländer in Berlin durch eigene Texte\, die er auf seiner Kiezbühne zum Besten gibt\, dass Lyrik immer berührt. Erleben Sie es! \n\n\n\nZum Reinhören und Probeschauen:  \n\n\n\nhttps://vimeo.com/124701471https://vimeo.com/1086349855 \n\n\n\nhttps://e.pcloud.link/publink/show?code=kZGtKqZIsgRwyBjgWmp0lqlvfOOz5CAu5py#/login?folder=16814346937  \n\n\n\n\n\n\n\nVeranstalter: Christian Kercher (Foto: Bettina Hennsmaller)
URL:https://christi-auferstehung.net/event/gott-ist-aus-der-kirche-ausgetreten-hanns-dieter-huesch-zum-hundertsten-2/
CATEGORIES:St. Canisius
ATTACH;FMTTYPE=image/jpeg:https://christi-auferstehung.net/wp-content/uploads/2025/09/251003_Bild_Huesch_BettinaHennsmaller_C-scaled.jpg
END:VEVENT
BEGIN:VEVENT
DTSTART;TZID=Europe/Berlin:20251004T080000
DTEND;TZID=Europe/Berlin:20251004T170000
DTSTAMP:20260421T224446
CREATED:20250721T184103Z
LAST-MODIFIED:20250723T124300Z
UID:13330-1759564800-1759597200@christi-auferstehung.net
SUMMARY:Spritueller Bergtag 'Lebendiges Wasser'
DESCRIPTION:Es handelt sich um eintägige Bergexerzitien mit einer geführten Wanderung auf das Hörndl: Die Hörndlwand\, 1684 m über NN\, ist ein markantes Bergmassiv am Westrand des Naturschutzgebietes Östliche Chiemgauer Alpen. Der Gipfel\, oberhalb einer imposanten\, 200 m hohen Wand\, kann über einen markierten Steig für trittsichere und schwindelfreie Bergwanderer relativ einfach erklommen werden.  \n\n\n\nZum Thema: In der Bibel lesen wir vom lebendigen Wasser\, das Gott dem Durstigen geben will\, das in uns zur sprudelnden Quelle wird und uns ewiges Leben schenkt. Wir wollen auf unserem Wandertag\, allein in Stille und/oder im gemeinsamen Austausch\, nachdenken\, wonach wir wirklich durstig sind.  \n\n\n\nIhre Anmeldung bitte bis 28.09.2025 über die Web-Seite der DAV-Sektion Gipfelkreuz: https://www.dav-gipfelkreuz.de/event/fuehrungstour-spiritueller-bergtag-lebendiges-wasser/  \n\n\n\nDer Treffpunkt zur Wanderung\, die um 8:00 Uhr beginnt\, ist um 7:45 Uhr auf dem Wanderparkplatz Seehaus / Ruhpolding. (GPS-Koordinaten: 47.711360\, 12.622590) Die Anfahrt dorthin verläuft über die Deutsche Alpenstraße B 305 zwischen Ruhpolding und Reit im Winkl. \n\n\n\nBei Interesse & Fragen bitte Mail an Dr. Wolfgang Christen\, mail@wolfgang-christen.net.Die Anreise nach Bayern und die Rückreise sind selbst zu organisieren. Wolfgang Christen gibt aber gerne Hinweise zur Anreise\, Wanderung\, Ausrüstung und (gemeinsamen) Unterkunft.
URL:https://christi-auferstehung.net/event/spritueller-bergtag-lebendiges-wasser/
CATEGORIES:allgemein
ATTACH;FMTTYPE=image/jpeg:https://christi-auferstehung.net/wp-content/uploads/2025/07/251004_Bergexerzitien1-scaled.jpg
END:VEVENT
BEGIN:VEVENT
DTSTART;TZID=Europe/Berlin:20251005T110000
DTEND;TZID=Europe/Berlin:20251005T120000
DTSTAMP:20260421T224446
CREATED:20250925T144745Z
LAST-MODIFIED:20250925T144958Z
UID:13669-1759662000-1759665600@christi-auferstehung.net
SUMMARY:Erntedankfest
DESCRIPTION:Uns Menschen wurde der Auftrag gegeben\, auf diese Erde zu achten und sie zu schützen. Einmal im Jahr sagen wir Dank für alles\, was wir im Garten und auf den Feldern ernten dürfen. Wir erinnern an den engen Zusammenhalt von Menschen und Natur. Ohne Nahrung und Wasser wäre das Leben nicht möglich. \n\n\n\nDarum feiern wir Erntedank an beiden Standorten am Sonntag\, dem 05.10.20025 in den Gottesdiensten. In St. Karl Borromäus um 11.00 Uhr ist auch die Kita mit einer Aufführung zugegen. \n\n\n\nNach diesem Gottesdienst laden wir – gemeinsam mit den Kita-Eltern und dem Kita-Team – zu einem Frühschoppen ein. \n\n\n\nWie all die Jahre sammeln wir für die Suppenküche in Maria unter dem Kreuz. Dankbar sind wir für Geldspenden\, aber auch haltbare Nahrungsmittel\, wie auch Hygieneartikel. Eine Wunschliste der Suppenküche hängt in beiden Kirchen aus. \n\n\n\nRenate Schmelzer \n\n\n\nBild: Friedbert Simon   In: Pfarrbriefservice.de
URL:https://christi-auferstehung.net/event/erntedankfest/
LOCATION:St. Karl Borromäus (Kirche)\, Delbrückstr. 33\, Berlin
CATEGORIES:St. Karl Borromäus
ATTACH;FMTTYPE=image/jpeg:https://christi-auferstehung.net/wp-content/uploads/2025/09/14876_erntedank_05_st_josef_ab_by_friedbert_simon_pfarrbriefservice.jpg
END:VEVENT
BEGIN:VEVENT
DTSTART;TZID=Europe/Berlin:20251005T183000
DTEND;TZID=Europe/Berlin:20251005T193000
DTSTAMP:20260421T224446
CREATED:20250821T150155Z
LAST-MODIFIED:20251002T134455Z
UID:13468-1759689000-1759692600@christi-auferstehung.net
SUMMARY:Philosophische Predigt mit Frau Elke Büdenbender
DESCRIPTION:Frau Elke Büdenbender ist als Gattin von Bundespräsident Steinmeier die „First Lady“ Deutschlands. Sie ist aber auch Richterin am Verwaltungsgericht Berlin.Sie wird zu Lukas 17\,6 sprechen:  „Der Herr erwiderte: Wenn ihr Glauben hättet wie ein Senfkorn\, würdet ihr zu diesem Maulbeerbaum sagen:Entwurzle dich und verpflanz dich ins Meer\, und er würde euch gehorchen.“ \n\n\n\nWir freuen uns sehr\, Frau Büdenbender bei uns zu Gast zu haben!Bildnachweis: Bundesregierung/Steffen Kugler
URL:https://christi-auferstehung.net/event/philosophische-predigt-mit-frau-elke-buedenbender/
CATEGORIES:St. Canisius
ATTACH;FMTTYPE=image/jpeg:https://christi-auferstehung.net/wp-content/uploads/2019/12/rjm78PEyYLc-e1579438433882.jpg
END:VEVENT
BEGIN:VEVENT
DTSTART;TZID=Europe/Berlin:20251010T190000
DTEND;TZID=Europe/Berlin:20251010T200000
DTSTAMP:20260421T224446
CREATED:20250927T103309Z
LAST-MODIFIED:20251002T113219Z
UID:13681-1760122800-1760126400@christi-auferstehung.net
SUMMARY:1. Infoabend zur Firmvorbereitung 2025/26
DESCRIPTION:Im November 2025 startet der nächste Firmkurs GeistVoll der Pfarrei Christi Auferstehung. Alle Informationen dazu auf geistvoll.net. \n\n\n\nAlle interessierten Jugendlichen\, auch wenn sie woanders wohnen\, sind eingeladen\, sich an einem der beiden Infoabende zu informieren. \n\n\n\nDer erste Infoabend findet statt: \n\n\n\n–  am Freitag\, 10.10.2025\, 19 Uhr in Salvator\, Tölzer Str. 25\, 14199 BerlinWer an der Firmvorbereitung teilnehmen möchte und im Juni 2026 mindestens 16 Jahre alt ist\, kann sich dann bis 01. November 2025 (Anmeldeschluss) über die Webseite geistvoll.net anmelden. \n\n\n\nWir beginnen den Kurs\, der auf einem Modulsystem basiert mit einem gemeinsamen Starttag am Sa.\, 08.11.25\, 14-17 Uhr in Sankt Karl Borromäus\, Delbrückstr. 33\, 14193 Berlin. \n\n\n\nGleichzeitig möchten wir wieder alle in der Pfarrei einladen\, für die Jugendlichen Module zu den drei Themen \n\n\n\n\nGlaubenswissen\n\n\n\nGlauben feiern\n\n\n\nGlauben und Gemeinschaft (er-)leben\n\n\n\n\nanzubieten. Gern können sich die Modulanbietenden beim Kernteam informieren. \n\n\n\nWir freuen uns aufs Kennenlernen\, die gemeinsamen Erfahrungen und auf die Firmung\, die wir am 05.06.2026 feiern werden. \n\n\n\nDas Firmvorbereitungs(kern)team
URL:https://christi-auferstehung.net/event/infoabend-zur-firmvorbereitung-2025-26/
LOCATION:Salvator (Gemeindesaal)\, Tölzer Str. 25\, Berlin\, 14199
CATEGORIES:Salvator
ATTACH;FMTTYPE=image/png:https://christi-auferstehung.net/wp-content/uploads/2022/10/Geistvoll-Logo-ohne.png
END:VEVENT
BEGIN:VEVENT
DTSTART;TZID=Europe/Berlin:20251012T100000
DTEND;TZID=Europe/Berlin:20251012T110000
DTSTAMP:20260421T224446
CREATED:20250429T150019Z
LAST-MODIFIED:20250925T142745Z
UID:12887-1760263200-1760266800@christi-auferstehung.net
SUMMARY:Kinderkirche
DESCRIPTION:Wir beginnen mit der Gemeinde in der Kirche\, feiern dann im Pfarrsaal oder Pfarrgarten einen Wortgottesdienst\, der für Kindergartenkinder vorbereitet ist\, und ziehen zum Vater unser wieder in die Kirche. \n\n\n\nDie nächsten Termine der Kinderkirche in Heilig Geist sind: 02.11.\, 23.11.2025\, 11.01.\, 25.01.\, 08.02. und 01.03.2026. \n\n\n\nAlle Termine familienfreundlicher Gottesdienste stehen auf den nachfolgenden Plakat:
URL:https://christi-auferstehung.net/event/kinderkirche-9/
LOCATION:Heilig Geist (Kirche)\, Bayernallee 28\, Berlin
CATEGORIES:Heilig Geist
ATTACH;FMTTYPE=image/jpeg:https://christi-auferstehung.net/wp-content/uploads/2025/09/251012_Foto_Kinderkirche_HG-scaled.jpg
END:VEVENT
BEGIN:VEVENT
DTSTART;TZID=Europe/Berlin:20251014T190000
DTEND;TZID=Europe/Berlin:20251014T200000
DTSTAMP:20260421T224446
CREATED:20250927T103717Z
LAST-MODIFIED:20251002T113258Z
UID:13684-1760468400-1760472000@christi-auferstehung.net
SUMMARY:2. Infoabend zur Firmvorbereitung 2025/26
DESCRIPTION:Im November 2025 startet der nächste Firmkurs GeistVoll der Pfarrei Christi Auferstehung. Alle Informationen dazu auf geistvoll.net. \n\n\n\nAlle interessierten Jugendlichen\, auch wenn sie woanders wohnen\, sind eingeladen\, sich an einem der beiden Infoabende zu informieren. \n\n\n\nDer 2. Infoabend findet statt: \n\n\n\n–  am Dienstag\, 14.10.2025\, 19 Uhr in St. Canisius\, Witzlebenstr. 30\, 14057 Berlin \n\n\n\nWer an der Firmvorbereitung teilnehmen möchte und im Juni 2026 mindestens 16 Jahre alt ist\, kann sich dann bis 01. November 2025 (Anmeldeschluss) über die Webseite geistvoll.net anmelden. \n\n\n\nWir beginnen den Kurs\, der auf einem Modulsystem basiert mit einem gemeinsamen Starttag am Sa.\, 08.11.25\, 14-17 Uhr in Sankt Karl Borromäus\, Delbrückstr. 33\, 14193 Berlin. \n\n\n\nGleichzeitig möchten wir wieder alle in der Pfarrei einladen\, für die Jugendlichen Module zu den drei Themen \n\n\n\n\nGlaubenswissen\n\n\n\nGlauben feiern\n\n\n\nGlauben und Gemeinschaft (er-)leben\n\n\n\n\nanzubieten. Gern können sich die Modulanbietenden beim Kernteam informieren. \n\n\n\nWir freuen uns aufs Kennenlernen\, die gemeinsamen Erfahrungen und auf die Firmung\, die wir am 05.06.2026 feiern werden. \n\n\n\nDas Firmvorbereitungs(kern)team
URL:https://christi-auferstehung.net/event/2-infoabend-zur-firmvorbereitung-2025-16/
LOCATION:St. Canisius (Gemeindesaal)\, Witzlebenstr. 30\, 14057 Berlin
CATEGORIES:St. Canisius
ATTACH;FMTTYPE=image/png:https://christi-auferstehung.net/wp-content/uploads/2022/10/Geistvoll-Logo-ohne.png
END:VEVENT
BEGIN:VEVENT
DTSTART;TZID=Europe/Berlin:20251016T190000
DTEND;TZID=Europe/Berlin:20251016T210000
DTSTAMP:20260421T224446
CREATED:20250925T140010Z
LAST-MODIFIED:20250925T140052Z
UID:13659-1760641200-1760648400@christi-auferstehung.net
SUMMARY:Beschädigt der Klimawandel die Demokratie?
DESCRIPTION:Herzliche Einladung zum nächsten Abend in unserer Reihe \n\n\n\nZUMUTUNG DEMOKRATIE – MUT ZU DEMOKRATIE \n\n\n\nDonnerstag | 16. Oktober 2025 | 19:00 Uhr | dieses Mal im Gemeindesaal St. Canisius  \n\n\n\nZehn Jahre nach der Veröffentlichung von „Laudato si“\, der Umweltenzyklika von Papst Franziskus\, stecken die internationalen politischen Bemühungen zur Begrenzung der Erderwärmung in einer Sackgasse – trotz der Pariser Klimaziele steigen die globalen Emissionen weiter\, ein Ende der fossilen Brennstoffe ist nicht absehbar. Die Weltgemeinschaft muss dringend ein Konzept für mehr Kooperation im Schutz der globalen Gemeinschaftsgüter entwickeln. Papst Leo XIV. knüpft an den Impuls seines Vorgängers an und fordert eine sozialökologische und global finanzierbare Wende. Aber wie gefährlich für die Stabilität unserer Demokratie sind der Klimawandel und seine Folgen? \n\n\n\nCredits: PIK/Ausserhofer\n\n\n\nOttmar Edenhofer ist einer der weltweit führenden Experten für die Politik und Ökonomie des Klimawandels. Er ist Direktor und Chefökonom am Potsdam-Institut für Klimafolgenforschung (PIK) sowie Professor an der TU Berlin. \n\n\n\nVon 2008 bis 2015 war Edenhofer Co-Vorsitzender der Arbeitsgruppe III des Intergovernmental Panel on Climate Change (IPCC) und hat maßgeblich an der Gestaltung des Fünften Sachstandsberichts zum Klimaschutz mitgewirkt\, der die wissenschaftliche Grundlage für das Pariser Abkommen bildete. \n\n\n\nSeit April 2022 ist Edenhofer Vorsitzender des von der EU neu gegründeten Europäischen Wissenschaftlichen Beirat zum Klimawandel der Europäischen Umweltagentur. Dessen Aufgabe ist es\, unabhängige wissenschaftliche Beratung zu leisten und Berichte zu erstellen\, die erfassen\, inwieweit die EU-Politik mit dem 2021 Europäischen Klimagesetz und den Verpflichtungen der EU im Rahmen des Pariser Abkommens übereinstimmt. \n\n\n\nEdenhofer ist u. a. Mitglied der Deutschen Akademie der Technikwissenschaften acatech\, der Deutschen Akademie der Naturforscher Leopoldina sowie der Berlin-Brandenburgischen Akademie der Wisssenschaften (BBAW). \n\n\n\nEr gehörte in den Jahren 2018\, 2020 und 2021 laut dem Web of Science Zitationsindex zu den 1% der meistzitierten Wissenschaftler weltweit in der Kategorie „Fachübergreifende Wissenschaft“. \n\n\n\nIm Juli 2018 wurde Edenhofer von der Katholischen Akademie in Bayern mit dem Romano-Guardini-Preis ausgezeichnet. Im Jahr 2020 verlieh ihm die Deutsche Bundesstiftung Umwelt (DBU) den renommierten Deutschen Umweltpreis. Im Dezember 2022 erhielt Edenhofer den Bayerischen Verfassungsorden.
URL:https://christi-auferstehung.net/event/beschaedigt-der-klimawandel-die-demokratie/
CATEGORIES:St. Canisius
ATTACH;FMTTYPE=image/jpeg:https://christi-auferstehung.net/wp-content/uploads/2024/11/Zumutung-III.jpg
END:VEVENT
BEGIN:VEVENT
DTSTART;TZID=Europe/Berlin:20251017T180000
DTEND;TZID=Europe/Berlin:20251017T190000
DTSTAMP:20260421T224446
CREATED:20251009T161652Z
LAST-MODIFIED:20251009T161838Z
UID:13756-1760724000-1760727600@christi-auferstehung.net
SUMMARY:Requiem für P. Hubert Schöning SVD
DESCRIPTION:Liebe Gemeinde\, liebe Leserinnen und Leser\, \n\n\n\nmit tiefer Trauer melden wir den Tod von unserem langjährigen Pfarrer\, P. Hubert Schöning SVD. P. Schöning hat unsere damalige selbstständige Pfarrei über viele Jahre mit Herz\, Verstand und unerschütterlichem Glauben geprägt. Mit seiner warmherzigen Art\, seinem offenen Ohr für die Sorgen der Menschen und seiner tiefen Verbundenheit zur Gemeinde war er für viele weit mehr als nur ein Seelsorger – er war ein Wegbegleiter\, ein Zuhörer\, ein Trostspender. \n\n\n\nIn unzähligen Gottesdiensten\, bei Taufen\, Hochzeiten\, Abschieden und im Alltag war er uns ein fester Anker im Glauben. Sein Engagement reichte weit über das Übliche hinaus: Er war nicht nur Hirte seiner Gemeinde\, sondern auch Motor vieler sozialer und geistlicher Projekte\, die unser Gemeindeleben bereichert und geprägt haben. Sein Wirken hat Spuren hinterlassen – in unseren Herzen\, in unseren Erinnerungen und in der Gemeinschaft\, die er mit aufgebaut hat. \n\n\n\nWir danken Gott für das Geschenk seines Lebens und beten in Dankbarkeit für ihn. Möge er nun in Frieden ruhen\, geborgen in Gottes Liebe. „Ich bin die Auferstehung und das Leben. Wer an mich glaubt\, wird leben\, auch wenn er stirbt.“ – Joh 11\,25 \n\n\n\nUnten finden Sie einen Auszug aus der Trauermeldung aus Ahlen\, wo er zuletzt gewirkt hat. \n\n\n\nIhr P. Tanye \n\n\n\n\n\n\n\n\n\n\n\n\n\n\n\n\n\nAm Samstag\, 4. Oktober 2025 gab P. Hubert Schöning sein Leben zurück in die Hände seines Schöpfers. Er war von 1988 – 2004 in Heilig Geist zunächst als Kaplan\, dann als Pfarrer tätig. 2005 wechselte er als Pfarrer nach Ahlen. \n\n\n\n„Er hat sich wohlgefühlt in Ahlen. Die Wohnung an der Klostergasse ist für ihn Heimat geworden. Die zweite Heimat war seine Gemeinde in Berlin. Viele Kontakte dorthin hielt er bis zuletzt lebendig. Immer wieder unternahm er Besuche\, um dort zu taufen\, zu verheiraten und zu beerdigen und um liebe Freunde zu besuchen. Mit einem offenen Ohr und offenem Herzen war er für andere da. Ein Menschenfreund\, dem die Begegnung mit anderen immer Geschenk und Aufgabe zugleich war. So vergaß er nie die Geburtstage seiner Mitmenschen\, und hatte immer Zeit für ein kleines Lied oder Gedicht. Sein Amt als Präses der kfd St. Marien hat er sehr gerne wahrgenommen\, war Seelsorger und Ansprechpartner und hat auf keinem Karnevalsfest gefehlt. Auch die Kolpingsfamilie war ihm wichtig: Kaum ein Kolpinggedenktag\, der ohne ihn begangen wurde. \n\n\n\nP. Hubert Schöning war ein belesener\, geistig wacher Mensch\, der immer etwas zu den aktuellen Themen in der Welt zu sagen hatte. Sein Lesesessel im Wohnzimmer vor dem übervollen Bücherregal war sein täglicher Ort zum Auftanken und Verweilen. Der Garten direkt vor der Haustür war immer bestens bestellt\, die Ernte teilte er gerne mit allen im Pastoralbüro. Seine Freude am Gärtnern\, seine Liebe zur Natur und zur Schöpfung waren Ausdruck seiner tiefen Verbundenheit mit Gott und der Welt. In seinem Garten fand er Ruhe und Kraft – dort\, wo das Wachsen und Werden sichtbar wird\, war er dem Geheimnis des Lebens besonders nah. Seine Lieblingsblume\, die Rose „Gloria Dei“ wird in seinem Garten weiterblühen und uns an ihn erinnern.“ \n\n\n\nUnd auch im Garten von Heilig Geist hat er diese Rose gepflanzt\, die wächst und gedeiht und auch hier für viele zum Zeichen der Erinnerung wird. Das Requiem findet am Freitag\, 17.10. um 18 Uhr in Heilig Geist statt. Alle\, die sich P. Schöning verbunden fühlen\, sind herzlich im Anschluss zu einer Agape in den Pfarrsaal eingeladen. In der Kollekte bitten wir um eine Spende für das Projekt Zukunftsstiftung Eine Welt\, das P. Hubert Schöning besonders am Herzen lag.
URL:https://christi-auferstehung.net/event/requiem-fuer-p-hubert-schoening-svd/
LOCATION:Heilig Geist (Kirche)\, Bayernallee 28\, Berlin
CATEGORIES:Heilig Geist
ATTACH;FMTTYPE=image/jpeg:https://christi-auferstehung.net/wp-content/uploads/2020/06/requiem.jpg
END:VEVENT
BEGIN:VEVENT
DTSTART;TZID=Europe/Berlin:20251018T143000
DTEND;TZID=Europe/Berlin:20251018T180000
DTSTAMP:20260421T224446
CREATED:20250925T114437Z
LAST-MODIFIED:20250925T114438Z
UID:13655-1760797800-1760810400@christi-auferstehung.net
SUMMARY:Herzliche Einladung zum Pilgerweg
DESCRIPTION:Das Heilige Jahr 2025 ist unter dem Motto Pilger der Hoffnung ausgerufen worden. \n\n\n\n\n\n\n\nDas Logo zeigt vier stilisierte Personen\, die auf die Menschheit hinweisen\, die aus vier Regionen der Erde stammt. Sie umarmen sich gegenseitig\, um die Solidarität und Geschwisterlichkeit zu betonen\, die die Völker verbindet. Eine Person klammert sich an das Kreuz. Es soll nicht nur das Zeichen für den Glauben sein\, das die Person umarmt\, sondern es steht auch für die Hoffnung\, die niemals aufgegeben werden darf. Denn wir brauchen sie immer und besonders in schwierigen Zeiten. \n\n\n\nDie Wellen\, in denen sich die Personen bewegen\, sind aufgewühlt\, um zu zeigen\, dass man auf dem Pilgerweg des Lebens nicht immer in ruhigen Wassern geht. Oft verstärken und intensivieren persönliche Schicksale und weltweite Ereignisse den Ruf nach Hoffnung. Deshalb wurde der untere Teil des Kreuzes betont\, der sich verlängert und zu einem Anker wird\, der sich der Wellenbewegung entgegensetzt. Der Anker steht für die Hoffnung. Auch Seeleute verwenden den Begriff „Anker der Hoffnung“ für den Reserveanker\, der von Schiffen für Notmanöver genutzt wird\, um das Schiff in Stürmen zu stabilisieren. \n\n\n\nDarüber hinaus soll das Logo verdeutlichen\, dass der Pilgerweg keine individuelle\, sondern eine gemeinschaftliche Unternehmung ist\, die von einer wachsenden Dynamik geprägt ist\, die immer mehr zum Kreuz hinstrebt. Das Kreuz selbst ist nicht statisch\, sondern ebenso dynamisch: Es beugt sich der Menschheit entgegen\, als ob es ihr entgegenkäme und sie nicht allein ließe\, indem es die Gewissheit der Gegenwart und die Sicherheit der Hoffnung bietet. Gut sichtbar ist schließlich in grüner Farbe das Motto des Heiligen Jahres 2025 zu sehen: „Pilger der Hoffnung“. \n\n\n\nDie höchste Zeugin der Hoffnung ist die Mutter Gottes. An ihr sehen wir\, dass Hoffnung kein törichter Optimismus ist\, sondern ein Geschenk der Gnade in der Wirklichkeit des Lebens. Und am Fuße des Kreuzes\, als sie den unschuldigen Jesus leiden und sterben sah\, wiederholte sie\, obwohl sie unerträgliche Schmerzen litt\, ihr „Ja“\, ohne die Hoffnung und das Vertrauen auf den Herrn zu verlieren. So wurde sie unter den Schmerzen\, die sie aus Liebe aufopferte\, zu unserer Mutter\, zur Mutter der Hoffnung. In den stürmischen Wechselfällen des Lebens kommt die Mutter Gottes uns zu Hilfe\, sie stärkt uns und lädt uns ein\, zu vertrauen und weiter zu hoffen.   (Ende Zitat website  Erzbistum Berlin) \n\n\n\nSo lädt uns P. Maximilian ein\, gemeinsam von St. Karl Borromäus über St. Bernhard zur Rosenkranzbasilika zu pilgern\, und zwar am \n\n\n\nSamstag\, den 18. Oktober 2025\, Treffpunkt St. Karl Borromäus um 14:30 Uhr. \n\n\n\nDer Weg wird uns über ruhige Seitenstraßen und durch Parkanlagen führen. An mehreren Zwischenstationen auf dem Weg beten wir jeweils einen Abschnitt des Rosenkranzes. Nach einer guten Stunde erreichen wir die Kirche St. Bernhard. Auch hier halten wir inne zum Gebet und es wird frisches Wasser bereitstehen. Von da aus geht es in einer weiteren guten Stunde zur Basilika. Dort besteht dann um 18:00 Uhr die Möglichkeit\, die Vorabendmesse mitzufeiern. Wer möchte\, kann vom U-Bahnhof Dahlem Dorf mit dem Bus X83 zum Rathaus Steglitz fahren oder in St. Bernhard auf uns warten und nur den zweiten Teil des Weges mitgehen und mitbeten.  \n\n\n\nAm Ende besteht die Möglichkeit\, einen Pilgerstempel zu bekommen.
URL:https://christi-auferstehung.net/event/herzliche-einladung-zum-pilgerweg/
LOCATION:St. Karl Borromäus (Kirche)\, Delbrückstr. 33\, Berlin
CATEGORIES:St. Karl Borromäus
ATTACH;FMTTYPE=image/jpeg:https://christi-auferstehung.net/wp-content/uploads/2025/09/Logo_Pilgerjahr2025_quadrat.jpg
END:VEVENT
BEGIN:VEVENT
DTSTART;TZID=Europe/Berlin:20251031T190000
DTEND;TZID=Europe/Berlin:20251031T203000
DTSTAMP:20260421T224446
CREATED:20250930T144337Z
LAST-MODIFIED:20250930T144446Z
UID:13691-1761937200-1761942600@christi-auferstehung.net
SUMMARY:Ökumenischer Abendgottesdienst in der ev. Grunewaldkirche
DESCRIPTION:Wie in den letzten Jahren findet auch am diesjährigen Reformationstag ein Ökumenischer Predigtgottesdienst unter dem Motto „Gott\, so menschenfreundlich!“ statt. \n\n\n\nDer Gottesdienst in der ev. Grunewaldkirche\, Bismarckallee 28 B\, 14199 Berlin wird vom Kirchenchor der kath. Gemeinde St. Karl Borromäus mitgestaltet. \n\n\n\nAlle sind herzlich eingeladen. \n\n\n\nPater Maximilian
URL:https://christi-auferstehung.net/event/oekumenischer-abendgottesdienst-in-der-ev-grunewaldkirche/
CATEGORIES:St. Karl Borromäus
ATTACH;FMTTYPE=image/jpeg:https://christi-auferstehung.net/wp-content/uploads/2025/09/251031_martin-luther-pixabay.jpg
END:VEVENT
END:VCALENDAR