BEGIN:VCALENDAR
VERSION:2.0
PRODID:-//pfarrei christi auferstehung - ECPv6.15.20//NONSGML v1.0//EN
CALSCALE:GREGORIAN
METHOD:PUBLISH
X-ORIGINAL-URL:https://christi-auferstehung.net
X-WR-CALDESC:Veranstaltungen für pfarrei christi auferstehung
REFRESH-INTERVAL;VALUE=DURATION:PT1H
X-Robots-Tag:noindex
X-PUBLISHED-TTL:PT1H
BEGIN:VTIMEZONE
TZID:Europe/Berlin
BEGIN:DAYLIGHT
TZOFFSETFROM:+0100
TZOFFSETTO:+0200
TZNAME:CEST
DTSTART:20240331T010000
END:DAYLIGHT
BEGIN:STANDARD
TZOFFSETFROM:+0200
TZOFFSETTO:+0100
TZNAME:CET
DTSTART:20241027T010000
END:STANDARD
BEGIN:DAYLIGHT
TZOFFSETFROM:+0100
TZOFFSETTO:+0200
TZNAME:CEST
DTSTART:20250330T010000
END:DAYLIGHT
BEGIN:STANDARD
TZOFFSETFROM:+0200
TZOFFSETTO:+0100
TZNAME:CET
DTSTART:20251026T010000
END:STANDARD
BEGIN:DAYLIGHT
TZOFFSETFROM:+0100
TZOFFSETTO:+0200
TZNAME:CEST
DTSTART:20260329T010000
END:DAYLIGHT
BEGIN:STANDARD
TZOFFSETFROM:+0200
TZOFFSETTO:+0100
TZNAME:CET
DTSTART:20261025T010000
END:STANDARD
END:VTIMEZONE
BEGIN:VEVENT
DTSTART;TZID=Europe/Berlin:20250705T190000
DTEND;TZID=Europe/Berlin:20250705T210000
DTSTAMP:20260420T140709
CREATED:20250313T161616Z
LAST-MODIFIED:20250313T161617Z
UID:12582-1751742000-1751749200@christi-auferstehung.net
SUMMARY:Schmargendorfer Sommer-Gospelnacht 2025
DESCRIPTION:Mit der B-Natural Praise Band (www.b-naturalpraiseband.de) und dem St. Konrad Gospelchor (www.stkonradgospelchor.de) \n\n\n\n\n\n\n\nNach einer erfolgreichen Gospelnacht 2024 laden wir auch in diesem Jahr wieder zur Schmargendorfer Sommer-Gospelnacht in die Salvatorkirche der Pfarrei Christi Auferstehung ein.  \n\n\n\nAm Samstag\, dem 5. Juli 2025 um 19:00 Uhr beginnt das Konzert. Es erwartet Sie viel Gospelmusik von dem wunderbaren Gastchor St. Konrad Gospelchor und der B-Natural Praise Band.  \n\n\n\nZuvor ab 18:00 Uhr wird im Salvatorgarten für das kulinarische Wohl gesorgt sein. Weitere Informationen folgen. \n\n\n\nVeranstalter: B-Natural Praise Band (www.b-naturalpraiseband.de)
URL:https://christi-auferstehung.net/event/schmargendorfer-sommer-gospelnacht-2025/
LOCATION:Salvatorkirche\, Tölzer Str. 25\, Berlin\, 14199
CATEGORIES:Salvator
ATTACH;FMTTYPE=image/jpeg:https://christi-auferstehung.net/wp-content/uploads/2025/03/250705_Foto_B-NaturalPraiseBand_S.jpg
END:VEVENT
BEGIN:VEVENT
DTSTART;TZID=Europe/Berlin:20250706T110000
DTEND;TZID=Europe/Berlin:20250706T170000
DTSTAMP:20260420T140709
CREATED:20250611T093124Z
LAST-MODIFIED:20250611T093428Z
UID:13118-1751799600-1751821200@christi-auferstehung.net
SUMMARY:Einladung zum Gemeindefest in Heilig Geist
DESCRIPTION:11:00 Uhr: Festgottesdienst „Das Brotwunder“ im Pfarrgarten 12:30 Uhr: Essen- und Getränkeangebot Vielfältiges Programm rund um den Pfarrgarten für alle Altersgruppen Spiele mit der Kinderkirche Bücherbasar 15.30 Uhr: Kita-Vorführung auf dem Rasen Kaffee und Kuchen18:30 Uhr: Abschlusskonzert Da Ponte in der Kirche \n\n\n\nDas Plakat für das Gemneindefest finden Sie  < hier >.
URL:https://christi-auferstehung.net/event/einladung-zum-gemeindefest-in-heilig-geist/
LOCATION:Heilig Geist (Hof)\, Bayernallee 28\, Berlin
CATEGORIES:Heilig Geist
ATTACH;FMTTYPE=image/jpeg:https://christi-auferstehung.net/wp-content/uploads/2025/06/250706_Bild_Brotwunder_2025_HG.jpg
END:VEVENT
BEGIN:VEVENT
DTSTART;TZID=Europe/Berlin:20250706T183000
DTEND;TZID=Europe/Berlin:20250706T203000
DTSTAMP:20260420T140709
CREATED:20250528T183620Z
LAST-MODIFIED:20250528T184010Z
UID:13045-1751826600-1751833800@christi-auferstehung.net
SUMMARY:Philosophische Predigt mit Prof. Lob-Hüdepohl
DESCRIPTION:Thema: Wunder gibt es immer wieder \n\n\n\nHeilungswunder gehören zum Markenkern des Wirkens Jesu Christi. In ihnen wird die heilsam-befreiende Wirkmacht Gottes in besonderer Weise gegenwärtig.  \n\n\n\nDoch worin besteht eigentlich des „Wunderbare“ dieser vielfältigen Heilungen? In mirakulöser „Zauberkraft“? Oder in heilsamer „Beziehungsmacht“? Und können Heilungswunder-Erzählungen uns heute angesichts unseres naturwissenschaftlich-medizinisch Wissens überhaupt noch etwas sagen?  \n\n\n\nPrediger: Prof. Dr. Andreas Lob-Hüdepohl. Er ist Mitglied verschiedener Gremien und Einrichtungen (u.a. Deutscher Ethikrat\, Zentralkomitee der Katholik*innen\, Berater der Deutschen Bischofskonferenz\, u.a.). Er ist Professor für Theologische Ethik an der Katholischen Hochschule für Sozialwesen Berlin (KHSB) sowie Geschäftsführer des Berliner Instituts für christliche Ethik und Politik. \n\n\n\n\n\n\n\nBildnachweis: © Katholische Hochschule für Sozialwesen Berlin \n\n\n\nIm Anschluss an den Gottesdienst mit Predigt besteht die Möglichkeit zur Diskussion mit Prof. Lob-Hüdepohl im Gemeindesaal.
URL:https://christi-auferstehung.net/event/philosophische-predigt-mit-prof-lob-huedepohl/
LOCATION:St. Canisius (Kirche)\, Witzlebenstr. 30\, 14057 Berlin
CATEGORIES:St. Canisius
ATTACH;FMTTYPE=image/jpeg:https://christi-auferstehung.net/wp-content/uploads/2019/12/rjm78PEyYLc-e1579438433882.jpg
END:VEVENT
BEGIN:VEVENT
DTSTART;TZID=Europe/Berlin:20250712T090000
DTEND;TZID=Europe/Berlin:20250712T193000
DTSTAMP:20260420T140709
CREATED:20250702T103307Z
LAST-MODIFIED:20250702T103624Z
UID:13229-1752310800-1752348600@christi-auferstehung.net
SUMMARY:Gut leben und gut sterben - Begegnungstag für Freunde der Jesuiten
DESCRIPTION:Wir Jesuiten haben viele Freunde und Förderer\, die es gut mit uns meinen. Dafür sind wir sehr dankbar! Für sie und alle\, die es werden möchten und an der Arbeit der Jesuiten in Deutschland bzw. der Zentraleuropäischen Ordensprovinz interessiert sind\, bieten wir regelmäßig Begegnungstage an\, an denen Sie uns und sich gegenseitig kennenlernen können. \n\n\n\nDer kommende Begegnungstag findet am 12. Juli von 9:00 Uhr bis zur Vorabendmesse um 18:30 Uhr in St. Canisius statt. Es geht um das Thema „Gut leben und sterben“. Interessante Referenten beleuchten das Thema\, aber es gibt auch viel Zeit für Gespräche. Und zu essen und trinken gibt es natürlich auch! Wenn Sie Zeit und Lust haben – melden Sie sich über den Flyer an: https://www.jesuiten.org/fileadmin/user_upload/Bilder/Fundraising/Begegnungen/Jesuiten_Begegnungstag_Berlin_2025_Flyer_web.pdf  \n\n\n\nOrt: Gemeindesaal St. Canisius\, Witzlebenstraße 30\, 14057 Berlin Impulse\, Vorträge\, gemeinsames Mittagessen\, gemeinsamer Gottesdienst Referenten: P. Martin Stark SJ\, RA’in Agnes D. Wendelmuth\, P. Godehard Brüntrup SJ\, Ulla Rose\, P. Manfred Hösl SJ
URL:https://christi-auferstehung.net/event/gut-leben-und-gut-sterben-begegnungstag-fuer-freunde-der-jesuiten/
LOCATION:St. Canisius (Gemeindesaal)\, Witzlebenstr. 30\, 14057 Berlin
CATEGORIES:St. Canisius
ATTACH;FMTTYPE=image/jpeg:https://christi-auferstehung.net/wp-content/uploads/2025/07/250712_Logo_csm_Jesuiten_Begegnungstag_Berlin_2025_C.jpg
END:VEVENT
BEGIN:VEVENT
DTSTART;TZID=Europe/Berlin:20250713T100000
DTEND;TZID=Europe/Berlin:20250713T110000
DTSTAMP:20260420T140709
CREATED:20250704T175719Z
LAST-MODIFIED:20250704T175721Z
UID:13239-1752400800-1752404400@christi-auferstehung.net
SUMMARY:Sei Mitmensch!
DESCRIPTION:Herzliche Einladung zur Familienmesse am 13.7. um 10 Uhr in Heilig Geist.  \n\n\n\nWir hören die Geschichte vom barmherzigen Samariter und überlegen uns\, was es heißt\, Mitmensch zu sein.
URL:https://christi-auferstehung.net/event/sei-mitmensch/
LOCATION:Heilig Geist (Kirche)\, Bayernallee 28\, Berlin
CATEGORIES:Heilig Geist
ATTACH;FMTTYPE=image/jpeg:https://christi-auferstehung.net/wp-content/uploads/2025/07/250713_Samariter_HG-scaled.jpg
END:VEVENT
BEGIN:VEVENT
DTSTART;TZID=Europe/Berlin:20250713T110000
DTEND;TZID=Europe/Berlin:20250713T153000
DTSTAMP:20260420T140709
CREATED:20250430T132727Z
LAST-MODIFIED:20250430T132734Z
UID:12895-1752404400-1752420600@christi-auferstehung.net
SUMMARY:Familienwallfahrt des Erzbistums Berlin
DESCRIPTION:Machen Sie sich am Sonntag\, 13. Juli\, als Pilger mit der Familie oder Freunden in Gruppen und Kreisen auf den Weg: mit der Bahn\, mit dem Rad oder zu Fuß ins Christian-Schreiber-Haus (Feldweg 10\, 15537 Grünheide OT Alt-Buchhorst). \n\n\n\nBeginn ist um 11:00 Uhr mit einer Familienmesse mit Erzbischof Dr. Heiner Koch\, musikalisch gestaltet von der Band Ruhama (www.ruhama.de). Weiter geht´s mit einem Picknick im Grünen (Selbstverpflegung)\, Aktions- und Spielangeboten auf dem Gelände und einem Mitsing-Konzert mit Ruhama. Der Tag endet mit einem Einzelsegen für Familien und Gruppen um 15:30 Uhr. Herzliche Einladung! \n\n\n\nAlle Informationen unter www.erzbistumberlin.de/familienwallfahrt. Bitte beachten Sie aktuelle Hinweise – eventuell ist mit Einschränkungen im Bahnverkehr zu rechnen. \n\n\n\nFamilienwochenende \n\n\n\nZur Vorbereitung der Familienwallfahrt laden wir Familien aller Generationen vom 11.-13. Juli zu einem kreativen Arbeitswochenende ein. Neben den praktischen Dingen der Vorbereitung von Haus und Gelände wollen wir auch inhaltlich die Wallfahrt mitgestalten. Daneben bleibt Zeit zum Baden\, Beten und sich Begegnen. Wir beginnen am Freitag um 18:00 Uhr mit dem Abendbrot und enden am Sonntag gegen 18:00 Uhr nach dem Aufräumen. Wir gehen davon aus\, dass alle am Wochenende Teilnehmenden tatkräftig mithelfen\, die Familienwallfahrt vor- und nachzubereiten. Deshalb trägt das Erzbistum Berlin die Kosten für das Wochenende. Pro Familie wird eine Verpflegungspauschale von 50\,- Euro erbeten. Info und Anmeldung: christoph.kiessig@erzbistumberlin.de
URL:https://christi-auferstehung.net/event/familienwallfahrt-des-erzbistums-berlin/
CATEGORIES:allgemein
ATTACH;FMTTYPE=image/png:https://christi-auferstehung.net/wp-content/uploads/2025/04/250713_Bild_Familienwallfahrt_EBBerlin.png
END:VEVENT
BEGIN:VEVENT
DTSTART;TZID=Europe/Berlin:20250716T100000
DTEND;TZID=Europe/Berlin:20250716T160000
DTSTAMP:20260420T140709
CREATED:20250430T133348Z
LAST-MODIFIED:20250430T133350Z
UID:12897-1752660000-1752681600@christi-auferstehung.net
SUMMARY:Seniorenwallfahrt des Erzbistums Berlin
DESCRIPTION:Herzliche Einladung zur Seniorenwallfahrt nach Alt-Buchhorst (Christian-Schreiber-Haus\, Feldweg 10\, 15537 Grünheide OT Alt-Buchhorst) am Mittwoch\, 16. Juli! \n\n\n\n10:00 Uhr Fußwallfahrt ab Fangschleuse (ca. 1 Stunde) ACHTUNG! Bitte aktuelle Hinweise auf der Website www.erzbistumberlin.de/seniorenwallfahrt beachten! Eventuell ist mit Einschränkungen im Bahnverkehr zu rechnen. \n\n\n\nBeginn auf dem Gelände ist um 11:00 Uhr mit einer Heiligen Messe mit Weihbischof Matthias Heinrich. Es folgen das Mittagessen\, die Wallfahrtsstunde mit Gebet\, Vortrag\, Pilgerprogramm\, Kaffee\, Kuchen und die Abschlussandacht. \n\n\n\nBitte melden Sie Sich oder Ihre Gruppe über diesen Link oder per Telefon an: Kerstin Mauve: 0175/64 24 931.Sie können den Beitrag für den Wallfahrtstag von 12 € vor Ort in bar bezahlen.Alle Informationen finden Sie unter www.erzbistumberlin.de/seniorenwallfahrt.
URL:https://christi-auferstehung.net/event/seniorenwallfahrt-des-erzbistums-berlin/
CATEGORIES:allgemein
ATTACH;FMTTYPE=image/png:https://christi-auferstehung.net/wp-content/uploads/2025/04/250716_Bild_Seniorenwallfahrt_EBBerlin.png
END:VEVENT
BEGIN:VEVENT
DTSTART;TZID=Europe/Berlin:20250717T123000
DTEND;TZID=Europe/Berlin:20250717T143000
DTSTAMP:20260420T140709
CREATED:20250624T132455Z
LAST-MODIFIED:20250624T132456Z
UID:13191-1752755400-1752762600@christi-auferstehung.net
SUMMARY:Ökumenische Andacht zum Schulabschluss der 6. Klassen
DESCRIPTION:Am Donnerstag\, dem 17.07.2025 wird es um 12:30 Uhr in Salvator eine ökumenische Andacht zum Schulabschluss geben\, zu der insbesondere alle Schülerinnen und Schüler der 6. Klassen der auf unserem Gemeindegebiet liegenden Grundschulen (Grunewald-GS\, Alt-Schmargendorf-GS\, Judith-Kerr-GS\, Carl-Orff-GS) mit ihren Angehörigen eingeladen sind.  \n\n\n\nIm Anschluss gibt es im Klostergarten Würstchen\, Eis und Getränke. \n\n\n\nHerzliche Einladung!
URL:https://christi-auferstehung.net/event/oekumenische-andacht-zum-schulabschluss-der-6-klassen/
LOCATION:Salvatorkirche\, Tölzer Str. 25\, Berlin\, 14199
CATEGORIES:Salvator
ATTACH;FMTTYPE=image/jpeg:https://christi-auferstehung.net/wp-content/uploads/2025/06/250206_Foto_Salvator_innen_S-1.jpg
END:VEVENT
BEGIN:VEVENT
DTSTART;TZID=Europe/Berlin:20250717T190000
DTEND;TZID=Europe/Berlin:20250717T203000
DTSTAMP:20260420T140709
CREATED:20250618T101610Z
LAST-MODIFIED:20250618T102153Z
UID:13147-1752778800-1752784200@christi-auferstehung.net
SUMMARY:Was und wie glauben die anderen? Zu Gast bei den Baptisten!
DESCRIPTION:Was und wie glauben andere Kirchen und Gemeinschaften? Was haben sie mit uns (Katholik*innen) gemeinsam\, wo unterscheiden wir uns on Ihnen? Wie feiert man Gottesdienst und wie sieht das Gemeindeleben aus? Darum geht es in dieser neuen Reihe. Wir starten mit einem Besuch bei den Baptisten in der Friedenskirche Bismarckstr. 40. Die Evangelisch-Freikirchliche Gemeinden – wie die Baptisten offiziell heißen – praktizieren keine Kleinkindertaufe. Sie meinen: Zur Taufe soll man sich bewusst entscheiden (können). Ab wann darf man somit getauft werden? Das wäre nur eine spannende Frage an unsere Gastgeber! \n\n\n\nWo: Friedenskirche\, Bismarckstr. 40\, 10627 Berlin Wann: Donnerstag\, 17.7.2025\, entweder um 19:00 Uhr direkt vor Ort (Bismarckstr. 40) oder zum gemeinsamen Fußweg ab St. Canisius um 18:30 Uhr – Treffpunkt vor der Canisiuskirche. Um unseren Gastgebern bei der Organisation zu helfen bitten wir um eine kurze Anmeldung im Gemeindebüro unter 030 / 326 71 30 oder info.c@christi-auferstehung.net bis spätestens Mo 10.7.2025
URL:https://christi-auferstehung.net/event/was-und-wie-glauben-die-anderen-zu-gast-bei-den-baptisten/
CATEGORIES:St. Canisius
ATTACH;FMTTYPE=image/jpeg:https://christi-auferstehung.net/wp-content/uploads/2025/06/Einzug-Baptistenkirche-scaled.jpg
END:VEVENT
BEGIN:VEVENT
DTSTART;TZID=Europe/Berlin:20250720T093000
DTEND;TZID=Europe/Berlin:20250720T130000
DTSTAMP:20260420T140709
CREATED:20250715T153537Z
LAST-MODIFIED:20250715T154029Z
UID:13302-1753003800-1753016400@christi-auferstehung.net
SUMMARY:Firmgottesdienste 2025
DESCRIPTION:Am Sonntag\, den 20.07.2025 wird insgesamt 44 Firmanden aus der Pfarrei Christi Auferstehung das Sakrament der Firmung durch unseren Weihbischof Dr. Matthias Heinrich gespendet. In diesem Jahr finden zwei feierliche Gottesdienste mit Firmspendung statt\, um 09:30 Uhr und um 13:00 Uhr in der Heilig Geist-Kirche. Diese werden durch den Singekreis musikalisch gestaltet\, unterstützt durch einige Mitglieder des Kirchenchores. \n\n\n\nVorbereitet haben sich die Jugendlichen seit vergangenem Herbst\, indem sie insgesamt 12 Module verbindlich besuchen mussten und sich dabei aktiv u.a. ins Gemeindeleben einbringen konnten. Es gab viele Möglichkeiten\, diese Module in den drei teilnehmenden Gemeinden zu belegen\, sei es durch Glaubensgespräche\, aktives Tun bei Veranstaltungen oder kreatives Mitgestalten und das Mitfeiern der Liturgie. Modulanbieter und -anbieterinnen waren neben dem Firmkernteam viele ehrenamtlich Engagierte aus unserer Pfarrei.  \n\n\n\nIn den letzten Wochen sind die Firmanden endlich auf der Zielgeraden angekommen und haben alles Wissenswerte rund um die Firmspendung erfahren und ein Einzelgespräch über ihre Vorbereitung mit einer Person aus dem besagten Team geführt. \n\n\n\nNach der Firmung am 20.07. sind alle Jugendlichen weiterhin gern gesehen in den Gottesdiensten und bei allen Aktivitäten des Gemeindelebens. Schließen wir die Firmanden aus dem aktuellen Firmjahrgang in unser Gebet ein!   \n\n\n\nLydia Funke für das Firmkernteam
URL:https://christi-auferstehung.net/event/das-sakrament-der-firmung/
LOCATION:Heilig Geist (Kirche)\, Bayernallee 28\, Berlin
CATEGORIES:Heilig Geist
ATTACH;FMTTYPE=image/png:https://christi-auferstehung.net/wp-content/uploads/2022/10/Geistvoll-Logo-ohne.png
END:VEVENT
BEGIN:VEVENT
DTSTART;TZID=Europe/Berlin:20250720T100000
DTEND;TZID=Europe/Berlin:20250720T110000
DTSTAMP:20260420T140709
CREATED:20250712T195507Z
LAST-MODIFIED:20250712T195508Z
UID:13286-1753005600-1753009200@christi-auferstehung.net
SUMMARY:Kinderkirche unterwegs
DESCRIPTION:Die letzte Kinderkirche vor den Ferien hält eine kleine Überraschung bereit. Weil an diesem Tag in unserer Gemeinde zwei Firmgottesdienste stattfinden und daher die „normalen“ Sonntagsgottesdienste entfallen\, treffen wir uns am Sonntag\, 20.07.2025\, um 10:00 Uhr auf dem Parkplatz des Pfarrgrundstückes (Eingang von der Oldenburgallee). \n\n\n\nWir machen dann eine „Miniwanderung“ und gehen an einen Ort in der Nähe\, an dem wir dann zusammen Kinderkirche feiern. Das wichtigste dabei ist\, dass ihr pünktlich seid und unseren Aufbruch nicht verpasst. Wir hoffen\, viele von euch lassen sich auf diese besondere Aktion ein und sind dabei. So können wir uns dann in die Ferien verabschieden.  \n\n\n\nEuer Kinderkirchenteam
URL:https://christi-auferstehung.net/event/kinderkirche-unterwegs/
LOCATION:Heilig Geist (Hof)\, Bayernallee 28\, Berlin
CATEGORIES:Heilig Geist
ATTACH;FMTTYPE=image/jpeg:https://christi-auferstehung.net/wp-content/uploads/2025/07/250720_Foto_Kinderkirche_HG-scaled.jpg
END:VEVENT
BEGIN:VEVENT
DTSTART;TZID=Europe/Berlin:20250720T110000
DTEND;TZID=Europe/Berlin:20250720T170000
DTSTAMP:20260420T140709
CREATED:20250624T130615Z
LAST-MODIFIED:20250714T125051Z
UID:13188-1753009200-1753030800@christi-auferstehung.net
SUMMARY:Gemeindefest in St. Karl Borromäus - Teil 2
DESCRIPTION:Daran erinnert sich niemand: Wegen des Regens bis zum Morgen des 13. Juli musste das Gemeindefest im Freien in St. Karl Borromäus abgesagt werden! Stattdessen wurde nach dem schönen Familiengottesdienst mit vielen Kindern kurzfristig ein Empfang für alle im Gemeindesaal organisiert\, den viele Gemeindemitglieder und Gäste dankbar wahrnahmen. \n\n\n\nUnd es kommt noch besser: Das ausgefallene Gemeindefest im Freien wird nun eine Woche später nachgeholt – dann hoffentlich bei trockenem Wetter. Denn die Aufführung der Kita-Kinder\, das Karussell und die Hüpfburg sind auf gutes Wetter angewiesen.  \n\n\n\nSo starten wir am am kommenden Sonntag noch einmal das diesjährige Gemeindefest in St. Karl Borromäus zusammen mit der Kita unter dem Motto „Sommer\, Sonne\, Sonnenschein – wir laden alle herzlich ein“. \n\n\n\nEs beginnt mit dem Gottesdienst um 11:00 Uhr in der Kiche\, danach geht es im Kirchhof weiter bei Speisen und Getränken\, einer Aufführung der Kita-Kinder und mit viel Spaß und Unterhaltung. \n\n\n\nDer 9:30 Uhr-Gottesdienst in Salvator findet statt\, jedoch ohne den anschließenden Frühschoppen\, der an der Delbrückstraße nachgeholt werden kann. Die Vorabendmesse am Samstagabend um 18:00 Uhr wird in St. Karl Borromäus gefeiert.
URL:https://christi-auferstehung.net/event/gemeindefest-in-st-karl-borromaeus/
LOCATION:St. Karl Borromäus (Kirche)\, Delbrückstr. 33\, Berlin
CATEGORIES:St. Karl Borromäus
ATTACH;FMTTYPE=image/jpeg:https://christi-auferstehung.net/wp-content/uploads/2024/05/Gemeindefest_B_2024-gaelle-marcel-unsplash.jpg
END:VEVENT
BEGIN:VEVENT
DTSTART;TZID=Europe/Berlin:20250725T200000
DTEND;TZID=Europe/Berlin:20250725T210000
DTSTAMP:20260420T140709
CREATED:20250715T112009Z
LAST-MODIFIED:20250715T112219Z
UID:13299-1753473600-1753477200@christi-auferstehung.net
SUMMARY:CSD-Gottesdienst: "Ich will mir meinen Mund nicht stopfen lassen!"
DESCRIPTION:Die Ökumenische Arbeitsgruppe Homosexuelle und Kirche (HuK) e.V. lädt ein zum ökumenischen Gottesdienst am Vorabend des Christopher Street Day (CSD) am 25. Juli 2025 um 20:00 Uhr in der katholischen St. Canisius-Kirche\, Witzlebenstraße 30\, in Berlin-Charlottenburg. . \n\n\n\nEr steht unter dem Motto: „Ich will mir meinen Mund nicht stopfen lassen“.Die Predigt hält Klaus Lederer (ehem. Die Linke\, ehem. Senator für Kultur und Europa)\, Liturgen sind P. Jan Korditschke SJ und Thomas Beckmann (HuK).  \n\n\n\nDie HuK hat sich im Jahr 1977 auf dem Evangelischen Kirchentag in Berlin gegründet. In diesem Jahr feiert sie in Berlin zum 45. Mal einen Gottesdienst zum CSD\, seit vielen Jahren in ökumenischer Verbundenheit und nun jährlich abwechselnd in der römisch-katholischen Kirche St. Canisius und in der Kaiser-Wilhelm-Gedächtnis-Kirche.  \n\n\n\nHerzliche Einladung.
URL:https://christi-auferstehung.net/event/csd-gottesdienst-ich-will-mir-meinen-mund-nicht-stopfen-lassen/
LOCATION:St. Canisius (Kirche)\, Witzlebenstr. 30\, 14057 Berlin
CATEGORIES:St. Canisius
ATTACH;FMTTYPE=image/jpeg:https://christi-auferstehung.net/wp-content/uploads/2025/07/250725_Bild_CSD-Gottesdienst_C.jpg
END:VEVENT
BEGIN:VEVENT
DTSTART;TZID=Europe/Berlin:20250727T100000
DTEND;TZID=Europe/Berlin:20250727T170000
DTSTAMP:20260420T140709
CREATED:20250611T094739Z
LAST-MODIFIED:20250611T100836Z
UID:13122-1753610400-1753635600@christi-auferstehung.net
SUMMARY:Kontemplationstag im Forum der Jesuiten
DESCRIPTION:Hinführung zum Herzensgebet\, dem stillen Verweilen vor Gott nach Franz Jalics SJ \n\n\n\nElemente des Tages sind:angeleitete Meditationsübungen\,Impulse\,gemeinsames Schweigen undAustausch. \n\n\n\nLeitung: Paula von Loé\, Dorothea Hofmann \n\n\n\nFür Raum\, Getränke und Mittagessen erbitten wir eine Gebühr von 15\,- €.(Ermäßigung auf Anfrage: geistlichebegleitung@erzbistumberlin.de) \n\n\n\nAnmeldungen bis 04.07.2025 unter:www.erzbistumberlin.de/anmeldung/kontemplationstag \n\n\n\nDas Plakat zur Veranstaltung finden Sie  < hier >.
URL:https://christi-auferstehung.net/event/kontemplationstag-im-forum-der-jesuiten/
LOCATION:Forum der Jesuiten\, Witzlebenstr. 30a\, Berlin\, 14057
CATEGORIES:allgemein
ATTACH;FMTTYPE=image/jpeg:https://christi-auferstehung.net/wp-content/uploads/2025/06/250727_Bild_Kontemplationstag_C.jpg
END:VEVENT
END:VCALENDAR