BEGIN:VCALENDAR
VERSION:2.0
PRODID:-//pfarrei christi auferstehung - ECPv6.15.20//NONSGML v1.0//EN
CALSCALE:GREGORIAN
METHOD:PUBLISH
X-ORIGINAL-URL:https://christi-auferstehung.net
X-WR-CALDESC:Veranstaltungen für pfarrei christi auferstehung
REFRESH-INTERVAL;VALUE=DURATION:PT1H
X-Robots-Tag:noindex
X-PUBLISHED-TTL:PT1H
BEGIN:VTIMEZONE
TZID:Europe/Berlin
BEGIN:DAYLIGHT
TZOFFSETFROM:+0100
TZOFFSETTO:+0200
TZNAME:CEST
DTSTART:20220327T010000
END:DAYLIGHT
BEGIN:STANDARD
TZOFFSETFROM:+0200
TZOFFSETTO:+0100
TZNAME:CET
DTSTART:20221030T010000
END:STANDARD
BEGIN:DAYLIGHT
TZOFFSETFROM:+0100
TZOFFSETTO:+0200
TZNAME:CEST
DTSTART:20230326T010000
END:DAYLIGHT
BEGIN:STANDARD
TZOFFSETFROM:+0200
TZOFFSETTO:+0100
TZNAME:CET
DTSTART:20231029T010000
END:STANDARD
BEGIN:DAYLIGHT
TZOFFSETFROM:+0100
TZOFFSETTO:+0200
TZNAME:CEST
DTSTART:20240331T010000
END:DAYLIGHT
BEGIN:STANDARD
TZOFFSETFROM:+0200
TZOFFSETTO:+0100
TZNAME:CET
DTSTART:20241027T010000
END:STANDARD
END:VTIMEZONE
BEGIN:VEVENT
DTSTART;TZID=Europe/Berlin:20231104T190000
DTEND;TZID=Europe/Berlin:20231104T210000
DTSTAMP:20260420T123415
CREATED:20230928T132402Z
LAST-MODIFIED:20230928T132403Z
UID:7584-1699124400-1699131600@christi-auferstehung.net
SUMMARY:Fremd bin ich eingezogen…
DESCRIPTION:Franz Schuberts Winterreise interkulturell neu interpretiert \n\n\n\nDer Jesuiten-Flüchtlingsdienst (JRS) lädt Sie herzlich ein: \n\n\n\nDas asambura-Ensemble verbindet in der Neukomposition FREMD BIN ICH EINGEZOGEN Schuberts Liedfragmente mit persischen Gedichten über Fremdheit\, Flucht\, Sehnsucht und Einsamkeit zu einem neuen Zyklus. In enger Zusammenarbeit des deutschen Komponisten Maximilian Guth\, dem persischen Santur-Virtuosen und Komponisten Ehsan Ebrahimi und dem persischen Sänger Mehdi Saei wurden persische Gedichte von Saadi\, Akhavan-Sales und Moayyeri ausgewählt\, in denen unendliche Trauer und Einsamkeit thematisiert werden\, aber auch die Perspektive einer gemeinsamen Suche nach Zugehörigkeit. \n\n\n\nTexte von Geflüchteten\, gelesen von Pater Breulmann SJ\, ergänzen die Musik und bieten Einblicke in ihre Erfahrungen. \n\n\n\nDiese Veranstaltung ist dank der Unterstützung der Eberhard-Stiftung\, Berlin\, möglich. Im Anschluss möchten wir den Abend zusammen mit Ihnen bei einem Glas Wein ausklingen lassen. Eine Anmeldung ist nicht erforderlich.
URL:https://christi-auferstehung.net/event/fremd-bin-ich-eingezogen/
LOCATION:St. Canisius (Kirche)\, Witzlebenstr. 30\, 14057 Berlin
ATTACH;FMTTYPE=image/jpeg:https://christi-auferstehung.net/wp-content/uploads/2023/09/augen.jpg
END:VEVENT
BEGIN:VEVENT
DTSTART;TZID=Europe/Berlin:20231105T173000
DTEND;TZID=Europe/Berlin:20231105T183000
DTSTAMP:20260420T123415
CREATED:20230923T092056Z
LAST-MODIFIED:20230923T092118Z
UID:7551-1699205400-1699209000@christi-auferstehung.net
SUMMARY:Philosophische Predigt - Wolfgang Thierse
DESCRIPTION:Wahrheit und Wahrhaftigkeit in der Politik angesichts der „Zeitenwende“. \n\n\n\nUnübersehbar finden wir uns gegenwärtig in einer Zeit sich beschleunigender Veränderungsdramatik\, der Gleichzeitigkeit verschiedenster umwälzender Entwicklungen – vom Ukrainekrieg bis zur Umweltkatastrophe. Unüberhörbar ist: Die Stimmung ist insgesamt gereizter geworden\, die Auseinandersetzungen werden schärfer\, die Aggressivität nimmt zu\, die Zweifel und Ablehnung gegenüber der Demokratie werden stärker. Was können und dürfen wir in solcher Zeit von demokratischen Politikern erwarten und verlangen und was nicht? Was heißt politische Wahrhaftigkeit in demokratiegefährdender Zeit? \n\n\n\n\n\n\nWolfgang Thierse\, geboren 1943 in Breslau\, nach dem Abitur Schriftsetzerlehre in Weimar\, Studium der Kulturwissenschaft und Germanistik an der Humboldt-Universität; bis 1990 tätig in der Akademie der Wissenschaften der DDR; 1990 Vorsitzender der SPD in der DDR\, 1990-2013 Mitglied des Bundestages\, dessen Präsident und Vizepräsident; viele Jahre Stellv. Vorsitzender der SPD und Vorsitzender der Grundwertekommission sowie des Kulturforums der Sozialdemokratie sowie Sprecher des Arbeitskreises Christen in der SPD.
URL:https://christi-auferstehung.net/event/philosophische-predigt-wolfgang-thierse/
LOCATION:St. Canisius (Kirche)\, Witzlebenstr. 30\, 14057 Berlin
ATTACH;FMTTYPE=image/jpeg:https://christi-auferstehung.net/wp-content/uploads/2019/12/rjm78PEyYLc-e1579438433882.jpg
END:VEVENT
BEGIN:VEVENT
DTSTART;TZID=Europe/Berlin:20231109T180000
DTEND;TZID=Europe/Berlin:20231109T193000
DTSTAMP:20260420T123415
CREATED:20231027T080939Z
LAST-MODIFIED:20231027T081016Z
UID:7719-1699552800-1699558200@christi-auferstehung.net
SUMMARY:Online-Diskussion: Kirchenstreik\, Straßenblockaden\, ziviler Ungehorsam
DESCRIPTION:Online-Diskussion: Kirchenstreik\, Straßenblockaden\, ziviler Ungehorsam: Wie weit muss Protest gehen? \n\n\n\nDurch zivilen Widerstand und teils radikale Protestaktionen wollen sie Menschen aufrütteln und die Politik und die Kirche zum Handeln bringen. Dabei erleben die Aktivist*innen von Maria 2.0\, ver.di und der Letzten Generation viel Zuspruch\, aber auch persönliche Anfeindungen. Trotzdem wollen sie weitermachen – für eine Kirche ohne Angst\, für gerechte Arbeitsbedingungen\, für den Erhalt einer lebenswerten Welt. Wie weit müssen sie dafür gehen? Welche Protestformen sind notwendig und wirkmächtig\, um aktuelle Krisen zu bewältigen und für eine gerechte Welt einzustehen? \n\n\n\n· Mit Lisa Kötter\, Mit-Initiatorin von Maria 2.0\, Susanne Feldkötter\, stv. Landesbezirksleiterin ver.di Berlin-Brandenburg\, und Sonja Manderbach\, Aktivistin der Letzten Generation· Link zur Teilnahme: https://us06web.zoom.us/j/86897796850· Meeting-ID: 868 9779 6850 | Kein Kenncode erforderlich· Um Anmeldung wird gebeten unter Tel. 030-321 50 21 oder per E-Mail an info@kdfb-berlin.de
URL:https://christi-auferstehung.net/event/online-diskussion-kirchenstreik-strassenblockaden-ziviler-ungehorsam/
ATTACH;FMTTYPE=image/jpeg:https://christi-auferstehung.net/wp-content/uploads/2023/10/Klimaprotest_kdfb.jpg
END:VEVENT
BEGIN:VEVENT
DTSTART;TZID=Europe/Berlin:20231110T153000
DTEND;TZID=Europe/Berlin:20231110T163000
DTSTAMP:20260420T123415
CREATED:20231102T133801Z
LAST-MODIFIED:20231102T133802Z
UID:7735-1699630200-1699633800@christi-auferstehung.net
SUMMARY:St. Martin
DESCRIPTION:Beginn in der Kirche\, dann Feier auf dem Kirchplatz
URL:https://christi-auferstehung.net/event/st-martin/
LOCATION:St. Canisius (Kirche)\, Witzlebenstr. 30\, 14057 Berlin
ATTACH;FMTTYPE=image/jpeg:https://christi-auferstehung.net/wp-content/uploads/2022/11/StMartin2022_04.jpg
END:VEVENT
BEGIN:VEVENT
DTSTART;TZID=Europe/Berlin:20231110T190000
DTEND;TZID=Europe/Berlin:20231110T203000
DTSTAMP:20260420T123415
CREATED:20231024T095356Z
LAST-MODIFIED:20231024T095541Z
UID:7690-1699642800-1699648200@christi-auferstehung.net
SUMMARY:Prag-Berlin-Festival - Europa Arche Noah
DESCRIPTION:Schirmherrschaft 2023 /2024: die Botschafterin der Republik Österreich\, I.E. Frau Dr. Bettina Kirnbauer\, der Botschafter der Bundesrepublik Deutschland\, S.E. Herr Andreas Künne\, und der Botschafter der Tschechischen Republik\, S.E. Dr. Tomas Kafka. \n\n\n\nDiese literarisch-musikalische Veranstaltung ist der Schließung des Befreiten Theaters Prag am 10. November 1938 gewidmet\, der bedeutendsten antifaschistischen Szene Europas und ihren Aufführungen in der Zeit 1933 – 1939. Die Vorstellung stellt dem Publikum in einigen Werken das Schaffen von den Autoren Jiri Voskovec/Wachsmann\, Jan Werich und des Komponisten Jaroslav Jezek vor. \n\n\n\nUnter Leitung von Dusan-Robert Parisek singen und musizieren:Oli Bott\, Susanne Eisenkolb\, Manfred Eisner\, Antje Rietz\, Ferdinand von Seebach und das Collegium Tschechischer Philharmoniker. \n\n\n\nEintritt frei\, Spenden erwünscht.
URL:https://christi-auferstehung.net/event/prag-berlin-festival-europa-arche-noah/
LOCATION:St. Canisius (Kirche)\, Witzlebenstr. 30\, 14057 Berlin
ATTACH;FMTTYPE=image/png:https://christi-auferstehung.net/wp-content/uploads/2023/10/Prag-Berlin.png
END:VEVENT
BEGIN:VEVENT
DTSTART;TZID=Europe/Berlin:20231111T083000
DTEND;TZID=Europe/Berlin:20231111T150000
DTSTAMP:20260420T123415
CREATED:20230920T085807Z
LAST-MODIFIED:20231003T161333Z
UID:7540-1699691400-1699714800@christi-auferstehung.net
SUMMARY:Basis-Schulung Prävention
DESCRIPTION:Basis-Schulung im Rahmen der bistumsweiten Präventionsarbeit \n\n\n\nWas kann eine Gemeinde tun\, um Kinder und Jugendliche möglichst wirksam vor sexualisierter Gewalt zu schützen? Diese Basis-Schulung im Rahmen der Präventionsarbeit im Erzbistum Berlin zielt darauf\, Basiswissen und Handlungskompetenz im Umgang mit sexualisierter Gewalt zu vermitteln und zu vertiefen und die Förderung einer Kultur der Achtsamkeit zu etablieren. Themen sind u.a. Was ist sexualisierte Gewalt und wo beginnt sie? – Strategien von Täter:innen – Umgang mit Verdacht – Pädagogische Prävention – Institutionelles Schutzkonzept\, Verhaltenskodex und Beschwerdewege. Die Schulung richtet sich insbesondere an Ehrenamtliche mit intensivem Kontakt zu Kindern oder Jugendlichen in der Kinder-\, Jugend- und Ministrant:innenarbeit\, Erstkommunion- und Firmvorbereitung\, die auch Veranstaltungen mit Übernachtung begleiten\, und alle Interessierten. \n\n\n\nReferentin: Uta Recher-Slotosch (Schulungsreferentin Prävention) \n\n\n\nAnmeldung unter Email: praevention@heiliggeist-berlin.de
URL:https://christi-auferstehung.net/event/basis-schulung-praevention/
LOCATION:Heilig Geist (Gemeindesaal)\, Bayernallee 28\, Berlin\, 14052
ATTACH;FMTTYPE=image/png:https://christi-auferstehung.net/wp-content/uploads/2023/09/Praeventionsschulung.png
END:VEVENT
BEGIN:VEVENT
DTSTART;TZID=Europe/Berlin:20231112T100000
DTEND;TZID=Europe/Berlin:20231112T110000
DTSTAMP:20260420T123415
CREATED:20230914T175217Z
LAST-MODIFIED:20230914T175225Z
UID:7521-1699783200-1699786800@christi-auferstehung.net
SUMMARY:Hubertusmesse
DESCRIPTION:Hubertusmessen haben eine alte Tradition. Namhafte und unbekannte Komponisten haben dafür Melodien geschrieben und so werden sie bis heute in vielen Gegenden Mitteleuropas gepflegt. Wir wollen mit diesem Gottesdienst unserem Schöpfer für die herrliche Natur danken\, die uns so viel bedeutet. Wir feiern mit dieser Messe aber auch den Schutzpatron der Jäger\, den hl. Hubertus. \n\n\n\nZu gast sind die Liesborner Jagdhornbläser
URL:https://christi-auferstehung.net/event/hubertusmesse/
LOCATION:St. Canisius (Kirche)\, Witzlebenstr. 30\, 14057 Berlin
ATTACH;FMTTYPE=image/jpeg:https://christi-auferstehung.net/wp-content/uploads/2023/09/Horn_leon-kohle-unsplash.jpg
END:VEVENT
BEGIN:VEVENT
DTSTART;TZID=Europe/Berlin:20231114T170000
DTEND;TZID=Europe/Berlin:20231114T190000
DTSTAMP:20260420T123415
CREATED:20231008T112037Z
LAST-MODIFIED:20231008T112039Z
UID:7634-1699981200-1699988400@christi-auferstehung.net
SUMMARY:Probe - Nacht der Lichter
DESCRIPTION:Wie jedes Jahr möchten wir euch auch in diesem Jahr sehr herzlich zur ökumenischen Nacht der Lichter mit Gesängen aus Taizé einladen\, zu der wir am letzten Wochenende des Kirchenjahres aus ganz Berlin und Umgebung zusammenkommen möchten\, um gemeinsam Gott zu singen\, sein Wort zu hören\, still zu werden und für den Frieden zu beten. \n\n\n\nHerzliche Einladung zu drei Musikproben im Vorfeld der Nacht der Lichter an alle\, die das Gebet mit Stimme oder (Akustik-)Instrument unterstützen möchten:  \n\n\n\n\nDi\, 14.11.2023\, 18-20 Uhr\, St. Canisius\, Witzlebenstraße 30\, 14057 Berlin-Charlottenburg \n\n\n\nDi\, 21.11.2023\, 18-20 Uhr\, St. Canisius\, Witzlebenstraße 30\, 14057 Berlin-Charlottenburg \n\n\n\nMi\, 22.11.2023\, 19-21 Uhr\, Gustav-Adolf-Kirche\, Herschelstrasse 14\, 10589 Berlin \n\n\n\n\nWer die Nacht der Lichter musikalisch unterstützen möchte\, muss nicht zu allen Proben kommen – eine oder zwei reichen. Die Inhalte der Probentermine wählen wir so\, dass sich die Gruppen ergänzen. Selbstverständlich sind aber alle immer willkommen.
URL:https://christi-auferstehung.net/event/probe-nacht-der-lichter/
LOCATION:St. Canisius (Gemeindesaal)\, Witzlebenstr. 30\, 14057 Berlin
ATTACH;FMTTYPE=image/jpeg:https://christi-auferstehung.net/wp-content/uploads/2020/09/200912Sommernach_der_Lichter-11.jpg
END:VEVENT
BEGIN:VEVENT
DTSTART;TZID=Europe/Berlin:20231116T181500
DTEND;TZID=Europe/Berlin:20231116T200000
DTSTAMP:20260420T123415
CREATED:20230908T083811Z
LAST-MODIFIED:20230908T083812Z
UID:7476-1700158500-1700164800@christi-auferstehung.net
SUMMARY:Credo 07 - Impuls + Diskussion
DESCRIPTION:Ich glaube an das ewige Leben \n\n\n\nSchluss mit der Diesseitsvertröstung!
URL:https://christi-auferstehung.net/event/credo-07-impuls-diskussion/
LOCATION:St. Canisius (Gemeindesaal)\, Witzlebenstr. 30\, 14057 Berlin
ATTACH;FMTTYPE=image/png:https://christi-auferstehung.net/wp-content/uploads/2023/03/Credo-ReiheVisual.png
END:VEVENT
BEGIN:VEVENT
DTSTART;TZID=Europe/Berlin:20231118T140000
DTEND;TZID=Europe/Berlin:20231118T160000
DTSTAMP:20260420T123415
CREATED:20230626T103946Z
LAST-MODIFIED:20231002T110212Z
UID:7215-1700316000-1700323200@christi-auferstehung.net
SUMMARY:Trauercafé
DESCRIPTION:Gemeinsam! Anteil nehmen! Trost spenden!Trauer ist für jeden Menschen eine persönliche Erfahrung und hat unterschiedliche Auslöser\, dauert unterschiedlich lange und bringt schmerzhafte Gefühle hervor. Trauerwege sind facettenreich.Unser Angebot richtet sich an trauernde Menschen\, die gerade eine Verlusterfahrung durchleben und diese mit anderen Trauernden teilen möchten. In unserem Trauer Café St. Canisius finden Sie ein offenes Ohr\, Verständnis und Mitgefühl. Die Gespräche finden in einem geschützten Rahmen statt.Wir laden ein!
URL:https://christi-auferstehung.net/event/trauercafe-9/
LOCATION:Forum der Jesuiten\, Witzlebenstr. 30a\, Berlin\, 14057
ATTACH;FMTTYPE=image/jpeg:https://christi-auferstehung.net/wp-content/uploads/2021/08/Trauercafe_minanfotos_CC0.jpg
END:VEVENT
BEGIN:VEVENT
DTSTART;TZID=Europe/Berlin:20231119T173000
DTEND;TZID=Europe/Berlin:20231119T183000
DTSTAMP:20260420T123415
CREATED:20230928T131728Z
LAST-MODIFIED:20230928T131736Z
UID:7581-1700415000-1700418600@christi-auferstehung.net
SUMMARY:Gedenkgottesdienst für alle Trauernden
DESCRIPTION:Unter dem Motto „Eine lebendige Hoffnung haben“ (vgl. 1 Petrus 1\,3) laden wir auch in diesem Jahr alle Trauernden zu einem Gedenkgottesdienst ein\, die in diesem Jahr (oder auch schon früher) einen lieben Menschen verloren haben. Jeder und jede Gottesdienstbesucherin hat die Möglichkeit für seinen und ihren Verstorbenen ein Kerzenlicht anzuzünden. Wir wollen die Namen derer\, die uns in den letzten 12 Monaten verlassen haben noch einmal nennen und ihrer gedenken. Sie\, Ihre christlichen und nichtchristlichen Freunde sind herzlich willkommen! \n\n\n\nWas zeichnet echte\, „lebendige“ Hoffnung aus\, von der Petrus spricht. Was ist Hoffnung überhaupt?Herzliche Einladung zu diesem besonderen Gottesdienst.
URL:https://christi-auferstehung.net/event/gedenkgottesdienst-fuer-alle-trauernden/
LOCATION:St. Canisius (Kirche)\, Witzlebenstr. 30\, 14057 Berlin
ATTACH;FMTTYPE=image/jpeg:https://christi-auferstehung.net/wp-content/uploads/2020/10/Totengedächtnis.jpg
END:VEVENT
BEGIN:VEVENT
DTSTART;TZID=Europe/Berlin:20231121T170000
DTEND;TZID=Europe/Berlin:20231121T190000
DTSTAMP:20260420T123415
CREATED:20231008T112143Z
LAST-MODIFIED:20231122T174036Z
UID:7635-1700586000-1700593200@christi-auferstehung.net
SUMMARY:Probe - Nacht der Lichter
DESCRIPTION:Wie jedes Jahr möchten wir euch auch in diesem Jahr sehr herzlich zur ökumenischen Nacht der Lichter mit Gesängen aus Taizé einladen\, zu der wir am letzten Wochenende des Kirchenjahres aus ganz Berlin und Umgebung zusammenkommen möchten\, um gemeinsam Gott zu singen\, sein Wort zu hören\, still zu werden und für den Frieden zu beten. \n\n\n\nHerzliche Einladung zu drei Musikproben im Vorfeld der Nacht der Lichter an alle\, die das Gebet mit Stimme oder (Akustik-)Instrument unterstützen möchten:  \n\n\n\n\nDi\, 14.11.2023\, 18-20 Uhr\, St. Canisius\, Witzlebenstraße 30\, 14057 Berlin-Charlottenburg \n\n\n\nDi\, 21.11.2023\, 18-20 Uhr\, St. Canisius\, Witzlebenstraße 30\, 14057 Berlin-Charlottenburg \n\n\n\nFr\, 24.11.2023\, 19-21 Uhr\, Gustav-Adolf-Kirche\, Herschelstrasse 14\, 10589 Berlin \n\n\n\n\nWer die Nacht der Lichter musikalisch unterstützen möchte\, muss nicht zu allen Proben kommen – eine oder zwei reichen. Die Inhalte der Probentermine wählen wir so\, dass sich die Gruppen ergänzen. Selbstverständlich sind aber alle immer willkommen.
URL:https://christi-auferstehung.net/event/probe-nacht-der-lichter-2/
LOCATION:St. Canisius (Gemeindesaal)\, Witzlebenstr. 30\, 14057 Berlin
ATTACH;FMTTYPE=image/jpeg:https://christi-auferstehung.net/wp-content/uploads/2020/09/200912Sommernach_der_Lichter-11.jpg
END:VEVENT
BEGIN:VEVENT
DTSTART;TZID=Europe/Berlin:20231121T170000
DTEND;TZID=Europe/Berlin:20231121T200000
DTSTAMP:20260420T123415
CREATED:20230920T090119Z
LAST-MODIFIED:20230920T101105Z
UID:7543-1700586000-1700596800@christi-auferstehung.net
SUMMARY:Sensibilisierung Prävention
DESCRIPTION:Sensibilisierung im Rahmen der bistumsweiten Präventionsarbeit \n\n\n\nDie Sensibilisierung bietet den Einstieg in das Thema Prävention von sexualisierter Gewalt. Sie will für Fragen rund um das Thema sexualisierte Gewalt sensibilisieren und über Präventionsmaßnahmen und Meldewege bei Verdacht informieren. Erstwissen zur Einordnung von sexualisierter Gewalt und eine Kultur der Achtsamkeit sollen durch die Sensibilisierung gefördert werden. Themen sind u.a. Was ist sexualisierte Gewalt und wo beginnt sie? – Strategien von Täter:innen – Meldewege bei Verdacht – Institutionelles Schutzkonzept. Die Schulung richtet sich insbesondere an Ehrenamtliche im Pfarrgemeinderat und Kirchenvorstand\, an Ehrenamtliche mit Kontakt zu Kindern oder Jugendlichen sowie an Mitarbeiterinnen und Mitarbeiter in Technik und Verwaltung und alle Interessierten. \n\n\n\nDie Sensibilisierung kann auch gern als „Auffrischung“ genutzt werden\, wenn die letzte Schulung einige Zeit zurückliegt. Auffrischungen sind aber nicht verpflichtend. \n\n\n\nWir laden alle Gemeindemitglieder dazu herzlich ein\, auch wenn Sie keine Schulung besuchen müssen – Wissen schützt Sie und andere! \n\n\n\nReferent: Burkhard Rooß (Präventionsbeauftragter) \n\n\n\nAnmeldung unter Email: praevention@heiliggeist-berlin.de
URL:https://christi-auferstehung.net/event/sensibilisierung-praevention/
LOCATION:Heilig Geist (Gemeindesaal)\, Bayernallee 28\, Berlin\, 14052
ATTACH;FMTTYPE=image/png:https://christi-auferstehung.net/wp-content/uploads/2023/09/Praeventionsschulung.png
END:VEVENT
BEGIN:VEVENT
DTSTART;TZID=Europe/Berlin:20231122T183000
DTEND;TZID=Europe/Berlin:20231122T200000
DTSTAMP:20260420T123415
CREATED:20231001T110653Z
LAST-MODIFIED:20231001T110817Z
UID:7591-1700677800-1700683200@christi-auferstehung.net
SUMMARY:Red Wednesday
DESCRIPTION:Kirche im atheistischen China \n\n\n\n\n\n\nDas moderne China im Kontext seiner historischen Entwicklung und die Lage der Christen \n\n\n\nReferent: Dr. Michael Schaefer (Botschafter a.D.) + NN
URL:https://christi-auferstehung.net/event/red-wednesday/
LOCATION:St. Canisius (Gemeindesaal)\, Witzlebenstr. 30\, 14057 Berlin
ATTACH;FMTTYPE=image/jpeg:https://christi-auferstehung.net/wp-content/uploads/2022/11/RedWednesday01_JasperKortmann.jpg
END:VEVENT
BEGIN:VEVENT
DTSTART;TZID=Europe/Berlin:20231124T190000
DTEND;TZID=Europe/Berlin:20231124T203000
DTSTAMP:20260420T123415
CREATED:20231024T095845Z
LAST-MODIFIED:20231024T095926Z
UID:7698-1700852400-1700857800@christi-auferstehung.net
SUMMARY:Prag-Berlin-Festival - Dass man uns gleich erkennt
DESCRIPTION:Schirmherrschaft 2023 /2024: die Botschafterin der Republik Österreich\, I.E. Frau Dr. Bettina Kirnbauer\, der Botschafter der Bundesrepublik Deutschland\, S.E. Herr Andreas Künne\, und der Botschafter der Tschechischen Republik\, S.E. Dr. Tomas Kafka. \n\n\n\nDa die Geschichte nicht zur Ruhe kommt\, wiederholen sich Daten und Themen\, wie etwa die Erinnerung an den ersten Transport der Prager Juden nach Theresienstadt\, die Situation der Künstler im Konzentrationslager Theresienstadt oder die Befreiung von Auschwitz- Birkenau\, denn sie gehören zu unserer Erbschaft\, die immer von neuem einer innovativen Bearbeitung bedarf. Seit Jahrzehnten führen wir Recherchen durch und werden immer wieder fündig\, entdecken vergessene Dokumente\, Erklärungen und künstlerische Texte von Zeitzeugen\, von Opfern\, wie von Überlebenden. Dadurch\, dass wir im Rahmen des Kulturprojektes „Erbe und Zukunft“ diese Themen gemeinsam mit unseren deutschen\, österreichischen und tschechischen Kolleginnen und Kollegen immer wieder neu behandeln\, können die Ergebnisse dieser kontinuierlichen Zusammenarbeit den Dialog zwischen mitteleuropäischen Nachbarvölkern positiv beeinflussen. \n\n\n\nEine musikalisch-literarische Aufführung zum Gedenken an den ersten Transport nach Theresienstadt\, ein Tribut an die Theresienstadt- Autoren Hanuš Hachenburg\, Petr Ginz\, Myra Gruhenberg\, Adele Jelinek\, Kurt Kapper\, Walter Lindenbaum\, Leo Štraus\, Ilse Weber. Am 24. November 1941 traf in der Sudetenkaserne in Theresienstadt eine Gruppe von 352 jungen Männern\, das sogenannte „Aufbaukommando“\, ein. Ihre Aufgabe war es\, das Ghetto für die Ankunft weiterer Transporte vorzubereiten\, die ab dem 30. November 1941 erwartet wurden. In der Wirklichkeit waren sie die ersten Gefangenen … \n\n\n\nUnter Leitung von Dusan-Robert Parisek singen und musizieren:Oli Bott\, Susanne Eisenkolb\, Manfred Eisner\, Antje Rietz\, Ferdinand von Seebach und das Collegium Tschechischer Philharmoniker. \n\n\n\nEintritt frei\, Spenden erwünscht.
URL:https://christi-auferstehung.net/event/prag-berlin-festival-dass-man-uns-gleich-erkennt/
LOCATION:St. Canisius (Kirche)\, Witzlebenstr. 30\, 14057 Berlin
ATTACH;FMTTYPE=image/png:https://christi-auferstehung.net/wp-content/uploads/2023/10/Prag-Berlin.png
END:VEVENT
BEGIN:VEVENT
DTSTART;TZID=Europe/Berlin:20231125T190000
DTEND;TZID=Europe/Berlin:20231125T203000
DTSTAMP:20260420T123415
CREATED:20231024T102222Z
LAST-MODIFIED:20231024T102223Z
UID:7701-1700938800-1700944200@christi-auferstehung.net
SUMMARY:Konzert - Telemann-Orchester
DESCRIPTION:J.F. Fasch\, Sinfonie in G-Dur für Streicher und Basso ContinuoJ.S. Bach\, Konzert für Violine\, Streicher und Basso Continuo\, Solist: Wladimir PletnerJ. Sibelius\, Romanze in C-DurDirigentin: Yukari Ishimoto \n\n\n\nInternationale Volkslieder – gesungen von „The Friday Singers“ der Musikschule Reinickendorf\, Leitung Nastassia Nass
URL:https://christi-auferstehung.net/event/konzert-telemann-orchester/
LOCATION:St. Canisius (Kirche)\, Witzlebenstr. 30\, 14057 Berlin
ATTACH;FMTTYPE=image/jpeg:https://christi-auferstehung.net/wp-content/uploads/2023/10/Konzert_larisa-birta-unsplash-scaled.jpg
END:VEVENT
BEGIN:VEVENT
DTSTART;TZID=Europe/Berlin:20231126T080000
DTEND;TZID=Europe/Berlin:20231126T113000
DTSTAMP:20260420T123415
CREATED:20231102T134216Z
LAST-MODIFIED:20231102T134217Z
UID:7737-1700985600-1700998200@christi-auferstehung.net
SUMMARY:Advents- und Weihnachtsbasar
DESCRIPTION:Am 26.11.2023 von 9:00 bis 12:30Uhr ist wieder unser Basar. \n\n\n\nÜber den Erlös freut sich das Kinderhospiz Sonnenhof. Wir haben genäht\, gestrickt und gebacken. Schauen sie einmal vorbei. \n\n\n\nEs freut sich der Bastelkreis.
URL:https://christi-auferstehung.net/event/advents-und-weihnachtsbasar/
LOCATION:St. Canisius (Gemeindesaal)\, Witzlebenstr. 30\, 14057 Berlin
ATTACH;FMTTYPE=image/png:https://christi-auferstehung.net/wp-content/uploads/2023/11/39FF3575-CABC-486D-A0F7-99E6CD76EDA7.png
END:VEVENT
BEGIN:VEVENT
DTSTART;TZID=Europe/Berlin:20231128T180000
DTEND;TZID=Europe/Berlin:20231128T193000
DTSTAMP:20260420T123415
CREATED:20231027T081407Z
LAST-MODIFIED:20231027T081407Z
UID:7723-1701194400-1701199800@christi-auferstehung.net
SUMMARY:Himmel\, Hölle\, Paradies: Jenseitsvorstellungen in den Weltreligionen
DESCRIPTION:„Himmel\, Hölle\, Paradies: Jenseitsvorstellungen in den Weltreligionen“ \n\n\n\n4. Vortrag: Prof. Dr. Mira Sievers: Jenseitsvorstellungen im Islam \n\n\n\nDer Islam hat\, wie viele andere Religionen\, die Idee eines Ruheortes für die Gläubigen und die Idee eines ewigen Feuers\, einer Hölle. Doch wie sehen die Vorstellungen von Paradies und Hölle aus und wie wandeln sich die koranischen Beschreibungen im Laufe der Zeit etwa von der Beschreibung der Paradies-Jungfrauen hin zu abstrakteren Vorstellungen? Dieser Vortrag bildet den Abschluss der Reihe „Jenseitsvorstellungen in den Weltreligionen“ in Kooperation mit der Guardini Stiftung e.V.. \n\n\n\n· Mit Prof. Dr. Mira Sievers\, Theologin und Juniorprofessorin für Islamische Theologie\, Humboldt-Universität zu Berlin· Guardini Galerie\, Askanischer Platz 4\, 10963 Berlin\, und digital auf „Zoom“ (Hybridveranstaltung)· Link zur Online-Teilnahme: https://us06web.zoom.us/j/86919251736?pwd=aldlUTdVSjNvOWFjN29sY2pBcDAyZz09Meeting-ID: 869 1925 1736 | Kenncode: Munkir· Um Anmeldung wird gebeten unter Tel. 030-321 50 21 oder per E-Mail an info@kdfb-berlin.de
URL:https://christi-auferstehung.net/event/himmel-hoelle-paradies-jenseitsvorstellungen-in-den-weltreligionen/
ATTACH;FMTTYPE=image/jpeg:https://christi-auferstehung.net/wp-content/uploads/2023/10/MiraSievers_FotoPhilippPlum.jpg
END:VEVENT
BEGIN:VEVENT
DTSTART;TZID=Europe/Berlin:20231130T190000
DTEND;TZID=Europe/Berlin:20231130T210000
DTSTAMP:20260420T123415
CREATED:20231007T125603Z
LAST-MODIFIED:20231007T125629Z
UID:7630-1701370800-1701378000@christi-auferstehung.net
SUMMARY:Sonidos de le Tierra
DESCRIPTION:Im Jahr 2002 gründete der Dirigent und Komponist Luis Szarán aus Paraguay das Musikprojekt „Sonidos de la Tierra“ – „Klänge der Erde“. Normalerweise dirigiert er klassische Orchester in prunkhaften Sälen. Aber er dirigiert auch die Musikerinnen und Musiker von Sonidos de la Tierra\, oft in staubigen Dörfern\, manchmal unter freiem Himmel. Viele von ihnen stammen aus benachteiligten Fami­lien. Sein Motto: „Wer tagsüber Mozart spielt\, wirft nachts keine Fensterscheiben ein“. Sonidos de la Tierra ist mehr als Musik: Es gibt den Jugendlichen Werte und Selbstvertrauen mit auf den Weg. Und bringt großartige Musiker hervor: Einige von ihnen gehören mittlerweile zur musikalischen Elite Latein­amerikas. \n\n\n\nBei uns sind die Sonidos de la Tierra am Donnerstag\, den 30. November\, abends zu Gast. Wir feiern um 18:30 Uhr unsere Messe mit ersten Klängen aus Paraguay und freuen uns auf das Konzert um 20:00 Uhr in St. Canisius (Witzlebenstraße 30). Sie und Ihre Freunde sind herzlich willkommen!
URL:https://christi-auferstehung.net/event/sonidos-de-le-tierra/
LOCATION:St. Canisius (Gemeindesaal)\, Witzlebenstr. 30\, 14057 Berlin
ATTACH;FMTTYPE=image/jpeg:https://christi-auferstehung.net/wp-content/uploads/2023/10/Sonidos.jpg
END:VEVENT
END:VCALENDAR