BEGIN:VCALENDAR
VERSION:2.0
PRODID:-//pfarrei christi auferstehung - ECPv6.15.20//NONSGML v1.0//EN
CALSCALE:GREGORIAN
METHOD:PUBLISH
X-ORIGINAL-URL:https://christi-auferstehung.net
X-WR-CALDESC:Veranstaltungen für pfarrei christi auferstehung
REFRESH-INTERVAL;VALUE=DURATION:PT1H
X-Robots-Tag:noindex
X-PUBLISHED-TTL:PT1H
BEGIN:VTIMEZONE
TZID:Europe/Berlin
BEGIN:DAYLIGHT
TZOFFSETFROM:+0100
TZOFFSETTO:+0200
TZNAME:CEST
DTSTART:20250330T010000
END:DAYLIGHT
BEGIN:STANDARD
TZOFFSETFROM:+0200
TZOFFSETTO:+0100
TZNAME:CET
DTSTART:20251026T010000
END:STANDARD
BEGIN:DAYLIGHT
TZOFFSETFROM:+0100
TZOFFSETTO:+0200
TZNAME:CEST
DTSTART:20260329T010000
END:DAYLIGHT
BEGIN:STANDARD
TZOFFSETFROM:+0200
TZOFFSETTO:+0100
TZNAME:CET
DTSTART:20261025T010000
END:STANDARD
BEGIN:DAYLIGHT
TZOFFSETFROM:+0100
TZOFFSETTO:+0200
TZNAME:CEST
DTSTART:20270328T010000
END:DAYLIGHT
BEGIN:STANDARD
TZOFFSETFROM:+0200
TZOFFSETTO:+0100
TZNAME:CET
DTSTART:20271031T010000
END:STANDARD
END:VTIMEZONE
BEGIN:VEVENT
DTSTART;TZID=Europe/Berlin:20260627T190000
DTEND;TZID=Europe/Berlin:20260627T213000
DTSTAMP:20260419T191252
CREATED:20260126T102346Z
LAST-MODIFIED:20260126T132139Z
UID:14430-1782586800-1782595800@christi-auferstehung.net
SUMMARY:Schmargendorfer Sommer-Gospelnacht 2026
DESCRIPTION:Auch im Jahr 2026 wird die B-Natural Praise Band wieder zu einer Gospelnacht in die Salvatorkirche einladen. \n\n\n\nWeitere Informationen folgen später. \n\n\n\n\n\n\n\nVeranstalter: B-Natural Praise Band
URL:https://christi-auferstehung.net/event/schmargendorfer-sommer-gospelnacht-2026/
LOCATION:Salvatorkirche\, Tölzer Str. 25\, Berlin\, 14199
CATEGORIES:Salvator
ATTACH;FMTTYPE=image/jpeg:https://christi-auferstehung.net/wp-content/uploads/2026/01/260627_Bild_GospelNacht2026_S.jpg
END:VEVENT
END:VCALENDAR