BEGIN:VCALENDAR
VERSION:2.0
PRODID:-//pfarrei christi auferstehung - ECPv6.15.20//NONSGML v1.0//EN
CALSCALE:GREGORIAN
METHOD:PUBLISH
X-ORIGINAL-URL:https://christi-auferstehung.net
X-WR-CALDESC:Veranstaltungen für pfarrei christi auferstehung
REFRESH-INTERVAL;VALUE=DURATION:PT1H
X-Robots-Tag:noindex
X-PUBLISHED-TTL:PT1H
BEGIN:VTIMEZONE
TZID:Europe/Berlin
BEGIN:DAYLIGHT
TZOFFSETFROM:+0100
TZOFFSETTO:+0200
TZNAME:CEST
DTSTART:20250330T010000
END:DAYLIGHT
BEGIN:STANDARD
TZOFFSETFROM:+0200
TZOFFSETTO:+0100
TZNAME:CET
DTSTART:20251026T010000
END:STANDARD
BEGIN:DAYLIGHT
TZOFFSETFROM:+0100
TZOFFSETTO:+0200
TZNAME:CEST
DTSTART:20260329T010000
END:DAYLIGHT
BEGIN:STANDARD
TZOFFSETFROM:+0200
TZOFFSETTO:+0100
TZNAME:CET
DTSTART:20261025T010000
END:STANDARD
BEGIN:DAYLIGHT
TZOFFSETFROM:+0100
TZOFFSETTO:+0200
TZNAME:CEST
DTSTART:20270328T010000
END:DAYLIGHT
BEGIN:STANDARD
TZOFFSETFROM:+0200
TZOFFSETTO:+0100
TZNAME:CET
DTSTART:20271031T010000
END:STANDARD
END:VTIMEZONE
BEGIN:VEVENT
DTSTART;TZID=Europe/Berlin:20260429T180000
DTEND;TZID=Europe/Berlin:20260429T200000
DTSTAMP:20260419T160234
CREATED:20260120T154103Z
LAST-MODIFIED:20260326T105010Z
UID:14383-1777485600-1777492800@christi-auferstehung.net
SUMMARY:Ein Bild suchen - Gott finden
DESCRIPTION:Einladung zu einer besonderen Fotogruppe: \n\n\n\nMit Bildern\, Austausch und spirituellen Impulsen gehen wir auf Spurensuche nach dem\, was trägt und berührt. Zum ersten Treffen bitte ein eigenes Lieblingsbild ausgedruckt mitbringen. \n\n\n\nModeration: Martina Schneider und P. Georg Maria Roers SJ \n\n\n\nZeit:            18 – 20 Uhr \n\n\n\nTermine:     28.01. // 25.02. // 25.03. // 29.04. // 27.05. \n\n\n\nOrt: Forum der Jesuiten\, Witzlebenstraße 30a\, 14057 Berlin \n\n\n\nAnmeldung: 030 – 32 60 25 90 oder martina.schneider@jrs-germany.org \n\n\n\nZwischen Linse und Herz \n\n\n\nIn einer Welt voller Bilder laden wir dich ein\, genauer hinzuschauen – nach außen und nach innen. „Ein Bild suchen – Gott finden“ ist eine Fotogruppe für Menschen\, die Fotografie und Spiritualität miteinander verbinden möchten. In fünf Treffen öffnen wir einen Raum\, in dem Bilder mehr sind als Motive: Sie können Türen der Erinnerung sein und Fragen stellen. \n\n\n\nGemeinsam betrachten wir eigene Fotografien\, teilen Gedanken und entdecken\, wie unterschiedlich Bilder wirken können. Zu Beginn bist Du eingeladen\, dein eigenes Lieblingsbild mitzubringen und die Geschichte dahinter zu erzählen. Was spricht dich an? Was zeigt es von dir – und vielleicht auch etwas von Gott? \n\n\n\nBegleitet wird die Gruppe von einem Jesuitenpater\, der spirituelle Impulse setzt\, und einer Fotografin\, die ihre eigene Perspektive einbringt. Beide wollen eine ermutigende und moderierende Stimme sein\, um Worte für das zu finden\, was Bilder auslösen können. Denkanstöße und gegenseitige Offenheit sorgen für einen lebendigen Austausch zwischen Kunst und Spiritualität. \n\n\n\nLass dich ein auf eine Reise zwischen Linse und Herz! Vermutlich findest du kein fertiges Bild von Gott. Nicht umsonst sollen wir Menschen uns kein Bildnis machen von Gott\, denn er ist ein bleibendes Geheimnis: „Glauben heißt\, die Unbegreiflichkeit Gottes ein Leben lang aushalten“ (Karl Rahner SJ).
URL:https://christi-auferstehung.net/event/ein-bild-suchen-gott-finden/
LOCATION:Forum der Jesuiten\, Witzlebenstr. 30a\, Berlin\, 14057
CATEGORIES:St. Canisius
ATTACH;FMTTYPE=image/jpeg:https://christi-auferstehung.net/wp-content/uploads/2026/01/260128_Beitragsbild_Fotogruppe_C.jpg
END:VEVENT
END:VCALENDAR