BEGIN:VCALENDAR
VERSION:2.0
PRODID:-//pfarrei christi auferstehung - ECPv6.15.20//NONSGML v1.0//EN
CALSCALE:GREGORIAN
METHOD:PUBLISH
X-ORIGINAL-URL:https://christi-auferstehung.net
X-WR-CALDESC:Veranstaltungen für pfarrei christi auferstehung
REFRESH-INTERVAL;VALUE=DURATION:PT1H
X-Robots-Tag:noindex
X-PUBLISHED-TTL:PT1H
BEGIN:VTIMEZONE
TZID:Europe/Berlin
BEGIN:DAYLIGHT
TZOFFSETFROM:+0100
TZOFFSETTO:+0200
TZNAME:CEST
DTSTART:20250330T010000
END:DAYLIGHT
BEGIN:STANDARD
TZOFFSETFROM:+0200
TZOFFSETTO:+0100
TZNAME:CET
DTSTART:20251026T010000
END:STANDARD
BEGIN:DAYLIGHT
TZOFFSETFROM:+0100
TZOFFSETTO:+0200
TZNAME:CEST
DTSTART:20260329T010000
END:DAYLIGHT
BEGIN:STANDARD
TZOFFSETFROM:+0200
TZOFFSETTO:+0100
TZNAME:CET
DTSTART:20261025T010000
END:STANDARD
BEGIN:DAYLIGHT
TZOFFSETFROM:+0100
TZOFFSETTO:+0200
TZNAME:CEST
DTSTART:20270328T010000
END:DAYLIGHT
BEGIN:STANDARD
TZOFFSETFROM:+0200
TZOFFSETTO:+0100
TZNAME:CET
DTSTART:20271031T010000
END:STANDARD
END:VTIMEZONE
BEGIN:VEVENT
DTSTART;TZID=Europe/Berlin:20260425T150000
DTEND;TZID=Europe/Berlin:20260425T170000
DTSTAMP:20260419T160902
CREATED:20250429T145615Z
LAST-MODIFIED:20260302T141430Z
UID:12885-1777129200-1777136400@christi-auferstehung.net
SUMMARY:Trauercafé
DESCRIPTION:Trauer ist für jeden Menschen eine persönliche Erfahrung und hat unterschiedliche Auslöser\, dauert unterschiedlich lange und bringt schmerzhafte Gefühle hervor. Trauerwege sind facettenreich. \n\n\n\nUnser Angebot richtet sich an trauernde Menschen\, die eine Verlusterfahrung durchleben und diese mit anderen Trauernden teilen möchten. Die Gespräche finden in einem geschützten Rahmen statt. \n\n\n\nBild: Elfriede Klauer (Pfarrbriefservice.de) \n\n\n\nDas Trauercafé-Plakat mit allen Terminen für das 1. Halbjahr 2026 im Anschluss:
URL:https://christi-auferstehung.net/event/trauercafe-28/
LOCATION:Forum der Jesuiten\, Witzlebenstr. 30a\, Berlin\, 14057
CATEGORIES:St. Canisius
ATTACH;FMTTYPE=image/jpeg:https://christi-auferstehung.net/wp-content/uploads/2025/01/2025_Trauercafe_C_Elfriede_Klauer_pfarrbriefservice-scaled.jpg
END:VEVENT
BEGIN:VEVENT
DTSTART;TZID=Europe/Berlin:20260425T180000
DTEND;TZID=Europe/Berlin:20260425T210000
DTSTAMP:20260419T160902
CREATED:20260415T130914Z
LAST-MODIFIED:20260415T131740Z
UID:14913-1777140000-1777150800@christi-auferstehung.net
SUMMARY:Patronatsfest am 25.04.2026 um 18:00 Uhr in Heilig Geist
DESCRIPTION:Herzliche Einladung zu unserem Patronatsfest „Christi Auferstehung“ am Samstag\, 25.04.2026 um 18:00 Uhr in der Gemeinde Heilig Geist.  \n\n\n\nMit großer Freude laden wir alle Mitglieder unserer Großpfarrei Christi Auferstehung ein\, gemeinsam in der Gemeinde Heilig Geist das Patronatsfest/Titularfest zu feiern.  \n\n\n\n„Unser Name – Christi Auferstehung – ist unsere Mission.“ Denn dieser Name ist für uns nicht nur eine Bezeichnung\, sondern ein Auftrag und eine lebendige Hoffnung. Die Auferstehung Jesu Christi erinnert uns daran\, dass neues Leben möglich ist – mitten im Alltag\, in unseren Beziehungen und in unseren Gemeinschaften. Sie ermutigt uns\, Licht in die Welt zu tragen\, Zuversicht zu schenken und den Glauben konkret zu leben. \n\n\n\nGemeinsam wollen wir diesen besonderen Anlass in Dankbarkeit und Freude begehen: im Gebet\, in der Begegnung und im Miteinander. Das Fest bietet Gelegenheit\, innezuhalten\, unseren Glauben zu vertiefen und als Gemeinschaft neu gestärkt in unseren Alltag zu gehen. Wir freuen uns auf einen festlichen Gottesdienst\, auf schöne Begegnungen und auf das gemeinsame Feiern im Anschluss.  \n\n\n\nWer das gemeinsame Buffet mit einer kleinen Speise bereichern möchte\, darf gerne etwas mitbringen – bitte tragen Sie sich < hier > ein. Für Getränke ist gesorgt. Jeder ist herzlich willkommen – ob jung oder alt\, ob langjähriges Mitglied oder neugieriger Gast. Kommt und feiert mit uns die Botschaft der Auferstehung – eine Botschaft\, die uns verbindet und sendet!  \n\n\n\nWeitere Informationen zur Gestaltung der Feier folgen.  \n\n\n\nWir freuen uns auf Ihr Kommen!  \n\n\n\nIhr P. Tanye \n\n\n\n** Hier noch einmal der Link zu der online-Tabelle: https://docs.google.com/spreadsheets/d/16MeqPRKTmX7cqQap_kCDxO3m8tZXNcV-sqFL4pIFraY/edit?gid=0#gid=0
URL:https://christi-auferstehung.net/event/patronatsfest-am-25-04-2026-um-1800-uhr-in-heilig-geist/
LOCATION:Heilig Geist (Kirche)\, Bayernallee 28\, Berlin
CATEGORIES:Heilig Geist,Salvator,St. Canisius,St. Karl Borromäus
ATTACH;FMTTYPE=image/jpeg:https://christi-auferstehung.net/wp-content/uploads/2026/04/Foto_KircheHG_innen.jpg
END:VEVENT
END:VCALENDAR