BEGIN:VCALENDAR
VERSION:2.0
PRODID:-//pfarrei christi auferstehung - ECPv6.15.20//NONSGML v1.0//EN
CALSCALE:GREGORIAN
METHOD:PUBLISH
X-ORIGINAL-URL:https://christi-auferstehung.net
X-WR-CALDESC:Veranstaltungen für pfarrei christi auferstehung
REFRESH-INTERVAL;VALUE=DURATION:PT1H
X-Robots-Tag:noindex
X-PUBLISHED-TTL:PT1H
BEGIN:VTIMEZONE
TZID:Europe/Berlin
BEGIN:DAYLIGHT
TZOFFSETFROM:+0100
TZOFFSETTO:+0200
TZNAME:CEST
DTSTART:20250330T010000
END:DAYLIGHT
BEGIN:STANDARD
TZOFFSETFROM:+0200
TZOFFSETTO:+0100
TZNAME:CET
DTSTART:20251026T010000
END:STANDARD
BEGIN:DAYLIGHT
TZOFFSETFROM:+0100
TZOFFSETTO:+0200
TZNAME:CEST
DTSTART:20260329T010000
END:DAYLIGHT
BEGIN:STANDARD
TZOFFSETFROM:+0200
TZOFFSETTO:+0100
TZNAME:CET
DTSTART:20261025T010000
END:STANDARD
BEGIN:DAYLIGHT
TZOFFSETFROM:+0100
TZOFFSETTO:+0200
TZNAME:CEST
DTSTART:20270328T010000
END:DAYLIGHT
BEGIN:STANDARD
TZOFFSETFROM:+0200
TZOFFSETTO:+0100
TZNAME:CET
DTSTART:20271031T010000
END:STANDARD
END:VTIMEZONE
BEGIN:VEVENT
DTSTART;TZID=Europe/Berlin:20260419T100000
DTEND;TZID=Europe/Berlin:20260419T110000
DTSTAMP:20260419T160837
CREATED:20260226T082606Z
LAST-MODIFIED:20260305T105709Z
UID:14622-1776592800-1776596400@christi-auferstehung.net
SUMMARY:Familienmesse
DESCRIPTION:Liebe Familien\, liebe Kinder\, liebe Gemeindemitglieder\,  \n\n\n\nherzlich laden wir euch zur Familienmesse um 10.00 Uhr ein. Gemeinsam möchten wir den Gottesdienst feiern\, miteinander singen und beten und die Gemeinschaft erleben.  \n\n\n\nDie Messe ist besonders familienfreundlich gestaltet und lädt Groß und Klein zum Mitfeiern ein.  \n\n\n\nWir freuen uns auf euer Kommen.  \n\n\n\nEuer Team der Familienliturgie \n\n\n\nDie nächsten Termine sind: 10.05.\, 31.05.\, 21.06.\, 23.08. und 06.09.2026
URL:https://christi-auferstehung.net/event/familienmesse-6/
LOCATION:Heilig Geist (Kirche)\, Bayernallee 28\, Berlin
CATEGORIES:Heilig Geist
ATTACH;FMTTYPE=image/jpeg:https://christi-auferstehung.net/wp-content/uploads/2026/02/Familienlieturgie01-scaled.jpg
END:VEVENT
BEGIN:VEVENT
DTSTART;TZID=Europe/Berlin:20260419T113000
DTEND;TZID=Europe/Berlin:20260419T133000
DTSTAMP:20260419T160837
CREATED:20260105T211543Z
LAST-MODIFIED:20260417T124456Z
UID:14297-1776598200-1776605400@christi-auferstehung.net
SUMMARY:Predigtreihe: Geschichten vom Glauben mitten im Leben
DESCRIPTION:Wegen der am 19. April stattfindenden Laufveranstaltung „S25-Berlin-Lauf“ mit über 10.000 Teilnehmenden mit Start und Ziel am Olympiastadion und dem damit einhergehenden Verkehrschaos musste die Predigtreihe an diesem Tag abgesagt werden! \n\n\n\nWas bedeutet es heute\, Gott zu begegnen? Für die Predigtreihe im ersten Halbjahr 2026 laden wir Persönlichkeiten aus Politik\, Wirtschaft\, Kultur und Medien ein\, ihre persönlichen Erfahrungen mit Glaube und Spiritualität zu teilen. \n\n\n\nUnsere Gastpredigerinnen und Gastprediger erzählen von Momenten\, in denen Gott für sie spürbar wurde – in Kindheit und Krise\, in Verantwortung und Berufung\, in besonderen Begegnungen oder unverhofften Augenblicken. Anschließend ist immer ein kurzes Nachgespräch. \n\n\n\nAusgehend vom Evangelium des jeweiligen Sonntags entsteht ein Resonanzraum zwischen biblischer Botschaft und Lebenswirklichkeit. Die Predigten zeigen\, wie vielfältig Menschen heute glauben\, zweifeln\, suchen und finden. \n\n\n\nUnser nächster Gast am 19. April wird Raed Saleh sein. Er ist am 10. Juni 1977 in Sebastia\, Westjordanland geboren und als Fünfjähriger mit seinen Eltern nach Berlin gekommen. Er ist seit 2006 Mitglied des Abgeordnetenhauses von Berlin und seit 2011 Vorsitzender der SPD-Fraktion. Außerdem war er von November 2020 bis Mai 2024 gemeinsam mit Franziska Giffey Vorsitzender der SPD Berlin. \n\n\n\nRaed Saleh ist verheiratet und Vater zweier Söhne. Er ist bekennender Muslim. Nach einer Selbstbeschreibung sei er ein „deutscher Sozialdemokrat arabischer Herkunft und muslimischen Glaubens\, und Berliner durch und durch“. \n\n\n\n\n\n\n\nFoto: Tagesspiegel \n\n\n\nHier eine Übersicht über alle Vorträge dieser Reihe: \n\n\n\n18.01.202611.30hDr. Gregor Gysi (Bundestagsalterspräsident)15.03.202611.30hP. Klaus Mertes SJ (ehem. Schuldirektor)19.04.202611.30hRaed Saleh (Fraktionsvorsitzender der SPD im Abgeordnetenhaus)21.06.202611.30hWolfgang Bosbach (CDU-Legende)04.10.202611.30hDirk Niebel (Bundesminister a.D.)20.12.202611.30hThomas Heinze (Beliebter Schauspieler in Deutschland [„Der Alte“ Krimiserie])
URL:https://christi-auferstehung.net/event/predigtreihe-geschichten-vom-glauben-mitten-im-leben/
LOCATION:Heilig Geist (Kirche)\, Bayernallee 28\, Berlin
CATEGORIES:Heilig Geist
ATTACH;FMTTYPE=image/png:https://christi-auferstehung.net/wp-content/uploads/2026/04/2026_Bild_Predigtreihe_faellt-aus_HG.png
END:VEVENT
END:VCALENDAR