BEGIN:VCALENDAR
VERSION:2.0
PRODID:-//pfarrei christi auferstehung - ECPv6.15.20//NONSGML v1.0//EN
CALSCALE:GREGORIAN
METHOD:PUBLISH
X-ORIGINAL-URL:https://christi-auferstehung.net
X-WR-CALDESC:Veranstaltungen für pfarrei christi auferstehung
REFRESH-INTERVAL;VALUE=DURATION:PT1H
X-Robots-Tag:noindex
X-PUBLISHED-TTL:PT1H
BEGIN:VTIMEZONE
TZID:Europe/Berlin
BEGIN:DAYLIGHT
TZOFFSETFROM:+0100
TZOFFSETTO:+0200
TZNAME:CEST
DTSTART:20250330T010000
END:DAYLIGHT
BEGIN:STANDARD
TZOFFSETFROM:+0200
TZOFFSETTO:+0100
TZNAME:CET
DTSTART:20251026T010000
END:STANDARD
BEGIN:DAYLIGHT
TZOFFSETFROM:+0100
TZOFFSETTO:+0200
TZNAME:CEST
DTSTART:20260329T010000
END:DAYLIGHT
BEGIN:STANDARD
TZOFFSETFROM:+0200
TZOFFSETTO:+0100
TZNAME:CET
DTSTART:20261025T010000
END:STANDARD
BEGIN:DAYLIGHT
TZOFFSETFROM:+0100
TZOFFSETTO:+0200
TZNAME:CEST
DTSTART:20270328T010000
END:DAYLIGHT
BEGIN:STANDARD
TZOFFSETFROM:+0200
TZOFFSETTO:+0100
TZNAME:CET
DTSTART:20271031T010000
END:STANDARD
END:VTIMEZONE
BEGIN:VEVENT
DTSTART;TZID=Europe/Berlin:20260404T210000
DTEND;TZID=Europe/Berlin:20260404T233000
DTSTAMP:20260419T160234
CREATED:20260328T201810Z
LAST-MODIFIED:20260328T201811Z
UID:14836-1775336400-1775345400@christi-auferstehung.net
SUMMARY:Wie ist das leben im Himmelreich? Osternacht in St. Canisius
DESCRIPTION:Wie ist das Leben im Himmelreich? Können wir das wissen?  \n\n\n\nLeider ist das Himmelreich so ganz anders als alle anderen Reiche\, z.B. Österreich. Oder Frankreich! Da kann man sich im Internet informieren. Oder Freunde fragen. Oder selbst mal hinfahren.  \n\n\n\nAber zur Stippvisite mal kurz nach Himmelreich? Wir feiern die Auferstehung Jesu von den Toten! Er hat den Tunneldurchbruch geschafft! Er wurde nicht nur reanimiert\, um später irgendwann endgültig zu sterben\, sondern ist in Gottes XXL-Welt vorausauferstanden!  \n\n\n\nWir feiern Christus das Licht\, hören die zentralen Lesungen der Bibel\, taufen und firmen sechs erwachsene Christen. \n\n\n\n\n\n\n\nBild: Künstler Tobias Haseidl\, Oberammergau
URL:https://christi-auferstehung.net/event/wie-ist-das-leben-im-himmelreich-osternacht-in-st-canisius/
LOCATION:St. Canisius (Kirche)\, Witzlebenstr. 30\, 14057 Berlin
CATEGORIES:St. Canisius
ATTACH;FMTTYPE=image/jpeg:https://christi-auferstehung.net/wp-content/uploads/2025/10/251116_Auferstandener_II_C.jpg
END:VEVENT
END:VCALENDAR