BEGIN:VCALENDAR
VERSION:2.0
PRODID:-//pfarrei christi auferstehung - ECPv6.15.20//NONSGML v1.0//EN
CALSCALE:GREGORIAN
METHOD:PUBLISH
X-ORIGINAL-URL:https://christi-auferstehung.net
X-WR-CALDESC:Veranstaltungen für pfarrei christi auferstehung
REFRESH-INTERVAL;VALUE=DURATION:PT1H
X-Robots-Tag:noindex
X-PUBLISHED-TTL:PT1H
BEGIN:VTIMEZONE
TZID:Europe/Berlin
BEGIN:DAYLIGHT
TZOFFSETFROM:+0100
TZOFFSETTO:+0200
TZNAME:CEST
DTSTART:20250330T010000
END:DAYLIGHT
BEGIN:STANDARD
TZOFFSETFROM:+0200
TZOFFSETTO:+0100
TZNAME:CET
DTSTART:20251026T010000
END:STANDARD
BEGIN:DAYLIGHT
TZOFFSETFROM:+0100
TZOFFSETTO:+0200
TZNAME:CEST
DTSTART:20260329T010000
END:DAYLIGHT
BEGIN:STANDARD
TZOFFSETFROM:+0200
TZOFFSETTO:+0100
TZNAME:CET
DTSTART:20261025T010000
END:STANDARD
BEGIN:DAYLIGHT
TZOFFSETFROM:+0100
TZOFFSETTO:+0200
TZNAME:CEST
DTSTART:20270328T010000
END:DAYLIGHT
BEGIN:STANDARD
TZOFFSETFROM:+0200
TZOFFSETTO:+0100
TZNAME:CET
DTSTART:20271031T010000
END:STANDARD
END:VTIMEZONE
BEGIN:VEVENT
DTSTART;TZID=Europe/Berlin:20260329T093000
DTEND;TZID=Europe/Berlin:20260329T193000
DTSTAMP:20260419T221947
CREATED:20260219T102653Z
LAST-MODIFIED:20260325T121150Z
UID:14585-1774776600-1774812600@christi-auferstehung.net
SUMMARY:Heute hui - morgen pfui! Palmsonntag in Canisius
DESCRIPTION:Am Palmsonntag zieht Jesus in Jerusalem ein. Die Menschen sind begeistert und feiern ihn: Hosianna! Aber schon fünf Tage später wendet sich die Stimmung um 180°. Jetzt schreien die Massen Pilatus zu: “ Kreuzige ihn!“  \n\n\n\nHeute hui – morgen pfui\, heute Hosianna – morgen: Kreuzige ihn? Wäre das heute mit Jesus nochmals möglich? In Oberammergau gab es 1984 einen experimentellen Versuch dazu… Und in der Baptistenkirche gibt es ein großes Bild im Altarraum: Jesus zieht durch das Brandenburger Tor.  \n\n\n\nPalmsonntagsgottesdienste in St. Canisius: Sa 28. März\, 18:30 Uhr: Vorabendmesse mit Palmweihe und Leidensgeschichte So 29. März\, 9:30 Uhr Familiengottesdienst mit Palmweihe und Kinderprozession So 29. März\, 11:00 Uhr Messe mit Palmweihe\, Prozession und Leidensgeschichte So 29. März\, 18:30 Uhr Messe mit Palmweihe und Leidensgeschichte \n\n\n\n\n\n\n\n\n\n\n\n\n\nBilder: Baptistengemeinde Friedenskirche; WIKIPEDIA Commons
URL:https://christi-auferstehung.net/event/heute-hui-morgen-pfui-palmsonntag-in-canisius/
LOCATION:St. Canisius (Kirche)\, Witzlebenstr. 30\, 14057 Berlin
CATEGORIES:St. Canisius
ATTACH;FMTTYPE=image/jpeg:https://christi-auferstehung.net/wp-content/uploads/2026/02/260329_WandbildFriedenkirche_C.jpg
END:VEVENT
BEGIN:VEVENT
DTSTART;TZID=Europe/Berlin:20260329T110000
DTEND;TZID=Europe/Berlin:20260329T133000
DTSTAMP:20260419T221947
CREATED:20260325T092637Z
LAST-MODIFIED:20260325T092640Z
UID:14806-1774782000-1774791000@christi-auferstehung.net
SUMMARY:Familienmesse am Palmsonntag in Heilig Geist
DESCRIPTION:Die Feier des Palmsonntags beginnen wir um 11:00 Uhr vor dem Klosterstübchen mit der Palmweihe. (Achtung: In der Nacht zum Palmsonntag wird die Uhr um eine Stunde vorgestellt!) Bitte gerne Palmzweige mitbringen.  \n\n\n\nIm Anschluss: Fastensuppe zugunsten der misereor Fastenaktion.
URL:https://christi-auferstehung.net/event/familienmesse-am-palmsonntag-in-heilig-geist/
LOCATION:Heilig Geist (Kirche)\, Bayernallee 28\, Berlin
CATEGORIES:Heilig Geist
ATTACH;FMTTYPE=image/jpeg:https://christi-auferstehung.net/wp-content/uploads/2024/03/Palmsonntag2024_Familienmesse_HG.jpg
END:VEVENT
END:VCALENDAR