BEGIN:VCALENDAR
VERSION:2.0
PRODID:-//pfarrei christi auferstehung - ECPv6.15.20//NONSGML v1.0//EN
CALSCALE:GREGORIAN
METHOD:PUBLISH
X-ORIGINAL-URL:https://christi-auferstehung.net
X-WR-CALDESC:Veranstaltungen für pfarrei christi auferstehung
REFRESH-INTERVAL;VALUE=DURATION:PT1H
X-Robots-Tag:noindex
X-PUBLISHED-TTL:PT1H
BEGIN:VTIMEZONE
TZID:Europe/Berlin
BEGIN:DAYLIGHT
TZOFFSETFROM:+0100
TZOFFSETTO:+0200
TZNAME:CEST
DTSTART:20250330T010000
END:DAYLIGHT
BEGIN:STANDARD
TZOFFSETFROM:+0200
TZOFFSETTO:+0100
TZNAME:CET
DTSTART:20251026T010000
END:STANDARD
BEGIN:DAYLIGHT
TZOFFSETFROM:+0100
TZOFFSETTO:+0200
TZNAME:CEST
DTSTART:20260329T010000
END:DAYLIGHT
BEGIN:STANDARD
TZOFFSETFROM:+0200
TZOFFSETTO:+0100
TZNAME:CET
DTSTART:20261025T010000
END:STANDARD
BEGIN:DAYLIGHT
TZOFFSETFROM:+0100
TZOFFSETTO:+0200
TZNAME:CEST
DTSTART:20270328T010000
END:DAYLIGHT
BEGIN:STANDARD
TZOFFSETFROM:+0200
TZOFFSETTO:+0100
TZNAME:CET
DTSTART:20271031T010000
END:STANDARD
END:VTIMEZONE
BEGIN:VEVENT
DTSTART;TZID=Europe/Berlin:20260325T183000
DTEND;TZID=Europe/Berlin:20260325T193000
DTSTAMP:20260421T161608
CREATED:20260224T115549Z
LAST-MODIFIED:20260224T115716Z
UID:14606-1774463400-1774467000@christi-auferstehung.net
SUMMARY:Zartheit statt Gewalt - Verkündigung des Herrn
DESCRIPTION:Wissen Sie wie das Römische Weltreich entstanden ist? Rom ist das Ergebnis einer Gewalttat. Der testosterongesteuerte Kriegsgott Mars vergewaltigt die zur Keuschheit berufene Vestalin Thea Silvia. Diese gebiert die Zwillinge Romulus und Remus\, die Gründer Rom.  \n\n\n\nWie anders ist doch der Beginn des Christentums: Der Engel Gabriel besucht einen 16jährigen Teenager namens Maria und zeigt Respekt vor dem Mädchen. Wir feiern Verkündigung des Herrn am 25.3.2026\, 18:30 Uhr\, St. Canisius. \n\n\n\nTitelbild: Henry Ossawa Tanner The Annunciation 1898 WIKIPEDIA Commons \n\n\n\nRubens\, Mars und Rhea Silvia\, ca. 1617 Lichtenstein Museum
URL:https://christi-auferstehung.net/event/zartheit-statt-gewalt-verkuendigung-des-herrn/
CATEGORIES:St. Canisius
ATTACH;FMTTYPE=image/jpeg:https://christi-auferstehung.net/wp-content/uploads/2026/02/Henry-Ossawa-Tanner-The-Annunciation-1898-WIKIPEDIA-Commons-scaled.jpg
END:VEVENT
END:VCALENDAR