BEGIN:VCALENDAR
VERSION:2.0
PRODID:-//pfarrei christi auferstehung - ECPv6.15.20//NONSGML v1.0//EN
CALSCALE:GREGORIAN
METHOD:PUBLISH
X-WR-CALNAME:pfarrei christi auferstehung
X-ORIGINAL-URL:https://christi-auferstehung.net
X-WR-CALDESC:Veranstaltungen für pfarrei christi auferstehung
REFRESH-INTERVAL;VALUE=DURATION:PT1H
X-Robots-Tag:noindex
X-PUBLISHED-TTL:PT1H
BEGIN:VTIMEZONE
TZID:Europe/Berlin
BEGIN:DAYLIGHT
TZOFFSETFROM:+0100
TZOFFSETTO:+0200
TZNAME:CEST
DTSTART:20250330T010000
END:DAYLIGHT
BEGIN:STANDARD
TZOFFSETFROM:+0200
TZOFFSETTO:+0100
TZNAME:CET
DTSTART:20251026T010000
END:STANDARD
BEGIN:DAYLIGHT
TZOFFSETFROM:+0100
TZOFFSETTO:+0200
TZNAME:CEST
DTSTART:20260329T010000
END:DAYLIGHT
BEGIN:STANDARD
TZOFFSETFROM:+0200
TZOFFSETTO:+0100
TZNAME:CET
DTSTART:20261025T010000
END:STANDARD
BEGIN:DAYLIGHT
TZOFFSETFROM:+0100
TZOFFSETTO:+0200
TZNAME:CEST
DTSTART:20270328T010000
END:DAYLIGHT
BEGIN:STANDARD
TZOFFSETFROM:+0200
TZOFFSETTO:+0100
TZNAME:CET
DTSTART:20271031T010000
END:STANDARD
END:VTIMEZONE
BEGIN:VEVENT
DTSTART;TZID=Europe/Berlin:20260322T100000
DTEND;TZID=Europe/Berlin:20260322T110000
DTSTAMP:20260421T203318
CREATED:20260226T082312Z
LAST-MODIFIED:20260305T104518Z
UID:14618-1774173600-1774177200@christi-auferstehung.net
SUMMARY:Familienmesse
DESCRIPTION:Liebe Familien\, liebe Kinder\, liebe Gemeindemitglieder\,  \n\n\n\nherzlich laden wir euch zur Familienmesse um 10.00 Uhr ein. Gemeinsam möchten wir den Gottesdienst feiern\, miteinander singen und beten und die Gemeinschaft erleben.  \n\n\n\nDie Messe ist besonders familienfreundlich gestaltet und lädt Groß und Klein zum Mitfeiern ein.  \n\n\n\nWir freuen uns auf euer Kommen.  \n\n\n\nEuer Team der Familienliturgie \n\n\n\nDie nächsten Termine sind: 05.04.\, 19.04.\, 10.05.\, 31.05.\, 21.06.\, 23.08. und 06.09.2026
URL:https://christi-auferstehung.net/event/familienmesse-4/
LOCATION:Heilig Geist (Kirche)\, Bayernallee 28\, Berlin
CATEGORIES:Heilig Geist
ATTACH;FMTTYPE=image/jpeg:https://christi-auferstehung.net/wp-content/uploads/2026/02/Familienlieturgie01-scaled.jpg
END:VEVENT
BEGIN:VEVENT
DTSTART;TZID=Europe/Berlin:20260322T110000
DTEND;TZID=Europe/Berlin:20260322T140000
DTSTAMP:20260421T203318
CREATED:20251217T103631Z
LAST-MODIFIED:20251217T103633Z
UID:14192-1774177200-1774188000@christi-auferstehung.net
SUMMARY:Herzliche Einladung zum Ostermarkt
DESCRIPTION:Wer sich auch in diesem Jahr wieder auf den Frühling und auf Ostern einstimmen lassen möchte\, ist am Sonntag\, den 22. März 2026 um 11:00 Uhr herzlich zu unserem zentralen Gottesdienst in die Salvatorkirche eingeladen.  \n\n\n\nIm Anschluss an den Gottesdienst findet im Pfarrgarten ein bunter Ostermarkt statt. Bei Kaffee und Kuchen und einer schmackhaften Suppe laden wir Sie herzlich zum Verweilen und gemütlichen Beisammensein ein. Gleichzeitig haben Sie die Gelegenheit\, Palmbuschen\, Osterkerzen und vieles mehr zu kaufen. \n\n\n\nWir freuen uns auf Ihr Kommen! \n\n\n\nMit den besten Wünschen für ein gutes und gesundes Neues Jahr\, \n\n\n\nIhr Ostermarktteam
URL:https://christi-auferstehung.net/event/herzliche-einladung-zum-ostermarkt/
LOCATION:Salvator (Garten)\, Tölzer Straße 25\, Berlin\, 14099
CATEGORIES:Salvator
ATTACH;FMTTYPE=image/jpeg:https://christi-auferstehung.net/wp-content/uploads/2025/12/260322_Bild-Ostermarkt_S.jpg
END:VEVENT
BEGIN:VEVENT
DTSTART;TZID=Europe/Berlin:20260322T160000
DTEND;TZID=Europe/Berlin:20260322T173000
DTSTAMP:20260421T203318
CREATED:20260227T075911Z
LAST-MODIFIED:20260227T075913Z
UID:14637-1774195200-1774200600@christi-auferstehung.net
SUMMARY:SECHSPUNKTNULL – Neuer Männerchor Berlin meets Beaula
DESCRIPTION:Der Neue Männerchor Berlin lädt zu seinem sechsten Konzert der Reihe SECHSPUNKTNULL ein.  \n\n\n\nGemeinsam mit Beaula präsentiert der Chor klassische und zeitgenössische Männerchor-Literatur aus verschiedenen Epochen\, die die Tradition des Männergesangs in die Gegenwart trägt. Drei Frauenstimmen und Vibraphon erweitern den Klang des Abends und schaffen eine Verbindung zwischen vertrauten Klangwelten und neuen Farben\, zwischen klaren Linien und offenen Klangräumen – Tradition trifft auf Gegenwart.  \n\n\n\nEintritt frei – Spenden erbeten
URL:https://christi-auferstehung.net/event/sechspunktnull-neuer-maennerchor-berlin-meets-beaula/
CATEGORIES:St. Canisius
ATTACH;FMTTYPE=image/png:https://christi-auferstehung.net/wp-content/uploads/2026/02/neuer-Mynnerchor-220326.png
END:VEVENT
END:VCALENDAR