BEGIN:VCALENDAR
VERSION:2.0
PRODID:-//pfarrei christi auferstehung - ECPv6.15.20//NONSGML v1.0//EN
CALSCALE:GREGORIAN
METHOD:PUBLISH
X-WR-CALNAME:pfarrei christi auferstehung
X-ORIGINAL-URL:https://christi-auferstehung.net
X-WR-CALDESC:Veranstaltungen für pfarrei christi auferstehung
REFRESH-INTERVAL;VALUE=DURATION:PT1H
X-Robots-Tag:noindex
X-PUBLISHED-TTL:PT1H
BEGIN:VTIMEZONE
TZID:Europe/Berlin
BEGIN:DAYLIGHT
TZOFFSETFROM:+0100
TZOFFSETTO:+0200
TZNAME:CEST
DTSTART:20250330T010000
END:DAYLIGHT
BEGIN:STANDARD
TZOFFSETFROM:+0200
TZOFFSETTO:+0100
TZNAME:CET
DTSTART:20251026T010000
END:STANDARD
BEGIN:DAYLIGHT
TZOFFSETFROM:+0100
TZOFFSETTO:+0200
TZNAME:CEST
DTSTART:20260329T010000
END:DAYLIGHT
BEGIN:STANDARD
TZOFFSETFROM:+0200
TZOFFSETTO:+0100
TZNAME:CET
DTSTART:20261025T010000
END:STANDARD
BEGIN:DAYLIGHT
TZOFFSETFROM:+0100
TZOFFSETTO:+0200
TZNAME:CEST
DTSTART:20270328T010000
END:DAYLIGHT
BEGIN:STANDARD
TZOFFSETFROM:+0200
TZOFFSETTO:+0100
TZNAME:CET
DTSTART:20271031T010000
END:STANDARD
END:VTIMEZONE
BEGIN:VEVENT
DTSTART;TZID=Europe/Berlin:20260319T184500
DTEND;TZID=Europe/Berlin:20260319T191500
DTSTAMP:20260422T013729
CREATED:20260123T111026Z
LAST-MODIFIED:20260306T095309Z
UID:14403-1773945900-1773947700@christi-auferstehung.net
SUMMARY:Einladung zur wöchentlichen Vesper in der Fastenzeit
DESCRIPTION:Zur Erweiterung des liturgischen Angebots unserer Gemeinde wird an den Donnerstagen zwischen Aschermittwoch und Palmsonntag\, beginnend mit dem 19.02.2026\, um 18:45 Uhr in St. Karl Borromäus das abendliche Stundengebet – die Vesper (Gotteslob 627) – gefeiert. \n\n\n\nIn der 25-minütigen Feier singen wir Hymnen\, Psalmen und den Lobgesang Marias „Meine Seele preist die Größe des Herrn“ (Magnificat). Biblische Kurzlesungen und Fürbitten sind ebenso feste Bestandteile der Liturgie. Nutzen Sie die Chance\, diese gemeinschaftliche Gebetstradition unserer Weltkirche zu entdecken! \n\n\n\nGemeindekirchenmusiker Sindre Seim Gulbrandsen \n\n\n\nDie letzte Vesper in der Fastenzeit wird am 26.03.2026 gefeiert.
URL:https://christi-auferstehung.net/event/einladung-zur-woechentlichen-vesper-in-der-fastenzeit/
LOCATION:St. Karl Borromäus (Kirche)\, Delbrückstr. 33\, Berlin
CATEGORIES:St. Karl Borromäus
ATTACH;FMTTYPE=image/jpeg:https://christi-auferstehung.net/wp-content/uploads/2026/01/Bild_Vesper_SSG_B-scaled.jpg
END:VEVENT
END:VCALENDAR