BEGIN:VCALENDAR
VERSION:2.0
PRODID:-//pfarrei christi auferstehung - ECPv6.15.20//NONSGML v1.0//EN
CALSCALE:GREGORIAN
METHOD:PUBLISH
X-WR-CALNAME:pfarrei christi auferstehung
X-ORIGINAL-URL:https://christi-auferstehung.net
X-WR-CALDESC:Veranstaltungen für pfarrei christi auferstehung
REFRESH-INTERVAL;VALUE=DURATION:PT1H
X-Robots-Tag:noindex
X-PUBLISHED-TTL:PT1H
BEGIN:VTIMEZONE
TZID:Europe/Berlin
BEGIN:DAYLIGHT
TZOFFSETFROM:+0100
TZOFFSETTO:+0200
TZNAME:CEST
DTSTART:20240331T010000
END:DAYLIGHT
BEGIN:STANDARD
TZOFFSETFROM:+0200
TZOFFSETTO:+0100
TZNAME:CET
DTSTART:20241027T010000
END:STANDARD
BEGIN:DAYLIGHT
TZOFFSETFROM:+0100
TZOFFSETTO:+0200
TZNAME:CEST
DTSTART:20250330T010000
END:DAYLIGHT
BEGIN:STANDARD
TZOFFSETFROM:+0200
TZOFFSETTO:+0100
TZNAME:CET
DTSTART:20251026T010000
END:STANDARD
BEGIN:DAYLIGHT
TZOFFSETFROM:+0100
TZOFFSETTO:+0200
TZNAME:CEST
DTSTART:20260329T010000
END:DAYLIGHT
BEGIN:STANDARD
TZOFFSETFROM:+0200
TZOFFSETTO:+0100
TZNAME:CET
DTSTART:20261025T010000
END:STANDARD
END:VTIMEZONE
BEGIN:VEVENT
DTSTART;TZID=Europe/Berlin:20251101T183000
DTEND;TZID=Europe/Berlin:20251101T193000
DTSTAMP:20260422T000225
CREATED:20250923T085006Z
LAST-MODIFIED:20250923T090603Z
UID:13612-1762021800-1762025400@christi-auferstehung.net
SUMMARY:Kanzeltausch - St. Canisius <-> Lietzenseegemeinde
DESCRIPTION:Was hat ein katholischer Priester zum Reformationstag zu sagen? Und was eine evangelische Pfarrerin zu Allerheiligen?  \n\n\n\nPfarrerin Caterina Freudenberg von der Lietzenseegemeinde predigt am Samstag\, den 1.11. abends um 18:30 Uhr in Canisius im Festgottesdienst von Allerheiligen über ihre Sicht auf die Heiligen. P. Hösl spricht am Tag darauf\, am 2. November\, um 10:00 Uhr in der Lietzeseekirche (Herbartstr. 4) über seine Gedanken zum Reformationsfest.  \n\n\n\nHerzliche Einladungen an die Christen diesseits und jenseits des Lietzensees\, einander kennenzulernen und zu begegnen.  \n\n\n\nWir freuen uns auf Sie\, hier wie da!  \n\n\n\nPfarrerin Caterina Freudenberg …………………………………………………………………….. P. Manfred Hösl SJ \n\n\n\n\n\n\n\n\n\n\n\n\n\n\n\n\n\n\n\n\n\n\n\n\n\n\n\nSt. Canisius ………………………………………………………………………………………. Lietzenseekirche \n\n\n\n(c) Fotos: St. Canisius und Lietzenseegemeinde
URL:https://christi-auferstehung.net/event/kanzeltausch-st-canisius-lietzenseegemeinde/
LOCATION:St. Canisius (Kirche)\, Witzlebenstr. 30\, 14057 Berlin
CATEGORIES:St. Canisius
ATTACH;FMTTYPE=image/jpeg:https://christi-auferstehung.net/wp-content/uploads/2025/09/251101_Bild_Lietzenseekirche-scaled.jpg
END:VEVENT
END:VCALENDAR