BEGIN:VCALENDAR
VERSION:2.0
PRODID:-//pfarrei christi auferstehung - ECPv6.15.20//NONSGML v1.0//EN
CALSCALE:GREGORIAN
METHOD:PUBLISH
X-ORIGINAL-URL:https://christi-auferstehung.net
X-WR-CALDESC:Veranstaltungen für pfarrei christi auferstehung
REFRESH-INTERVAL;VALUE=DURATION:PT1H
X-Robots-Tag:noindex
X-PUBLISHED-TTL:PT1H
BEGIN:VTIMEZONE
TZID:Europe/Berlin
BEGIN:DAYLIGHT
TZOFFSETFROM:+0100
TZOFFSETTO:+0200
TZNAME:CEST
DTSTART:20240331T010000
END:DAYLIGHT
BEGIN:STANDARD
TZOFFSETFROM:+0200
TZOFFSETTO:+0100
TZNAME:CET
DTSTART:20241027T010000
END:STANDARD
BEGIN:DAYLIGHT
TZOFFSETFROM:+0100
TZOFFSETTO:+0200
TZNAME:CEST
DTSTART:20250330T010000
END:DAYLIGHT
BEGIN:STANDARD
TZOFFSETFROM:+0200
TZOFFSETTO:+0100
TZNAME:CET
DTSTART:20251026T010000
END:STANDARD
BEGIN:DAYLIGHT
TZOFFSETFROM:+0100
TZOFFSETTO:+0200
TZNAME:CEST
DTSTART:20260329T010000
END:DAYLIGHT
BEGIN:STANDARD
TZOFFSETFROM:+0200
TZOFFSETTO:+0100
TZNAME:CET
DTSTART:20261025T010000
END:STANDARD
END:VTIMEZONE
BEGIN:VEVENT
DTSTART;TZID=Europe/Berlin:20250928T013000
DTEND;TZID=Europe/Berlin:20250928T120000
DTSTAMP:20260421T180042
CREATED:20250917T153307Z
LAST-MODIFIED:20250917T153309Z
UID:13572-1759023000-1759060800@christi-auferstehung.net
SUMMARY:Aufführung des Kinderchores
DESCRIPTION:Der Kinderchor lädt zur „Speisung der 5000“ ein! Am Sonntag\, d. 28.09.25\, wird der Kinderchor ein 20-minütiges Singspiel über die wundersame Brotvermehrung in der Kirche aufführen. Den Part am Klavier wird Gregor Schmitz-Stevens spielen\, die Leitung hat Karolina Buras. Wir freuen uns auf viele kleine und große Zuschauer!
URL:https://christi-auferstehung.net/event/auffuehrung-des-kinderchores/
CATEGORIES:Heilig Geist
ATTACH;FMTTYPE=image/jpeg:https://christi-auferstehung.net/wp-content/uploads/2025/09/page_1-1-scaled.jpg
END:VEVENT
BEGIN:VEVENT
DTSTART;TZID=Europe/Berlin:20250928T160000
DTEND;TZID=Europe/Berlin:20250928T173000
DTSTAMP:20260421T180042
CREATED:20250718T161329Z
LAST-MODIFIED:20250825T150050Z
UID:13317-1759075200-1759080600@christi-auferstehung.net
SUMMARY:Fünfpunktnull - Neuer Männerchor Berlin meets Berlin’s 4
DESCRIPTION:Freuen Sie sich auf ein besonderes Konzerterlebnis mit zwei herausragenden Berliner Ensembles: Der mehrfach preisgekrönte Neue Männerchor Berlin unter der Leitung von Adrian Emans begegnet dem Vokalquartett Berlin’s 4\, bestehend aus Sängern des Rundfunkchores Berlin. \n\n\n\nAuf dem Programm stehen klassische Männerchorwerke ebenso wie klangvolle Highlights aus Jazz\, Pop und Schlager – eindrucksvoll\, vielseitig und mitreißend. \n\n\n\nEintritt frei\, Spenden erbeten.  \n\n\n\nWeitere Infos zum Neuen Männerchor Berlin unter: www.neuermaennerchorberlin.de www.facebook.com/NeuerMaennerchorBerlin/ www.instagram.com/nmb_berlin/ \n\n\n\nVeranstalter: Neuer Männerchor Berlin e.V.
URL:https://christi-auferstehung.net/event/fuenfpunktnull-neuer-maennerchor-berlin-meets-berlin4/
LOCATION:St. Canisius (Kirche)\, Witzlebenstr. 30\, 14057 Berlin
CATEGORIES:St. Canisius
ATTACH;FMTTYPE=image/png:https://christi-auferstehung.net/wp-content/uploads/2025/07/250928_Plakat_Maennerchor_C-scaled.png
END:VEVENT
BEGIN:VEVENT
DTSTART;TZID=Europe/Berlin:20250928T183000
DTEND;TZID=Europe/Berlin:20250928T200000
DTSTAMP:20260421T180042
CREATED:20250801T120317Z
LAST-MODIFIED:20250801T120319Z
UID:13355-1759084200-1759089600@christi-auferstehung.net
SUMMARY:Misa Flamenca - Flamenco-Messe mit Rubin de la Ana
DESCRIPTION:Nach zwei Jahren findet in St. Canisius wieder eine Flamencomesse mit Rubin de la Ana statt. Es gibt typischen\, wehmütigen Flamenco-Sound und Gemeindelieder! Am Ende des Gottesdienstes bitten wir um eine Kollekte für die Kirchenmusik an St. Canisius – vergelt’s Gott! Zur Flamencomesse schreibt Rubin de la Ana: Die Flamenco-Messe entspringt dem Wunsch\, die Wahrnehmung der heiligen Messe mit der Flamenco-Musiktradition zu vereinen: Flamencokünstler wachsen mit beiden auf\, und beide rufen dieselben Gefühle im Künstler hervor. Heilige Messen eröffnen Menschen die Möglichkeit\, sich in einen geistigen Zustand zu begeben\, der ihnen helfen kann\, die Gemeinschaft mit Gott zu erreichen. Es ist ein spiritueller und zugleich emotionaler Akt. Der Flamenco wiederrum ist eine Kunstform\, die mit emotionalen Inhalten beladen ist\, die über die rein körperliche Tätigkeit des Singens hinausgeht und die Fähigkeit mitbringt\, spirituelle Ebenen zu berühren. In die Misa flamenca fließt das umfangreiche Wissen über die Flamenco Tradition und Flamenco-Formen ein\, wodurch ein musikalischer Effekt erzielt wird\, der den Zuhörer ein breiteres Spektrum an Klängen wahrnehmen lässt. So haben beide\, die heilige Messe und der Flamenco-Gesang das Potenzial\, eine starke emotionale Erfahrung zu erzielen. Die musikalische Ausgestaltung der Misa flamenca folgt immer der Liturgie. Deswegen gleichen sich die Gesangsfolgen in jeder Misa flamenca\, sie unterscheiden sich aber in der Interpretation durch die darbietenden Flamenco-Künstler. So kann eine Misa flamenca mit einem mehrstimmigen Chor oder eben nur mit einem oder zwei cantaores (Sängern) vorgetragen werden. Beides ist reizvoll und ein großartiges Musikerlebnis. Rubin de la Ana guitarrista flamenca\, cantaor\, compositor
URL:https://christi-auferstehung.net/event/misa-flamenca-flamenco-messe-mit-rubin-de-la-ana/
CATEGORIES:St. Canisius
ATTACH;FMTTYPE=image/jpeg:https://christi-auferstehung.net/wp-content/uploads/2025/08/Rubin-de-la-Ana-3.jpg
END:VEVENT
END:VCALENDAR