BEGIN:VCALENDAR
VERSION:2.0
PRODID:-//pfarrei christi auferstehung - ECPv6.15.20//NONSGML v1.0//EN
CALSCALE:GREGORIAN
METHOD:PUBLISH
X-WR-CALNAME:pfarrei christi auferstehung
X-ORIGINAL-URL:https://christi-auferstehung.net
X-WR-CALDESC:Veranstaltungen für pfarrei christi auferstehung
REFRESH-INTERVAL;VALUE=DURATION:PT1H
X-Robots-Tag:noindex
X-PUBLISHED-TTL:PT1H
BEGIN:VTIMEZONE
TZID:Europe/Berlin
BEGIN:DAYLIGHT
TZOFFSETFROM:+0100
TZOFFSETTO:+0200
TZNAME:CEST
DTSTART:20240331T010000
END:DAYLIGHT
BEGIN:STANDARD
TZOFFSETFROM:+0200
TZOFFSETTO:+0100
TZNAME:CET
DTSTART:20241027T010000
END:STANDARD
BEGIN:DAYLIGHT
TZOFFSETFROM:+0100
TZOFFSETTO:+0200
TZNAME:CEST
DTSTART:20250330T010000
END:DAYLIGHT
BEGIN:STANDARD
TZOFFSETFROM:+0200
TZOFFSETTO:+0100
TZNAME:CET
DTSTART:20251026T010000
END:STANDARD
BEGIN:DAYLIGHT
TZOFFSETFROM:+0100
TZOFFSETTO:+0200
TZNAME:CEST
DTSTART:20260329T010000
END:DAYLIGHT
BEGIN:STANDARD
TZOFFSETFROM:+0200
TZOFFSETTO:+0100
TZNAME:CET
DTSTART:20261025T010000
END:STANDARD
END:VTIMEZONE
BEGIN:VEVENT
DTSTART;TZID=Europe/Berlin:20250907T183000
DTEND;TZID=Europe/Berlin:20250907T203000
DTSTAMP:20260420T220137
CREATED:20250227T162505Z
LAST-MODIFIED:20250414T194500Z
UID:12459-1757269800-1757277000@christi-auferstehung.net
SUMMARY:Philosophische Predigt - Prof. Johann Bapt. Hafner: Dummheit und Demut
DESCRIPTION:Die Weisheit Salomos Das einzige „philosophische Buch der Bibel“. \n\n\n\nBis zur Zeitenwende galt die Weisheit / Sophia als Einsicht in Gottes verborgenen Plan. Mit dem Aufkommen der Gnosis (bis ca. 2. Jahrhundert nach Christus) zeigte sich die Sophia als planlose Neugier. Erasmus von Rotterdam sprach in seinem „Lob der Tugend“ (16. Jahrhundert) von einem „fröhlichen Nichtwissen“. Heute versteht man darunter eine Art naives Allwissen. \n\n\n\nPredigt zu atl. Lesung Weish 9\,13-19 „Wir erraten kaum\, was auf der Erde vorgeht\, und finden nur mit Mühe\, was auf der Hand liegt; wer ergründet\, was im Himmel ist?“ \n\n\n\nPrediger: Prof. für Religionswissenschaft an der Uni Potsdam Johann Bapt. Hafner \n\n\n\n\n\n\n\nBild: Homepage Uni Potsdam\, mit freundlicher Genehmigung von Herrn Hafner
URL:https://christi-auferstehung.net/event/philosophische-predigt-von-prof-johann-bapt-hafner-dummheit-und-demut/
CATEGORIES:St. Canisius
ATTACH;FMTTYPE=image/jpeg:https://christi-auferstehung.net/wp-content/uploads/2019/12/rjm78PEyYLc-e1579438433882.jpg
END:VEVENT
END:VCALENDAR