BEGIN:VCALENDAR
VERSION:2.0
PRODID:-//pfarrei christi auferstehung - ECPv6.15.20//NONSGML v1.0//EN
CALSCALE:GREGORIAN
METHOD:PUBLISH
X-WR-CALNAME:pfarrei christi auferstehung
X-ORIGINAL-URL:https://christi-auferstehung.net
X-WR-CALDESC:Veranstaltungen für pfarrei christi auferstehung
REFRESH-INTERVAL;VALUE=DURATION:PT1H
X-Robots-Tag:noindex
X-PUBLISHED-TTL:PT1H
BEGIN:VTIMEZONE
TZID:Europe/Berlin
BEGIN:DAYLIGHT
TZOFFSETFROM:+0100
TZOFFSETTO:+0200
TZNAME:CEST
DTSTART:20240331T010000
END:DAYLIGHT
BEGIN:STANDARD
TZOFFSETFROM:+0200
TZOFFSETTO:+0100
TZNAME:CET
DTSTART:20241027T010000
END:STANDARD
BEGIN:DAYLIGHT
TZOFFSETFROM:+0100
TZOFFSETTO:+0200
TZNAME:CEST
DTSTART:20250330T010000
END:DAYLIGHT
BEGIN:STANDARD
TZOFFSETFROM:+0200
TZOFFSETTO:+0100
TZNAME:CET
DTSTART:20251026T010000
END:STANDARD
BEGIN:DAYLIGHT
TZOFFSETFROM:+0100
TZOFFSETTO:+0200
TZNAME:CEST
DTSTART:20260329T010000
END:DAYLIGHT
BEGIN:STANDARD
TZOFFSETFROM:+0200
TZOFFSETTO:+0100
TZNAME:CET
DTSTART:20261025T010000
END:STANDARD
END:VTIMEZONE
BEGIN:VEVENT
DTSTART;TZID=Europe/Berlin:20250906T170000
DTEND;TZID=Europe/Berlin:20250906T183000
DTSTAMP:20260420T202144
CREATED:20250902T090012Z
LAST-MODIFIED:20250902T090013Z
UID:13510-1757178000-1757183400@christi-auferstehung.net
SUMMARY:Die Stiftung lädt ein zu einem Vortrag über Carlo Acutis
DESCRIPTION:Die Stiftung St. Karl Borromäus-Salvator lädt ein zu einem Vortrag von P. Maximilian und Dominikus von Pescatore im Gemeindesaal von Salvator. \n\n\n\nThema: Am 7. September 2025 wird in Rom Carlo Acutis heiliggesprochen\, \n\n\n\nein junger Mann\, der für uns alle\, besonders auch für unsere Jugend\, ein leuchtendes Beispiel für ein christliches Leben sein kann. Carlo lebte von 1991-2006\, starb schon mit 15 Jahren. \n\n\n\nLernen wir Carlo Acutis gemeinsam näher kennen. Wie kann es sein\, dass ein 15jähriger unserer Zeit zur Ehre der Altäre kommt\, also von unserer Kirche heiliggesprochen wird? Carlo lebte wie ein ganz normaler Junge mitten in der Welt von heute\, ging zur Schule\, pflegte Freundschaften\, liebte Sport\, Tiere und Computer. Zugleich liebte er Jesus\, die Eucharistie\, den Rosenkranz und hatte ein Herz für die Armen. Carlo war im Umgang mit dem Computer so fähig\, dass er in weniger als drei Jahren eine Internetseite mit allen anerkannten eucharistischen Wundern und 166 Schautafeln erstellte\, die heute noch gepflegt wird. Carlo Acutis wird deshalb auch der „Cyber-Apostel“ genannt. \n\n\n\nWir freuen uns auf möglichst viele Teilnehmer an diesem Vortrag. Gerne tauschen wir uns danach darüber aus\, welche Bedeutung das Zeugnis von Heiligen für unsere eigene Lebensführung haben kann.  \n\n\n\nBitte unterstützen Sie die Stiftungsaufgaben mit einer Spende am Ende der Veranstaltung oder durch Ihre Überweisung an: \n\n\n\nPax-Bank eG: IBAN: DE89 3706 0193 6005 9950 50 \n\n\n\nBegünstigter: Stiftung St. Karl Borromäus-Salvator in Berlin \n\n\n\nIhre Spende kommt zu 100% der Gemeinde St. Karl Borromäus zugute. \n\n\n\nSpendenbescheinigungen werden Ihnen gerne ausgestellt.
URL:https://christi-auferstehung.net/event/die-stiftung-laedt-ein-zu-einem-vortrag-ueber-carlo-acutis/
LOCATION:Salvator (Gemeindesaal)\, Tölzer Str. 25\, Berlin\, 14199
CATEGORIES:Salvator
ATTACH;FMTTYPE=image/jpeg:https://christi-auferstehung.net/wp-content/uploads/2024/12/ion-fet-C4G18Paw0d4-unsplash-scaled.jpg
END:VEVENT
END:VCALENDAR