BEGIN:VCALENDAR
VERSION:2.0
PRODID:-//pfarrei christi auferstehung - ECPv6.15.20//NONSGML v1.0//EN
CALSCALE:GREGORIAN
METHOD:PUBLISH
X-ORIGINAL-URL:https://christi-auferstehung.net
X-WR-CALDESC:Veranstaltungen für pfarrei christi auferstehung
REFRESH-INTERVAL;VALUE=DURATION:PT1H
X-Robots-Tag:noindex
X-PUBLISHED-TTL:PT1H
BEGIN:VTIMEZONE
TZID:Europe/Berlin
BEGIN:DAYLIGHT
TZOFFSETFROM:+0100
TZOFFSETTO:+0200
TZNAME:CEST
DTSTART:20240331T010000
END:DAYLIGHT
BEGIN:STANDARD
TZOFFSETFROM:+0200
TZOFFSETTO:+0100
TZNAME:CET
DTSTART:20241027T010000
END:STANDARD
BEGIN:DAYLIGHT
TZOFFSETFROM:+0100
TZOFFSETTO:+0200
TZNAME:CEST
DTSTART:20250330T010000
END:DAYLIGHT
BEGIN:STANDARD
TZOFFSETFROM:+0200
TZOFFSETTO:+0100
TZNAME:CET
DTSTART:20251026T010000
END:STANDARD
BEGIN:DAYLIGHT
TZOFFSETFROM:+0100
TZOFFSETTO:+0200
TZNAME:CEST
DTSTART:20260329T010000
END:DAYLIGHT
BEGIN:STANDARD
TZOFFSETFROM:+0200
TZOFFSETTO:+0100
TZNAME:CET
DTSTART:20261025T010000
END:STANDARD
END:VTIMEZONE
BEGIN:VEVENT
DTSTART;TZID=Europe/Berlin:20250822T140000
DTEND;TZID=Europe/Berlin:20250822T150000
DTSTAMP:20260420T165947
CREATED:20250816T122706Z
LAST-MODIFIED:20250817T211553Z
UID:13414-1755871200-1755874800@christi-auferstehung.net
SUMMARY:Trauerfeier für Frau Dr. Christiane Bünemann-Buschmann
DESCRIPTION:Unsere Gemeinde trauert um Frau Dr. Christiane Bünemann-Buschmann\, die am 12. August 2025 nach langer und geduldig ertragener Krankheit gestorben ist. Unsere besondere Anteilnahme gilt ihrem Mann\, Christoph Bünemann\, sowie ihrer betagten Mutter Gisela Buschmann. \n\n\n\nChristiane Bünemann-Buschmann engagierte sich bei uns von 2019 bis 2023 im damaligen Kirchenvorstand der Gemeinde St. Canisius. Ihrer Initiative und ihrer Beharrlichkeit verdanken wir vieles. \n\n\n\nWir feiern Abschied von Christiane\, zusammen mit vielen ihrer KollegInnen und PatientInnen\, ihren Freunden und Bekannten. Als Gemeinde wollen wir Christiane Bünemann-Buschmann stets ein ehrendes Andenken bewahren!  \n\n\n\nP. Manfred Hösl SJ\, Pfarrvikar St. Canisius  \n\n\n\nZeit und Ort der Trauerfeier: 22.8.2025\, 14:00 Uhr\, Kirche St. Canisius\, Witzlebenstraße 30\, 14057 Berlin
URL:https://christi-auferstehung.net/event/trauerfeier-fuer-frau-dr-christiane-buenemann-buschmann/
LOCATION:St. Canisius (Kirche)\, Witzlebenstr. 30\, 14057 Berlin
CATEGORIES:St. Canisius
ATTACH;FMTTYPE=image/jpeg:https://christi-auferstehung.net/wp-content/uploads/2021/04/HeaderStCanisius_ECE-scaled.jpg
END:VEVENT
END:VCALENDAR