BEGIN:VCALENDAR
VERSION:2.0
PRODID:-//pfarrei christi auferstehung - ECPv6.15.20//NONSGML v1.0//EN
CALSCALE:GREGORIAN
METHOD:PUBLISH
X-ORIGINAL-URL:https://christi-auferstehung.net
X-WR-CALDESC:Veranstaltungen für pfarrei christi auferstehung
REFRESH-INTERVAL;VALUE=DURATION:PT1H
X-Robots-Tag:noindex
X-PUBLISHED-TTL:PT1H
BEGIN:VTIMEZONE
TZID:Europe/Berlin
BEGIN:DAYLIGHT
TZOFFSETFROM:+0100
TZOFFSETTO:+0200
TZNAME:CEST
DTSTART:20240331T010000
END:DAYLIGHT
BEGIN:STANDARD
TZOFFSETFROM:+0200
TZOFFSETTO:+0100
TZNAME:CET
DTSTART:20241027T010000
END:STANDARD
BEGIN:DAYLIGHT
TZOFFSETFROM:+0100
TZOFFSETTO:+0200
TZNAME:CEST
DTSTART:20250330T010000
END:DAYLIGHT
BEGIN:STANDARD
TZOFFSETFROM:+0200
TZOFFSETTO:+0100
TZNAME:CET
DTSTART:20251026T010000
END:STANDARD
BEGIN:DAYLIGHT
TZOFFSETFROM:+0100
TZOFFSETTO:+0200
TZNAME:CEST
DTSTART:20260329T010000
END:DAYLIGHT
BEGIN:STANDARD
TZOFFSETFROM:+0200
TZOFFSETTO:+0100
TZNAME:CET
DTSTART:20261025T010000
END:STANDARD
END:VTIMEZONE
BEGIN:VEVENT
DTSTART;TZID=Europe/Berlin:20250803T183000
DTEND;TZID=Europe/Berlin:20250803T193000
DTSTAMP:20260420T153410
CREATED:20250618T102100Z
LAST-MODIFIED:20250618T102101Z
UID:13150-1754245800-1754249400@christi-auferstehung.net
SUMMARY:Thomas Manns Buddenbrooks und das Alte Testament
DESCRIPTION:Die Literatur steckt voll von religiösen Motiven\, Bildern und Symbolen. Und umgekehrt: Literatur kann auch auf Religion hin gedeutet werden. In fünf Sommerabendpredigten wird der Inhalt eines zugrundliegenden Buches kurz vorgestellt\, so dass die vorherige Lektüre des betreffenden Buches hilfreich\, aber nicht Voraussetzung ist. Die Predigten sind allgemeinverständlich gehalten\, dauern ca. 15-20 Minuten und sind Teil einer Eucharistiefeier. 1. Predigt: Thomas Mann könnte in diesem Sommer seinen 150. Geburtstag feiern. Sein mit dem Literaturnobelpreis ausgezeichnete Roman Buddenbrooks schildert die (Verfalls-) Geschichte einer Lübecker Kaufmannsfamilie und atmet viel von der damals wie heute aktuellen Spiritualität von Arthur Schoppenhauer. Aber es gibt noch viel mehr mögliche religiöse Bezüge\, etwa zum Verhältnis von Altem zu Neuen Testament… Ort: Canisiuskirche\, Witzlebenstraße 30\, 14057 Berlin Termin: 3. August 2025\, 18:30 Uhr
URL:https://christi-auferstehung.net/event/thomas-manns-buddenbrooks-und-das-alte-testament/
CATEGORIES:St. Canisius
ATTACH;FMTTYPE=image/jpeg:https://christi-auferstehung.net/wp-content/uploads/2025/06/Thomas_Mann_Buddenbrooks_1904.jpg
END:VEVENT
END:VCALENDAR