BEGIN:VCALENDAR
VERSION:2.0
PRODID:-//pfarrei christi auferstehung - ECPv6.15.20//NONSGML v1.0//EN
CALSCALE:GREGORIAN
METHOD:PUBLISH
X-ORIGINAL-URL:https://christi-auferstehung.net
X-WR-CALDESC:Veranstaltungen für pfarrei christi auferstehung
REFRESH-INTERVAL;VALUE=DURATION:PT1H
X-Robots-Tag:noindex
X-PUBLISHED-TTL:PT1H
BEGIN:VTIMEZONE
TZID:Europe/Berlin
BEGIN:DAYLIGHT
TZOFFSETFROM:+0100
TZOFFSETTO:+0200
TZNAME:CEST
DTSTART:20220327T010000
END:DAYLIGHT
BEGIN:STANDARD
TZOFFSETFROM:+0200
TZOFFSETTO:+0100
TZNAME:CET
DTSTART:20221030T010000
END:STANDARD
BEGIN:DAYLIGHT
TZOFFSETFROM:+0100
TZOFFSETTO:+0200
TZNAME:CEST
DTSTART:20230326T010000
END:DAYLIGHT
BEGIN:STANDARD
TZOFFSETFROM:+0200
TZOFFSETTO:+0100
TZNAME:CET
DTSTART:20231029T010000
END:STANDARD
BEGIN:DAYLIGHT
TZOFFSETFROM:+0100
TZOFFSETTO:+0200
TZNAME:CEST
DTSTART:20240331T010000
END:DAYLIGHT
BEGIN:STANDARD
TZOFFSETFROM:+0200
TZOFFSETTO:+0100
TZNAME:CET
DTSTART:20241027T010000
END:STANDARD
END:VTIMEZONE
BEGIN:VEVENT
DTSTART;TZID=Europe/Berlin:20231124T190000
DTEND;TZID=Europe/Berlin:20231124T203000
DTSTAMP:20260420T153656
CREATED:20231024T095845Z
LAST-MODIFIED:20231024T095926Z
UID:7698-1700852400-1700857800@christi-auferstehung.net
SUMMARY:Prag-Berlin-Festival - Dass man uns gleich erkennt
DESCRIPTION:Schirmherrschaft 2023 /2024: die Botschafterin der Republik Österreich\, I.E. Frau Dr. Bettina Kirnbauer\, der Botschafter der Bundesrepublik Deutschland\, S.E. Herr Andreas Künne\, und der Botschafter der Tschechischen Republik\, S.E. Dr. Tomas Kafka. \n\n\n\nDa die Geschichte nicht zur Ruhe kommt\, wiederholen sich Daten und Themen\, wie etwa die Erinnerung an den ersten Transport der Prager Juden nach Theresienstadt\, die Situation der Künstler im Konzentrationslager Theresienstadt oder die Befreiung von Auschwitz- Birkenau\, denn sie gehören zu unserer Erbschaft\, die immer von neuem einer innovativen Bearbeitung bedarf. Seit Jahrzehnten führen wir Recherchen durch und werden immer wieder fündig\, entdecken vergessene Dokumente\, Erklärungen und künstlerische Texte von Zeitzeugen\, von Opfern\, wie von Überlebenden. Dadurch\, dass wir im Rahmen des Kulturprojektes „Erbe und Zukunft“ diese Themen gemeinsam mit unseren deutschen\, österreichischen und tschechischen Kolleginnen und Kollegen immer wieder neu behandeln\, können die Ergebnisse dieser kontinuierlichen Zusammenarbeit den Dialog zwischen mitteleuropäischen Nachbarvölkern positiv beeinflussen. \n\n\n\nEine musikalisch-literarische Aufführung zum Gedenken an den ersten Transport nach Theresienstadt\, ein Tribut an die Theresienstadt- Autoren Hanuš Hachenburg\, Petr Ginz\, Myra Gruhenberg\, Adele Jelinek\, Kurt Kapper\, Walter Lindenbaum\, Leo Štraus\, Ilse Weber. Am 24. November 1941 traf in der Sudetenkaserne in Theresienstadt eine Gruppe von 352 jungen Männern\, das sogenannte „Aufbaukommando“\, ein. Ihre Aufgabe war es\, das Ghetto für die Ankunft weiterer Transporte vorzubereiten\, die ab dem 30. November 1941 erwartet wurden. In der Wirklichkeit waren sie die ersten Gefangenen … \n\n\n\nUnter Leitung von Dusan-Robert Parisek singen und musizieren:Oli Bott\, Susanne Eisenkolb\, Manfred Eisner\, Antje Rietz\, Ferdinand von Seebach und das Collegium Tschechischer Philharmoniker. \n\n\n\nEintritt frei\, Spenden erwünscht.
URL:https://christi-auferstehung.net/event/prag-berlin-festival-dass-man-uns-gleich-erkennt/
LOCATION:St. Canisius (Kirche)\, Witzlebenstr. 30\, 14057 Berlin
ATTACH;FMTTYPE=image/png:https://christi-auferstehung.net/wp-content/uploads/2023/10/Prag-Berlin.png
END:VEVENT
END:VCALENDAR