BEGIN:VCALENDAR
VERSION:2.0
PRODID:-//pfarrei christi auferstehung - ECPv6.15.20//NONSGML v1.0//EN
CALSCALE:GREGORIAN
METHOD:PUBLISH
X-ORIGINAL-URL:https://christi-auferstehung.net
X-WR-CALDESC:Veranstaltungen für pfarrei christi auferstehung
REFRESH-INTERVAL;VALUE=DURATION:PT1H
X-Robots-Tag:noindex
X-PUBLISHED-TTL:PT1H
BEGIN:VTIMEZONE
TZID:Europe/Berlin
BEGIN:DAYLIGHT
TZOFFSETFROM:+0100
TZOFFSETTO:+0200
TZNAME:CEST
DTSTART:20220327T010000
END:DAYLIGHT
BEGIN:STANDARD
TZOFFSETFROM:+0200
TZOFFSETTO:+0100
TZNAME:CET
DTSTART:20221030T010000
END:STANDARD
BEGIN:DAYLIGHT
TZOFFSETFROM:+0100
TZOFFSETTO:+0200
TZNAME:CEST
DTSTART:20230326T010000
END:DAYLIGHT
BEGIN:STANDARD
TZOFFSETFROM:+0200
TZOFFSETTO:+0100
TZNAME:CET
DTSTART:20231029T010000
END:STANDARD
BEGIN:DAYLIGHT
TZOFFSETFROM:+0100
TZOFFSETTO:+0200
TZNAME:CEST
DTSTART:20240331T010000
END:DAYLIGHT
BEGIN:STANDARD
TZOFFSETFROM:+0200
TZOFFSETTO:+0100
TZNAME:CET
DTSTART:20241027T010000
END:STANDARD
END:VTIMEZONE
BEGIN:VEVENT
DTSTART;TZID=Europe/Berlin:20231121T170000
DTEND;TZID=Europe/Berlin:20231121T190000
DTSTAMP:20260420T135823
CREATED:20231008T112143Z
LAST-MODIFIED:20231122T174036Z
UID:7635-1700586000-1700593200@christi-auferstehung.net
SUMMARY:Probe - Nacht der Lichter
DESCRIPTION:Wie jedes Jahr möchten wir euch auch in diesem Jahr sehr herzlich zur ökumenischen Nacht der Lichter mit Gesängen aus Taizé einladen\, zu der wir am letzten Wochenende des Kirchenjahres aus ganz Berlin und Umgebung zusammenkommen möchten\, um gemeinsam Gott zu singen\, sein Wort zu hören\, still zu werden und für den Frieden zu beten. \n\n\n\nHerzliche Einladung zu drei Musikproben im Vorfeld der Nacht der Lichter an alle\, die das Gebet mit Stimme oder (Akustik-)Instrument unterstützen möchten:  \n\n\n\n\nDi\, 14.11.2023\, 18-20 Uhr\, St. Canisius\, Witzlebenstraße 30\, 14057 Berlin-Charlottenburg \n\n\n\nDi\, 21.11.2023\, 18-20 Uhr\, St. Canisius\, Witzlebenstraße 30\, 14057 Berlin-Charlottenburg \n\n\n\nFr\, 24.11.2023\, 19-21 Uhr\, Gustav-Adolf-Kirche\, Herschelstrasse 14\, 10589 Berlin \n\n\n\n\nWer die Nacht der Lichter musikalisch unterstützen möchte\, muss nicht zu allen Proben kommen – eine oder zwei reichen. Die Inhalte der Probentermine wählen wir so\, dass sich die Gruppen ergänzen. Selbstverständlich sind aber alle immer willkommen.
URL:https://christi-auferstehung.net/event/probe-nacht-der-lichter-2/
LOCATION:St. Canisius (Gemeindesaal)\, Witzlebenstr. 30\, 14057 Berlin
ATTACH;FMTTYPE=image/jpeg:https://christi-auferstehung.net/wp-content/uploads/2020/09/200912Sommernach_der_Lichter-11.jpg
END:VEVENT
BEGIN:VEVENT
DTSTART;TZID=Europe/Berlin:20231121T170000
DTEND;TZID=Europe/Berlin:20231121T200000
DTSTAMP:20260420T135823
CREATED:20230920T090119Z
LAST-MODIFIED:20230920T101105Z
UID:7543-1700586000-1700596800@christi-auferstehung.net
SUMMARY:Sensibilisierung Prävention
DESCRIPTION:Sensibilisierung im Rahmen der bistumsweiten Präventionsarbeit \n\n\n\nDie Sensibilisierung bietet den Einstieg in das Thema Prävention von sexualisierter Gewalt. Sie will für Fragen rund um das Thema sexualisierte Gewalt sensibilisieren und über Präventionsmaßnahmen und Meldewege bei Verdacht informieren. Erstwissen zur Einordnung von sexualisierter Gewalt und eine Kultur der Achtsamkeit sollen durch die Sensibilisierung gefördert werden. Themen sind u.a. Was ist sexualisierte Gewalt und wo beginnt sie? – Strategien von Täter:innen – Meldewege bei Verdacht – Institutionelles Schutzkonzept. Die Schulung richtet sich insbesondere an Ehrenamtliche im Pfarrgemeinderat und Kirchenvorstand\, an Ehrenamtliche mit Kontakt zu Kindern oder Jugendlichen sowie an Mitarbeiterinnen und Mitarbeiter in Technik und Verwaltung und alle Interessierten. \n\n\n\nDie Sensibilisierung kann auch gern als „Auffrischung“ genutzt werden\, wenn die letzte Schulung einige Zeit zurückliegt. Auffrischungen sind aber nicht verpflichtend. \n\n\n\nWir laden alle Gemeindemitglieder dazu herzlich ein\, auch wenn Sie keine Schulung besuchen müssen – Wissen schützt Sie und andere! \n\n\n\nReferent: Burkhard Rooß (Präventionsbeauftragter) \n\n\n\nAnmeldung unter Email: praevention@heiliggeist-berlin.de
URL:https://christi-auferstehung.net/event/sensibilisierung-praevention/
LOCATION:Heilig Geist (Gemeindesaal)\, Bayernallee 28\, Berlin\, 14052
ATTACH;FMTTYPE=image/png:https://christi-auferstehung.net/wp-content/uploads/2023/09/Praeventionsschulung.png
END:VEVENT
END:VCALENDAR